BEGIN:VCALENDAR
VERSION:2.0
PRODID:-//New Jersey Alliance for Clinical and Translational Science - ECPv6.15.14//NONSGML v1.0//EN
CALSCALE:GREGORIAN
METHOD:PUBLISH
X-WR-CALNAME:New Jersey Alliance for Clinical and Translational Science
X-ORIGINAL-URL:https://clinicaltrials.rbhs.rutgers.edu
X-WR-CALDESC:Events for New Jersey Alliance for Clinical and Translational Science
REFRESH-INTERVAL;VALUE=DURATION:PT1H
X-Robots-Tag:noindex
X-PUBLISHED-TTL:PT1H
BEGIN:VTIMEZONE
TZID:UTC
BEGIN:STANDARD
TZOFFSETFROM:+0000
TZOFFSETTO:+0000
TZNAME:UTC
DTSTART:20220101T000000
END:STANDARD
END:VTIMEZONE
BEGIN:VEVENT
DTSTART;TZID=UTC:20230201T080000
DTEND;TZID=UTC:20230201T170000
DTSTAMP:20260422T071100
CREATED:20220919T203641Z
LAST-MODIFIED:20220919T203710Z
UID:31425-1675238400-1675270800@clinicaltrials.rbhs.rutgers.edu
SUMMARY:NJ ACTS KL2 Career Development Scholar
DESCRIPTION:NJ ACTS KL2 Career Development Scholar–Notification of Awards
URL:https://clinicaltrials.rbhs.rutgers.edu/event/nj-acts-kl2-career-development-scholar-award-notifcation/
END:VEVENT
BEGIN:VEVENT
DTSTART;TZID=UTC:20230201T100000
DTEND;TZID=UTC:20230201T110000
DTSTAMP:20260422T071100
CREATED:20230201T222726Z
LAST-MODIFIED:20230201T222726Z
UID:33714-1675245600-1675249200@clinicaltrials.rbhs.rutgers.edu
SUMMARY:Rutgers Princeton Center for Computational Cognitive Neuropsychiatry Seminar
DESCRIPTION:Rutgers Princeton Center for Computational Cognitive Neuropsychiatry Seminar-Workshop on Psychopathology Diagnosis\,Gal Shoval\, Princeton University. Visit CCNP
URL:https://clinicaltrials.rbhs.rutgers.edu/event/rutgers-princeton-center-for-computational-cognitive-neuropsychiatry-seminar-57/
END:VEVENT
BEGIN:VEVENT
DTSTART;TZID=UTC:20230202T120000
DTEND;TZID=UTC:20230202T130000
DTSTAMP:20260422T071100
CREATED:20230214T210721Z
LAST-MODIFIED:20230214T210736Z
UID:33976-1675339200-1675342800@clinicaltrials.rbhs.rutgers.edu
SUMMARY:Diversity Education Virtual Learning Communities
DESCRIPTION:Diversity Education Virtual Learning Communities–Book discussion groups create shared venuesfor small–group learning across chancellor–led units. Learn More.
URL:https://clinicaltrials.rbhs.rutgers.edu/event/diversity-education-virtual-learning-communities/
CATEGORIES:Diversity Equity and Inclusion
END:VEVENT
BEGIN:VEVENT
DTSTART;TZID=UTC:20230202T170000
DTEND;TZID=UTC:20230202T190000
DTSTAMP:20260422T071100
CREATED:20230103T195707Z
LAST-MODIFIED:20230103T195707Z
UID:33281-1675357200-1675364400@clinicaltrials.rbhs.rutgers.edu
SUMMARY:Rutgers School of Health Professions Open House
DESCRIPTION:Rutgers School of Health Professions Open House-Learn more about our health professions programs; meet personally with program directors\, faculty\, students\, and admissions counselors to further explore your career path in health care. Register Here
URL:https://clinicaltrials.rbhs.rutgers.edu/event/rutgers-school-of-health-professions-open-house-6/
LOCATION:RWJMS Research Tower\, Great Hall\, 675 Hoes Lane\, Piscataway\, NJ\, 08854\, United States
END:VEVENT
BEGIN:VEVENT
DTSTART;TZID=UTC:20230203T090000
DTEND;TZID=UTC:20230203T130000
DTSTAMP:20260422T071100
CREATED:20230214T211950Z
LAST-MODIFIED:20230228T204445Z
UID:33988-1675414800-1675429200@clinicaltrials.rbhs.rutgers.edu
SUMMARY:Diversity Education DEI Facilitator Training
DESCRIPTION:Diversity Education DEI Facilitator Training–A four–hour introduction to facilitating dialogues on equity\, diversity\, and inclusion topics. Learn how to manage your own bias\, strategies for navigatingfacilitation challenges\, and communication tools for resolving conflict.
URL:https://clinicaltrials.rbhs.rutgers.edu/event/diversity-education-edi-facilitator-training/
CATEGORIES:Diversity Equity and Inclusion
END:VEVENT
BEGIN:VEVENT
DTSTART;TZID=UTC:20230203T110000
DTEND;TZID=UTC:20230203T120000
DTSTAMP:20260422T071100
CREATED:20230208T214604Z
LAST-MODIFIED:20230208T214604Z
UID:33900-1675422000-1675425600@clinicaltrials.rbhs.rutgers.edu
SUMMARY:Faculty Diversity Collaborative's Mutual Mentoring Program
DESCRIPTION:Faculty Diversity Collaborative’s Mutual Mentoring Program-Mutual mentoring is designed to foster collaborative networks where each person provides specific areas of knowledge and expertise. Learn more here.
URL:https://clinicaltrials.rbhs.rutgers.edu/event/faculty-diversity-collaboratives-mutual-mentoring-program/
CATEGORIES:Diversity Equity and Inclusion
END:VEVENT
BEGIN:VEVENT
DTSTART;TZID=UTC:20230203T120000
DTEND;TZID=UTC:20230203T130000
DTSTAMP:20260422T071100
CREATED:20230130T182126Z
LAST-MODIFIED:20230130T182126Z
UID:33605-1675425600-1675429200@clinicaltrials.rbhs.rutgers.edu
SUMMARY:CINJ Trainee Seminar Series
DESCRIPTION:CINJ Trainee Seminar Series-Transcriptional State Dynamics and Tumor Heterogeneity in Urothelial Bladder Carcinoma\, Antara Biswas\, De Lab\, Rutgers.
URL:https://clinicaltrials.rbhs.rutgers.edu/event/cinj-trainee-seminar-series-51/
LOCATION:Rutgers Cancer Institute\, Auditorium B\, 1st Floor\, 195 Little Albany Street\, New Brunswick\, NJ\, 08901\, United States
END:VEVENT
BEGIN:VEVENT
DTSTART;TZID=UTC:20230207T110000
DTEND;TZID=UTC:20230207T120000
DTSTAMP:20260422T071100
CREATED:20230206T201953Z
LAST-MODIFIED:20230206T201953Z
UID:33765-1675767600-1675771200@clinicaltrials.rbhs.rutgers.edu
SUMMARY:Child Health Institute of NJ Special Science Seminar
DESCRIPTION:Child Health Institute of NJ Special Science Seminar-What SARS CoV2 has taught me….(so far!)\, Henry M. Ushay\, MD\, Albert Einstein College of Medicine. In person or on Zoom.
URL:https://clinicaltrials.rbhs.rutgers.edu/event/child-health-institute-of-nj-special-science-seminar/
LOCATION:Child Health Institute\, Room 3209\, 89 French Street\, New Brunswick\, 08901\, United States
END:VEVENT
BEGIN:VEVENT
DTSTART;TZID=UTC:20230208T160000
DTEND;TZID=UTC:20230208T170000
DTSTAMP:20260422T071100
CREATED:20230201T204724Z
LAST-MODIFIED:20230201T204724Z
UID:33708-1675872000-1675875600@clinicaltrials.rbhs.rutgers.edu
SUMMARY:CINJ Grand Rounds
DESCRIPTION:CINJ Grand Rounds-Novel Safeguards in Hematopoietic Stem Cells\, Britta Will\, PhD\, Albert Einstein College of Medicine.
URL:https://clinicaltrials.rbhs.rutgers.edu/event/cinj-grand-rounds-34/
LOCATION:Rutgers Cancer Institute\, Auditorium A\, 195 Little Albany Street\, New Brunswick\, NJ\, 08901\, United States
END:VEVENT
BEGIN:VEVENT
DTSTART;TZID=UTC:20230209T100000
DTEND;TZID=UTC:20230209T120000
DTSTAMP:20260422T071100
CREATED:20221129T233028Z
LAST-MODIFIED:20230214T212246Z
UID:32913-1675936800-1675944000@clinicaltrials.rbhs.rutgers.edu
SUMMARY:Tenure and Time Management Webinar
DESCRIPTION:Tenure and Time Management Webinar-How to Manage Your Time So You Can Publish Prolifically and Have a Life Beyond the Ivory Tower. View Flyer
URL:https://clinicaltrials.rbhs.rutgers.edu/event/how-to-manage-your-time-so-you-can-publish-prolifically-and-have-a-life-beyond-the-ivory-tower/
CATEGORIES:Diversity Equity and Inclusion
END:VEVENT
BEGIN:VEVENT
DTSTART;TZID=UTC:20230209T120000
DTEND;TZID=UTC:20230209T130000
DTSTAMP:20260422T071100
CREATED:20230214T211124Z
LAST-MODIFIED:20230214T211124Z
UID:33978-1675944000-1675947600@clinicaltrials.rbhs.rutgers.edu
SUMMARY:Diversity Education Virtual Learning Communities
DESCRIPTION:Diversity Education Virtual Learning Communities–Book discussion groups create shared venuesfor small–group learning across chancellor–led units. Learn More.
URL:https://clinicaltrials.rbhs.rutgers.edu/event/diversity-education-virtual-learning-communities-2/
CATEGORIES:Diversity Equity and Inclusion
END:VEVENT
BEGIN:VEVENT
DTSTART;TZID=UTC:20230213T113000
DTEND;TZID=UTC:20230213T123000
DTSTAMP:20260422T071100
CREATED:20230209T180602Z
LAST-MODIFIED:20230209T180602Z
UID:33906-1676287800-1676291400@clinicaltrials.rbhs.rutgers.edu
SUMMARY:CINJ Lecture
DESCRIPTION:CINJ Lecture-Predicting Cancer Risk from Genetic Information\, Dr. Zoe Guan\, Memorial Sloan Kettering Cancer Center. Join on Zoom.
URL:https://clinicaltrials.rbhs.rutgers.edu/event/cinj-lecture/
END:VEVENT
BEGIN:VEVENT
DTSTART;TZID=UTC:20230214T130000
DTEND;TZID=UTC:20230214T160000
DTSTAMP:20260422T071100
CREATED:20230110T201810Z
LAST-MODIFIED:20230110T201810Z
UID:33340-1676379600-1676390400@clinicaltrials.rbhs.rutgers.edu
SUMMARY:Propelus I-Corps Cohort 7 – NSF I-Corps Hub Northeast Region
DESCRIPTION:Propelus I-Corps Cohort 7 – NSF I-Corps Hub Northeast Region.  Princeton University\, Rutgers University\, University of Delaware\, NJIT\, Rowan University\, Temple University\, Lehigh University\, Delaware State University\, Drexel University.  More Information and Flyer
URL:https://clinicaltrials.rbhs.rutgers.edu/event/propelus-i-corps-cohort-7-nsf-i-corps-hub-northeast-region/
END:VEVENT
BEGIN:VEVENT
DTSTART;TZID=UTC:20230215T100000
DTEND;TZID=UTC:20230215T110000
DTSTAMP:20260422T071100
CREATED:20230213T201541Z
LAST-MODIFIED:20230213T201541Z
UID:33921-1676455200-1676458800@clinicaltrials.rbhs.rutgers.edu
SUMMARY:Rutgers Princeton Center for Computational Cognitive Neuropsychiatry Seminar
DESCRIPTION:Rutgers Princeton Center for Computational Cognitive Neuropsychiatry Seminar-Computational Models of Compulsivity\, Frederike Petzschner\, Brown University. For More Information.
URL:https://clinicaltrials.rbhs.rutgers.edu/event/rutgers-princeton-center-for-computational-cognitive-neuropsychiatry-seminar-58/
END:VEVENT
BEGIN:VEVENT
DTSTART;TZID=UTC:20230215T150000
DTEND;TZID=UTC:20230215T160000
DTSTAMP:20260422T071100
CREATED:20230208T214717Z
LAST-MODIFIED:20230208T214717Z
UID:33902-1676473200-1676476800@clinicaltrials.rbhs.rutgers.edu
SUMMARY:Faculty Diversity Collaborative's Mutual Mentoring Program
DESCRIPTION:Faculty Diversity Collaborative’s Mutual Mentoring Program-Mutual mentoring is designed to foster collaborative networks where each person provides specific areas of knowledge and expertise. Learn more here.
URL:https://clinicaltrials.rbhs.rutgers.edu/event/faculty-diversity-collaboratives-mutual-mentoring-program-2/
CATEGORIES:Diversity Equity and Inclusion
END:VEVENT
BEGIN:VEVENT
DTSTART;TZID=UTC:20230216T120000
DTEND;TZID=UTC:20230216T130000
DTSTAMP:20260422T071100
CREATED:20230125T212658Z
LAST-MODIFIED:20230125T212658Z
UID:33563-1676548800-1676552400@clinicaltrials.rbhs.rutgers.edu
SUMMARY:NIH Scientific Data Sharing Webinar
DESCRIPTION:NIH Scientific Data Sharing Webinar-NIH’s new Data Management & Sharing (DMS) Policy goes into effect January 25\, 2023. NIH requires researchers to prospectively plan for how scientific data will be preserved and shared. Register
URL:https://clinicaltrials.rbhs.rutgers.edu/event/nih-scientific-data-sharing-webinar/
END:VEVENT
BEGIN:VEVENT
DTSTART;TZID=UTC:20230216T120000
DTEND;TZID=UTC:20230216T130000
DTSTAMP:20260422T071100
CREATED:20230214T211234Z
LAST-MODIFIED:20230214T211234Z
UID:33980-1676548800-1676552400@clinicaltrials.rbhs.rutgers.edu
SUMMARY:Diversity Education Virtual Learning Communities
DESCRIPTION:Diversity Education Virtual Learning Communities–Book discussion groups create shared venuesfor small–group learning across chancellor–led units. Learn More.
URL:https://clinicaltrials.rbhs.rutgers.edu/event/diversity-education-virtual-learning-communities-3/
CATEGORIES:Diversity Equity and Inclusion
END:VEVENT
BEGIN:VEVENT
DTSTART;TZID=UTC:20230216T130000
DTEND;TZID=UTC:20230216T143000
DTSTAMP:20260422T071100
CREATED:20221114T191054Z
LAST-MODIFIED:20230123T233111Z
UID:32669-1676552400-1676557800@clinicaltrials.rbhs.rutgers.edu
SUMMARY:Samuel DeWitt Proctor Institute Workshop
DESCRIPTION:Samuel DeWitt Proctor Institute Workshop-Writing Grant Proposals. All workshops are virtual and free to the general public. View Flyer and Register Here
URL:https://clinicaltrials.rbhs.rutgers.edu/event/samuel-dewitt-proctor-institute-workshop-3/
END:VEVENT
BEGIN:VEVENT
DTSTART;TZID=UTC:20230216T130000
DTEND;TZID=UTC:20230216T160000
DTSTAMP:20260422T071100
CREATED:20230110T202041Z
LAST-MODIFIED:20230110T202041Z
UID:33342-1676552400-1676563200@clinicaltrials.rbhs.rutgers.edu
SUMMARY:Propelus I-Corps Cohort 7 – NSF I-Corps Hub Northeast Region
DESCRIPTION:Propelus I-Corps Cohort 7 – NSF I-Corps Hub Northeast Region.  Princeton University\, Rutgers University\, University of Delaware\, NJIT\, Rowan University\, Temple University\, Lehigh University\, Delaware State University\, Drexel University.  More Information and Flyer.
URL:https://clinicaltrials.rbhs.rutgers.edu/event/propelus-i-corps-cohort-7-nsf-i-corps-hub-northeast-region-2/
END:VEVENT
BEGIN:VEVENT
DTSTART;TZID=UTC:20230217T120000
DTEND;TZID=UTC:20230217T130000
DTSTAMP:20260422T071100
CREATED:20230213T204435Z
LAST-MODIFIED:20230213T204435Z
UID:33936-1676635200-1676638800@clinicaltrials.rbhs.rutgers.edu
SUMMARY:CINJ Trainee Seminar Series
DESCRIPTION:CINJ Trainee Seminar Series-Interrogating the Epigenetic Landscape and Chromosomal Alterations in Breast Cancer\, Rukia Henry and Rescues Systemic Metabolic Reprogramming During Autophagy Deficiency\, Maria Ibrahim.
URL:https://clinicaltrials.rbhs.rutgers.edu/event/cinj-trainee-seminar-series-52/
LOCATION:Rutgers Cancer Institute\, Auditorium B\, 1st Floor\, 195 Little Albany Street\, New Brunswick\, NJ\, 08901\, United States
END:VEVENT
BEGIN:VEVENT
DTSTART;TZID=UTC:20230220T080000
DTEND;TZID=UTC:20230220T143000
DTSTAMP:20260422T071100
CREATED:20230214T215610Z
LAST-MODIFIED:20230214T215610Z
UID:33992-1676880000-1676903400@clinicaltrials.rbhs.rutgers.edu
SUMMARY:Educational Equity Access Week 2023
DESCRIPTION:Educational Equity Access Week 2023–Aims to create campus awareness of the need for anequity mindset to help all students thrive. This annual\, week–long initiative features a range of publiclectures\, faculty\, staff and student workshops\, and student programming. Read More.
URL:https://clinicaltrials.rbhs.rutgers.edu/event/educational-equity-access-week-2023/
LOCATION:College Avenue Student Center\, Multipurpose Room A\, 126 College Avenue\, New Brunswick\, NJ\, 08901\, United States
CATEGORIES:Diversity Equity and Inclusion
END:VEVENT
BEGIN:VEVENT
DTSTART;TZID=UTC:20230221T100000
DTEND;TZID=UTC:20230221T120000
DTSTAMP:20260422T071100
CREATED:20230214T215730Z
LAST-MODIFIED:20230214T215730Z
UID:33994-1676973600-1676980800@clinicaltrials.rbhs.rutgers.edu
SUMMARY:Educational Equity Access Week 2023
DESCRIPTION:Educational Equity Access Week 2023–Aims to create campus awareness of the need for anequity mindset to help all students thrive. This annual\, week–long initiative features a range of publiclectures\, faculty\, staff and student workshops\, and student programming. Read More.
URL:https://clinicaltrials.rbhs.rutgers.edu/event/educational-equity-access-week-2023-2/
LOCATION:College Avenue Student Center\, Multipurpose Room A\, 126 College Avenue\, New Brunswick\, NJ\, 08901\, United States
CATEGORIES:Diversity Equity and Inclusion
END:VEVENT
BEGIN:VEVENT
DTSTART;TZID=UTC:20230221T133000
DTEND;TZID=UTC:20230221T143000
DTSTAMP:20260422T071100
CREATED:20230216T003242Z
LAST-MODIFIED:20230216T003242Z
UID:34026-1676986200-1676989800@clinicaltrials.rbhs.rutgers.edu
SUMMARY:Spring 2023 Mentor Workshops-The Science of Mentoring
DESCRIPTION:Spring 2023 Mentor Workshops-The Science of Mentoring.  FLYER
URL:https://clinicaltrials.rbhs.rutgers.edu/event/spring-2023-mentor-workshops-the-science-of-mentoring/
CATEGORIES:Diversity Equity and Inclusion
END:VEVENT
BEGIN:VEVENT
DTSTART;TZID=UTC:20230222T100000
DTEND;TZID=UTC:20230222T110000
DTSTAMP:20260422T071100
CREATED:20230221T182954Z
LAST-MODIFIED:20230221T182954Z
UID:34156-1677060000-1677063600@clinicaltrials.rbhs.rutgers.edu
SUMMARY:Rutgers Princeton Center for Computational Cognitive Neuropsychiatry Seminar
DESCRIPTION:Rutgers Princeton Center for Computational Cognitive Neuropsychiatry Seminar-Results from a recently completed CCNP study and seek feedback on a proposed add-on neuroimaging session\, Laura Bustamante\, Washington University in St. Louis. http://ccnp.princeton.edu
URL:https://clinicaltrials.rbhs.rutgers.edu/event/rutgers-princeton-center-for-computational-cognitive-neuropsychiatry-seminar-59/
END:VEVENT
BEGIN:VEVENT
DTSTART;TZID=UTC:20230222T140000
DTEND;TZID=UTC:20230222T150000
DTSTAMP:20260422T071100
CREATED:20220622T215051Z
LAST-MODIFIED:20220622T215051Z
UID:30194-1677074400-1677078000@clinicaltrials.rbhs.rutgers.edu
SUMMARY:CTSA Program Webinar Series
DESCRIPTION:CTSA Program Webinar Series–Register Here!
URL:https://clinicaltrials.rbhs.rutgers.edu/event/ctsa-program-webinar-series-14/
END:VEVENT
BEGIN:VEVENT
DTSTART;TZID=UTC:20230222T180000
DTEND;TZID=UTC:20230222T200000
DTSTAMP:20260422T071100
CREATED:20230214T220033Z
LAST-MODIFIED:20230214T220033Z
UID:33996-1677088800-1677096000@clinicaltrials.rbhs.rutgers.edu
SUMMARY:Educational Equity Access Week 2023
DESCRIPTION:Educational Equity Access Week 2023–Aims to create campus awareness of the need for anequity mindset to help all students thrive. This annual\, week–long initiative features a range of publiclectures\, faculty\, staff and student workshops\, and student programming. Read More.
URL:https://clinicaltrials.rbhs.rutgers.edu/event/educational-equity-access-week-2023-3/
LOCATION:Zimmerli Arts Museum\, 71 Hamilton Street\, NJ\, 08901\, United States
CATEGORIES:Diversity Equity and Inclusion
END:VEVENT
BEGIN:VEVENT
DTSTART;TZID=UTC:20230223T100000
DTEND;TZID=UTC:20230223T110000
DTSTAMP:20260422T071100
CREATED:20230216T002510Z
LAST-MODIFIED:20230216T002510Z
UID:34023-1677146400-1677150000@clinicaltrials.rbhs.rutgers.edu
SUMMARY:CHECoE Distinguished Lecturer Series - "Program for Elimination of Cancer Disparities:  Supporting Cancer Research"
DESCRIPTION:CHECoE Distinguished Lecturer Series – “Program for Elimination of Cancer Disparities: Supporting Cancer Research”. Bettina F. Drake\, PhD\, MPH\, Washington University School of Medicine.  Flyer and Register
URL:https://clinicaltrials.rbhs.rutgers.edu/event/checoe-distinguished-lecturer-series-program-for-elimination-of-cancer-disparities-supporting-cancer-research/
END:VEVENT
BEGIN:VEVENT
DTSTART;TZID=UTC:20230223T100000
DTEND;TZID=UTC:20230223T110000
DTSTAMP:20260422T071100
CREATED:20230222T211312Z
LAST-MODIFIED:20230222T211312Z
UID:34273-1677146400-1677150000@clinicaltrials.rbhs.rutgers.edu
SUMMARY:Center for Leading Innovation & Collaboration (CLIC) Event
DESCRIPTION:Center for Leading Innovation & Collaboration (CLIC) Event–NC TraCS Qualitative Research Training Series: Introduction to Qualitative Data Analysis. Register Here.
URL:https://clinicaltrials.rbhs.rutgers.edu/event/center-for-leading-innovation-collaboration-clic-event-2/
END:VEVENT
BEGIN:VEVENT
DTSTART;TZID=UTC:20230223T113000
DTEND;TZID=UTC:20230223T123000
DTSTAMP:20260422T071100
CREATED:20230221T210735Z
LAST-MODIFIED:20230221T210735Z
UID:34160-1677151800-1677155400@clinicaltrials.rbhs.rutgers.edu
SUMMARY:CINJ Special Lecture
DESCRIPTION:CINJ Special Lecture-Achieving Equity for Adolescents and Young Adults with Cancer\, Dr. Vidya Puthenpura\, Yale School of Medicine. Join on Zoom.
URL:https://clinicaltrials.rbhs.rutgers.edu/event/cinj-special-lecture/
END:VEVENT
BEGIN:VEVENT
DTSTART;TZID=UTC:20230223T120000
DTEND;TZID=UTC:20230223T130000
DTSTAMP:20260422T071100
CREATED:20230214T211330Z
LAST-MODIFIED:20230214T211330Z
UID:33982-1677153600-1677157200@clinicaltrials.rbhs.rutgers.edu
SUMMARY:Diversity Education Virtual Learning Communities
DESCRIPTION:Diversity Education Virtual Learning Communities–Book discussion groups create shared venuesfor small–group learning across chancellor–led units. Learn More.
URL:https://clinicaltrials.rbhs.rutgers.edu/event/diversity-education-virtual-learning-communities-4/
CATEGORIES:Diversity Equity and Inclusion
END:VEVENT
END:VCALENDAR