BEGIN:VCALENDAR
VERSION:2.0
PRODID:-//New Jersey Alliance for Clinical and Translational Science - ECPv6.15.14//NONSGML v1.0//EN
CALSCALE:GREGORIAN
METHOD:PUBLISH
X-WR-CALNAME:New Jersey Alliance for Clinical and Translational Science
X-ORIGINAL-URL:https://clinicaltrials.rbhs.rutgers.edu
X-WR-CALDESC:Events for New Jersey Alliance for Clinical and Translational Science
REFRESH-INTERVAL;VALUE=DURATION:PT1H
X-Robots-Tag:noindex
X-PUBLISHED-TTL:PT1H
BEGIN:VTIMEZONE
TZID:UTC
BEGIN:STANDARD
TZOFFSETFROM:+0000
TZOFFSETTO:+0000
TZNAME:UTC
DTSTART:20190101T000000
END:STANDARD
END:VTIMEZONE
BEGIN:VEVENT
DTSTART;TZID=UTC:20200401T100000
DTEND;TZID=UTC:20200401T110000
DTSTAMP:20260422T065910
CREATED:20200303T192749Z
LAST-MODIFIED:20200409T190118Z
UID:12558-1585735200-1585738800@clinicaltrials.rbhs.rutgers.edu
SUMMARY:Rutgers Princeton Center for Computational Cognitive Neuropsychiatry Seminar (Virtual)
DESCRIPTION:Rutgers Princeton Center for Computational Cognitive Neuropsychiatry Seminar-Avoiding pitfalls: Bayes factors can be a reliable tool for post hoc data selection in implicit learning\, Mateo Leganes-Fonteneau\, Rutgers.  To be held Remotely – Zoom for this meeting at https://princeton.zoom.us/j/5753317530
URL:https://clinicaltrials.rbhs.rutgers.edu/event/rutgers-princeton-center-for-computational-cognitive-neuropsychiatry-seminar-5/
END:VEVENT
BEGIN:VEVENT
DTSTART;TZID=UTC:20200401T120000
DTEND;TZID=UTC:20200401T130000
DTSTAMP:20260422T065910
CREATED:20200303T183131Z
LAST-MODIFIED:20200407T192858Z
UID:12541-1585742400-1585746000@clinicaltrials.rbhs.rutgers.edu
SUMMARY:Cancelled-CABM Seminar Series
DESCRIPTION:CABM Seminar Series-TBD\, Hiroaki Mitsuya\, National Cancer Institute. CABM Room 010\, 679 Hoes Lane West\, Piscataway.
URL:https://clinicaltrials.rbhs.rutgers.edu/event/cabm-seminar-series-2/
LOCATION:CABM\, Seminar Room 010\, 679 Hoes Lane West\, Piscataway\, NJ\, 08854\, United States
END:VEVENT
BEGIN:VEVENT
DTSTART;TZID=UTC:20200401T123000
DTEND;TZID=UTC:20200401T130000
DTSTAMP:20260422T065910
CREATED:20200303T202040Z
LAST-MODIFIED:20200407T171739Z
UID:12574-1585744200-1585746000@clinicaltrials.rbhs.rutgers.edu
SUMMARY:Cancelled-Princeton Department of Molecular Biology Butler Seminar Series
DESCRIPTION:Princeton Department of Molecular Biology Butler Seminar Series– TBA\, Lucas Pelkmans\, University of Zurich. Princeton University\, Thomas Laboratory 003\, Department of Molecular Biology\, 119 Lewis Thomas Laboratory\, Washington Road\, Princeton.
URL:https://clinicaltrials.rbhs.rutgers.edu/event/princeton-department-of-molecular-biology-butler-seminar-series-5/
LOCATION:Princeton University\, Thomas Laboratory\, 119 Lewis Thomas Laboratory\, Washington Road\, Princeton\, NJ\, 08544-1014\, United States
END:VEVENT
BEGIN:VEVENT
DTSTART;TZID=UTC:20200401T123000
DTEND;TZID=UTC:20200401T133000
DTSTAMP:20260422T065910
CREATED:20200128T210007Z
LAST-MODIFIED:20200407T172904Z
UID:11809-1585744200-1585747800@clinicaltrials.rbhs.rutgers.edu
SUMMARY:Cancelled-RWJMS Neurology Grand Rounds
DESCRIPTION:RWJMS Neurology Grand Rounds-Case Presentation\, Bindhi Patel\, Rutgers Robert Wood Johnson Medical School. Clinical Academic Building\, 125 Paterson Street\, Conference Room 1302\, New Brunswick.
URL:https://clinicaltrials.rbhs.rutgers.edu/event/rwjms-neurology-grand-rounds-7/
LOCATION:Clinical Academic Building\, Conference Room 1302\, 125 Paterson Street\, New Brunswick\, NJ\, 08901\, United States
END:VEVENT
BEGIN:VEVENT
DTSTART;VALUE=DATE:20200402
DTEND;VALUE=DATE:20200403
DTSTAMP:20260422T065910
CREATED:20190924T195509Z
LAST-MODIFIED:20200407T192826Z
UID:9861-1585785600-1585871999@clinicaltrials.rbhs.rutgers.edu
SUMMARY:Cancelled-Continuing Education for Healthcare Professionals Training Course
DESCRIPTION:Continuing Education for Healthcare Professionals-Wound Closure/Suture Workshop Course\, Stanley S. Bergen\, Jr. Building\, 65 Bergen Street\, Newark. To register.
URL:https://clinicaltrials.rbhs.rutgers.edu/event/continuing-education-for-healthcare-professionals-training-course-6/
END:VEVENT
BEGIN:VEVENT
DTSTART;TZID=UTC:20200402T080000
DTEND;TZID=UTC:20200402T090000
DTSTAMP:20260422T065910
CREATED:20200128T214639Z
LAST-MODIFIED:20200407T192753Z
UID:11842-1585814400-1585818000@clinicaltrials.rbhs.rutgers.edu
SUMMARY:Cancelled-RWJMS Pediatric Grand Rounds
DESCRIPTION:RWJMS Pediatric Grand Rounds-Stem Cell Transplantation for Children with Sickle Cell Anemia\, Michelle A. Lee\, Albert Einstein College of Medicine. Clinical Academic Building\, Room 1302\, 125 Paterson Street\, New Brunswick.
URL:https://clinicaltrials.rbhs.rutgers.edu/event/rwjms-pediatric-grand-rounds-10/
LOCATION:Clinical Academic Building\, Conference Room 1302\, 125 Paterson Street\, New Brunswick\, NJ\, 08901\, United States
END:VEVENT
BEGIN:VEVENT
DTSTART;TZID=UTC:20200402T120000
DTEND;TZID=UTC:20200402T130000
DTSTAMP:20260422T065910
CREATED:20200128T190822Z
LAST-MODIFIED:20200407T192721Z
UID:11760-1585828800-1585832400@clinicaltrials.rbhs.rutgers.edu
SUMMARY:Cancelled-Rutgers Brain Health Institute Plenary Seminar Series
DESCRIPTION:Rutgers Brain Health Institute Plenary Seminar Series– The Bruno Lab studies neural pathways and circuit elements that contribute to sensory perception\, learning\, remembering and reasoning\, Randy Bruno\, Columbia University. Proteomics Seminar Room\, Institute for Quantitative Biomedicine at Rutgers\, 174 Frelinghuysen Road\, Piscataway.
URL:https://clinicaltrials.rbhs.rutgers.edu/event/rutgers-brain-health-institute-plenary-seminar-series-3/
LOCATION:Institute for Quantitative Biomedicine at Rutgers\, Proteomics Room 120\, 174 Frelinghuysen Road\, Piscataway\, NJ\, 08854\, United States
END:VEVENT
BEGIN:VEVENT
DTSTART;TZID=UTC:20200402T173000
DTEND;TZID=UTC:20200402T193000
DTSTAMP:20260422T065910
CREATED:20200302T194646Z
LAST-MODIFIED:20200407T192651Z
UID:12497-1585848600-1585855800@clinicaltrials.rbhs.rutgers.edu
SUMMARY:Cancelled-Rutgers School of Health Professions Open House
DESCRIPTION:Rutgers School of Health Professions Open House-Meet with program representatives to get personalized insights into programs; Learn about the specific admissions process for your program of interest; Explore options for financial aid and learn how you may qualify; Network with other like-minded individuals\, some of whom may become classmates and friends. New Jersey Medical School Grand Foyer\, 185 S. Orange Avenue\, Newark. Register Here.
URL:https://clinicaltrials.rbhs.rutgers.edu/event/rutgers-school-of-health-professions-open-house-3/
LOCATION:New Jersey Medical School\, 185 South Orange Avenue\, Newark\, NJ\, 07102\, United States
ORGANIZER;CN="":MAILTO:ccoe@rbhs.rutgers.edu
END:VEVENT
BEGIN:VEVENT
DTSTART;TZID=UTC:20200403T080000
DTEND;TZID=UTC:20200403T090000
DTSTAMP:20260422T065910
CREATED:20200304T193750Z
LAST-MODIFIED:20200407T192622Z
UID:12626-1585900800-1585904400@clinicaltrials.rbhs.rutgers.edu
SUMMARY:Cancelled-NJMS Surgery Grand Rounds
DESCRIPTION:NJMS Surgery Grand Rounds-Ethical and Legal Questions in Organ Donor Interventional Research\, Jacob Schwartzman\, Rutgers NJMS. Medical Science Building\, Room B610\, New Jersey Medical School\, 185 South Orange Avenue\, Newark.
URL:https://clinicaltrials.rbhs.rutgers.edu/event/njms-surgery-grand-rounds-4/
LOCATION:Medical Science Building\, 185 South Orange Avenue\, Newark\, 07103\, United States
END:VEVENT
BEGIN:VEVENT
DTSTART;TZID=UTC:20200404T080000
DTEND;TZID=UTC:20200404T170000
DTSTAMP:20260422T065910
CREATED:20200217T225216Z
LAST-MODIFIED:20200407T192556Z
UID:12192-1585987200-1586019600@clinicaltrials.rbhs.rutgers.edu
SUMMARY:Cancelled-BEN (Biomedical Entrepreneurship Network) Healthcare Innovation Summit
DESCRIPTION:BEN (Biomedical Entrepreneurship Network) Healthcare Innovation Summit-Finalists will pitch their ideas to a panel of investors. 1st place winners receive $3000; 2nd place winners will get $2000. The event will also include a panel of industry leaders discussing the evolving state of healthcare and a chance to hone your negotiation skills.  Robert Wood Johnson University Hospital Atrium\, Arline & Henry Schartzman Courtyard\, 1 Robert Wood Johnson Place New Brunswick.
URL:https://clinicaltrials.rbhs.rutgers.edu/event/ben-biomedical-entrepreneurship-network-healthcare-innovation-summit/
LOCATION:Arline and Henry Schwartzman Courtyard\, Robert Wood Johnson University Hospital\, 1 Robert Wood Johnson Place\, New Brunswick\, NJ\, 08901
END:VEVENT
BEGIN:VEVENT
DTSTART;TZID=UTC:20200404T090000
DTEND;TZID=UTC:20200404T123000
DTSTAMP:20260422T065910
CREATED:20200302T194825Z
LAST-MODIFIED:20200407T185315Z
UID:12503-1585990800-1586003400@clinicaltrials.rbhs.rutgers.edu
SUMMARY:Cancelled-Rutgers School of Health Professions Open House
DESCRIPTION:Rutgers School of Health Professions Open House-Join us at our Open House and get an instant decision on admission to our Health Information Management degree and certificate programs: B.S. or post-baccalaureate certificate in Health Information Management\, or Medical Coding Certificate. For more information. Stanley S. Bergen\, Jr. Building\, 65 Bergen Street\, Newark. To register.
URL:https://clinicaltrials.rbhs.rutgers.edu/event/rutgers-school-of-health-professions-open-house-4/
LOCATION:Stanley S. Bergen Jr. Building\, 65 Bergen Street\, Newark\, NJ\, United States
END:VEVENT
BEGIN:VEVENT
DTSTART;TZID=UTC:20200406T134500
DTEND;TZID=UTC:20200406T144500
DTSTAMP:20260422T065910
CREATED:20200304T184341Z
LAST-MODIFIED:20200407T192504Z
UID:12612-1586180700-1586184300@clinicaltrials.rbhs.rutgers.edu
SUMMARY:Cancelled-Biomedical Engineering Seminar
DESCRIPTION:Biomedical Engineering Seminar-Preventing Back Problems by Design\, David Wilder\, University of Iowa.  Biomedical Engineering Building\, Room 102\, 599 Taylor Road\, Piscataway.
URL:https://clinicaltrials.rbhs.rutgers.edu/event/biomedical-engineering-seminar-4/
LOCATION:Biomedical Engineering\, 599 Taylor Road\, Piscataway\, NJ\, 08854\, United States
END:VEVENT
BEGIN:VEVENT
DTSTART;TZID=UTC:20200406T170000
DTEND;TZID=UTC:20200406T200000
DTSTAMP:20260422T065910
CREATED:20200203T205531Z
LAST-MODIFIED:20200407T192429Z
UID:11978-1586192400-1586203200@clinicaltrials.rbhs.rutgers.edu
SUMMARY:Cancelled-Biomedical Engineering Cell-Gene Therapy Seminar Series
DESCRIPTION:Biomedical Engineering Cell-Gene Therapy Seminar Series-Site Visit\, Brian Hanifin/JoAnne Valentino/Thomas Heathman\, HCATS. Biomedical Engineering\, Auditorium\, 599 Taylor Road\, Piscataway.
URL:https://clinicaltrials.rbhs.rutgers.edu/event/biomedical-engineering-cell-gene-therapy-seminar-series-9/
LOCATION:Biomedical Engineering\, 599 Taylor Road\, Piscataway\, NJ\, 08854\, United States
END:VEVENT
BEGIN:VEVENT
DTSTART;TZID=UTC:20200408T120000
DTEND;TZID=UTC:20200408T130000
DTSTAMP:20260422T065910
CREATED:20200128T194926Z
LAST-MODIFIED:20200407T171056Z
UID:11781-1586347200-1586350800@clinicaltrials.rbhs.rutgers.edu
SUMMARY:Cancelled-Institute for Quantitative Biomedicine Seminar Series
DESCRIPTION:Institute for Quantitative Biomedicine Seminar Series-Development and application of multimodal single-molecule optical microscopy/spectroscopy\, Sanghyuk Lee\, Rutgers University. Proteomics Room 120\, Institute for Quantitative Biomedicine at Rutgers\, 174 Frelinghuysen Road\, Piscataway.
URL:https://clinicaltrials.rbhs.rutgers.edu/event/institute-for-quantitative-biomedicine-seminar-series-7/
LOCATION:Institute for Quantitative Biomedicine at Rutgers\, Proteomics Room 120\, 174 Frelinghuysen Road\, Piscataway\, NJ\, 08854\, United States
END:VEVENT
BEGIN:VEVENT
DTSTART;TZID=UTC:20200408T120000
DTEND;TZID=UTC:20200408T130000
DTSTAMP:20260422T065910
CREATED:20200303T202147Z
LAST-MODIFIED:20200407T172443Z
UID:12576-1586347200-1586350800@clinicaltrials.rbhs.rutgers.edu
SUMMARY:Cancelled-Princeton Department of Molecular Biology Butler Seminar Series
DESCRIPTION:Princeton Department of Molecular Biology Butler Seminar Series– TBA\, Philip Howe\, Medical University of South Carolina. Princeton University\, Thomas Laboratory 003\, Department of Molecular Biology\, 119 Lewis Thomas Laboratory\, Washington Road\, Princeton.
URL:https://clinicaltrials.rbhs.rutgers.edu/event/princeton-department-of-molecular-biology-butler-seminar-series-6/
LOCATION:Princeton University\, Thomas Laboratory\, 119 Lewis Thomas Laboratory\, Washington Road\, Princeton\, NJ\, 08544-1014\, United States
END:VEVENT
BEGIN:VEVENT
DTSTART;TZID=UTC:20200408T123000
DTEND;TZID=UTC:20200408T133000
DTSTAMP:20260422T065910
CREATED:20200128T210110Z
LAST-MODIFIED:20200407T172946Z
UID:11811-1586349000-1586352600@clinicaltrials.rbhs.rutgers.edu
SUMMARY:Cancelled-RWJMS Neurology Grand Rounds
DESCRIPTION:RWJMS Neurology Grand Rounds-TBD\, Sara Cuccurullo\, JFK Johnson Rehabilitation Institute. Clinical Academic Building\, 125 Paterson Street\, Conference Room 1302\, New Brunswick.
URL:https://clinicaltrials.rbhs.rutgers.edu/event/rwjms-neurology-grand-rounds-8/
LOCATION:Clinical Academic Building\, Conference Room 1302\, 125 Paterson Street\, New Brunswick\, NJ\, 08901\, United States
END:VEVENT
BEGIN:VEVENT
DTSTART;TZID=UTC:20200409T080000
DTEND;TZID=UTC:20200409T090000
DTSTAMP:20260422T065910
CREATED:20200128T214735Z
LAST-MODIFIED:20200409T165916Z
UID:11844-1586419200-1586422800@clinicaltrials.rbhs.rutgers.edu
SUMMARY:Virtual-RWJMS Pediatric Grand Rounds
DESCRIPTION:RWJMS Pediatric Grand Rounds-Pediatric Office Preparedness\, James Luckey\, Rutgers Robert Wood Johnson Medical School. Clinical Academic Building\, Room 1302\, 125 Paterson Street\, New Brunswick. Join by Web Ex. Meeting number (access code): 794 992 700\, Meeting password: 24437414
URL:https://clinicaltrials.rbhs.rutgers.edu/event/rwjms-pediatric-grand-rounds-11/
LOCATION:Clinical Academic Building\, Conference Room 1302\, 125 Paterson Street\, New Brunswick\, NJ\, 08901\, United States
END:VEVENT
BEGIN:VEVENT
DTSTART;TZID=UTC:20200409T110000
DTEND;TZID=UTC:20200409T120000
DTSTAMP:20260422T065910
CREATED:20200409T175333Z
LAST-MODIFIED:20200409T175333Z
UID:13210-1586430000-1586433600@clinicaltrials.rbhs.rutgers.edu
SUMMARY:Child Health Institute Weekly COVID Discussion
DESCRIPTION:Child Health Institute Weekly COVID Discussion-How to fight the coronavirus SARS-CoV-2 and its disease\, COVID-19\, Michael Lin\, Standord University. Connect to the meeting via WebEx.
URL:https://clinicaltrials.rbhs.rutgers.edu/event/child-health-institute-weekly-covid-discussion/
END:VEVENT
BEGIN:VEVENT
DTSTART;TZID=UTC:20200413T093000
DTEND;TZID=UTC:20200413T123000
DTSTAMP:20260422T065910
CREATED:20200413T202712Z
LAST-MODIFIED:20200413T202834Z
UID:13339-1586770200-1586781000@clinicaltrials.rbhs.rutgers.edu
SUMMARY:NJMS Class of 2020 Virtual Convocation
DESCRIPTION:NJMS Class of 2020 Virtual Convocation–Help Us Celebrate Our New Graduates. Watch Live.
URL:https://clinicaltrials.rbhs.rutgers.edu/event/njms-class-of-2020-virtual-convocation/
END:VEVENT
BEGIN:VEVENT
DTSTART;TZID=UTC:20200413T120000
DTEND;TZID=UTC:20200413T130000
DTSTAMP:20260422T065910
CREATED:20200409T170730Z
LAST-MODIFIED:20200409T170730Z
UID:13205-1586779200-1586782800@clinicaltrials.rbhs.rutgers.edu
SUMMARY:Biophysics Seminar Series (Virtual)
DESCRIPTION:Virtual – Biophysics Seminar Series-Dynamics of acute epidemic disease: from measles and influenza to Coronavirus\, Bryan Grenfell and Jessica Metcalf\, Princeton University.  Reviewing the dynamics of acute immunizing infections\, using it as a backdrop to discuss the dynamics and control of the ongoing Coronavirus pandemic. Join via Zoom.
URL:https://clinicaltrials.rbhs.rutgers.edu/event/biophysics-seminar-series-virtual/
END:VEVENT
BEGIN:VEVENT
DTSTART;TZID=UTC:20200413T170000
DTEND;TZID=UTC:20200413T200000
DTSTAMP:20260422T065910
CREATED:20200203T205642Z
LAST-MODIFIED:20200407T192306Z
UID:11980-1586797200-1586808000@clinicaltrials.rbhs.rutgers.edu
SUMMARY:Cancelled-Biomedical Engineering Cell-Gene Therapy Seminar Series
DESCRIPTION:Biomedical Engineering Cell-Gene Therapy Seminar Series-Bioseparation operations and process design\, Haoran Zhang\, Rutgers and Microfluidic Cell Isolation\, Ravi Kapur\, Micromedicine. Biomedical Engineering\, Auditorium\, 599 Taylor Road\, Piscataway.
URL:https://clinicaltrials.rbhs.rutgers.edu/event/biomedical-engineering-cell-gene-therapy-seminar-series-10/
LOCATION:Biomedical Engineering\, 599 Taylor Road\, Piscataway\, NJ\, 08854\, United States
END:VEVENT
BEGIN:VEVENT
DTSTART;TZID=UTC:20200415T100000
DTEND;TZID=UTC:20200415T170000
DTSTAMP:20260422T065910
CREATED:20200326T184709Z
LAST-MODIFIED:20200326T184709Z
UID:12894-1586944800-1586970000@clinicaltrials.rbhs.rutgers.edu
SUMMARY:CANCELLED-Graduate Student Symposium
DESCRIPTION:(CANCELLED) Graduate Student Symposium– Mapping New Directions in International Research: 2020 Graduate Student Symposium. College Avenue Student Center\, 126 College Avenue\, New Brunswick. For more information.
URL:https://clinicaltrials.rbhs.rutgers.edu/event/cancelled-graduate-student-symposium/
LOCATION:College Avenue Student Center\, Multipurpose Room A\, 126 College Avenue\, New Brunswick\, NJ\, 08901\, United States
END:VEVENT
BEGIN:VEVENT
DTSTART;TZID=UTC:20200415T120000
DTEND;TZID=UTC:20200415T130000
DTSTAMP:20260422T065910
CREATED:20200128T195030Z
LAST-MODIFIED:20200407T171141Z
UID:11783-1586952000-1586955600@clinicaltrials.rbhs.rutgers.edu
SUMMARY:Cancelled-Institute for Quantitative Biomedicine Seminar Series
DESCRIPTION:Institute for Quantitative Biomedicine Seminar Series-Ligand-directed Targeting and Molecular Imaging: Bioengineering Applications\, Renata Pasqualini\, Rutgers University. Proteomics Room 120\, Institute for Quantitative Biomedicine at Rutgers\, 174 Frelinghuysen Road\, Piscataway.
URL:https://clinicaltrials.rbhs.rutgers.edu/event/institute-for-quantitative-biomedicine-seminar-series-8/
LOCATION:Institute for Quantitative Biomedicine at Rutgers\, Proteomics Room 120\, 174 Frelinghuysen Road\, Piscataway\, NJ\, 08854\, United States
END:VEVENT
BEGIN:VEVENT
DTSTART;TZID=UTC:20200415T120000
DTEND;TZID=UTC:20200415T130000
DTSTAMP:20260422T065910
CREATED:20200303T202252Z
LAST-MODIFIED:20200407T172407Z
UID:12578-1586952000-1586955600@clinicaltrials.rbhs.rutgers.edu
SUMMARY:Cancelled-Princeton Department of Molecular Biology Butler Seminar Series
DESCRIPTION:Princeton Department of Molecular Biology Butler Seminar Series– TBA\, Alfred Garfall\, UPenn. Princeton University\, Thomas Laboratory 003\, Department of Molecular Biology\, 119 Lewis Thomas Laboratory\, Washington Road\, Princeton.
URL:https://clinicaltrials.rbhs.rutgers.edu/event/princeton-department-of-molecular-biology-butler-seminar-series-7/
LOCATION:Princeton University\, Thomas Laboratory\, 119 Lewis Thomas Laboratory\, Washington Road\, Princeton\, NJ\, 08544-1014\, United States
END:VEVENT
BEGIN:VEVENT
DTSTART;TZID=UTC:20200415T123000
DTEND;TZID=UTC:20200415T133000
DTSTAMP:20260422T065910
CREATED:20200128T210222Z
LAST-MODIFIED:20200407T173023Z
UID:11813-1586953800-1586957400@clinicaltrials.rbhs.rutgers.edu
SUMMARY:Cancelled-RWJMS Neurology Grand Rounds
DESCRIPTION:RWJMS Neurology Grand Rounds-Case Presentation\, Kevin Colburn\, Rutgers Robert Wood Johnson Medical School. Clinical Academic Building\, 125 Paterson Street\, Conference Room 1302\, New Brunswick.
URL:https://clinicaltrials.rbhs.rutgers.edu/event/rwjms-neurology-grand-rounds-9/
LOCATION:Clinical Academic Building\, Conference Room 1302\, 125 Paterson Street\, New Brunswick\, NJ\, 08901\, United States
END:VEVENT
BEGIN:VEVENT
DTSTART;TZID=UTC:20200415T173000
DTEND;TZID=UTC:20200415T190000
DTSTAMP:20260422T065910
CREATED:20200121T201742Z
LAST-MODIFIED:20200407T192226Z
UID:11695-1586971800-1586977200@clinicaltrials.rbhs.rutgers.edu
SUMMARY:Cancelled-RBHS Women’s Leadership Forum
DESCRIPTION:RBHS Women’s Leadership Forum-Workshop on negotiations. Clinical Academic Building\, Room 1302\, 125 Paterson Street\, New Brunswick.
URL:https://clinicaltrials.rbhs.rutgers.edu/event/rbhs-womens-leadership-forum/
LOCATION:Clinical Academic Building\, Conference Room 1302\, 125 Paterson Street\, New Brunswick\, NJ\, 08901\, United States
END:VEVENT
BEGIN:VEVENT
DTSTART;TZID=UTC:20200416T080000
DTEND;TZID=UTC:20200416T090000
DTSTAMP:20260422T065910
CREATED:20200129T184453Z
LAST-MODIFIED:20200409T165529Z
UID:11855-1587024000-1587027600@clinicaltrials.rbhs.rutgers.edu
SUMMARY:Virtual-RWJMS Pediatric Grand Rounds
DESCRIPTION:RWJMS Pediatric Grand Rounds-TBD\, Residents and Fellows\, Rutgers Robert Wood Johnson Medical School. Clinical Academic Building\, Room 1302\, 125 Paterson Street\, New Brunswick. Join by WebEx.
URL:https://clinicaltrials.rbhs.rutgers.edu/event/rwjms-pediatric-grand-rounds-12/
LOCATION:Clinical Academic Building\, Conference Room 1302\, 125 Paterson Street\, New Brunswick\, NJ\, 08901\, United States
END:VEVENT
BEGIN:VEVENT
DTSTART;TZID=UTC:20200416T110000
DTEND;TZID=UTC:20200416T120000
DTSTAMP:20260422T065910
CREATED:20200409T180019Z
LAST-MODIFIED:20200415T205630Z
UID:13212-1587034800-1587038400@clinicaltrials.rbhs.rutgers.edu
SUMMARY:Child Health Institute Weekly COVID Discussion
DESCRIPTION:Child Health Institute Weekly COVID Discussion– Connect to the meeting via WebEx.
URL:https://clinicaltrials.rbhs.rutgers.edu/event/child-health-institute-weekly-covid-discussion-2/
END:VEVENT
BEGIN:VEVENT
DTSTART;TZID=UTC:20200416T130000
DTEND;TZID=UTC:20200416T160000
DTSTAMP:20260422T065910
CREATED:20200415T205009Z
LAST-MODIFIED:20200415T205009Z
UID:13412-1587042000-1587052800@clinicaltrials.rbhs.rutgers.edu
SUMMARY:NJ ACTS Learning Opportunity
DESCRIPTION:NJ ACTS Learning Opportunity-FDA Regulations for Product Development seminar via Webex on “Regulatory Pathways” will explain the entire life cycle of new products from pre-IND through Phase IV for the development and commercialization of products. Register here.
URL:https://clinicaltrials.rbhs.rutgers.edu/event/nj-acts-learning-opportunity/
END:VEVENT
BEGIN:VEVENT
DTSTART;TZID=UTC:20200416T130000
DTEND;TZID=UTC:20200416T160000
DTSTAMP:20260422T065910
CREATED:20200501T004609Z
LAST-MODIFIED:20200501T004609Z
UID:14028-1587042000-1587052800@clinicaltrials.rbhs.rutgers.edu
SUMMARY:Rutgers Optimizes Innovation (ROI) Seminar
DESCRIPTION:  \nFDA Regulations for Product Development: “Regulatory Pathways” \nVia Webex \n\nRegister here: http://events.r20.constantcontact.com/register/event?oeidk=a07egz32r34011a563e&llr=ohtusneab.
URL:https://clinicaltrials.rbhs.rutgers.edu/event/rutgers-optimizes-innovation-roi-seminar/
END:VEVENT
END:VCALENDAR