BEGIN:VCALENDAR
VERSION:2.0
PRODID:-//New Jersey Alliance for Clinical and Translational Science - ECPv6.15.14//NONSGML v1.0//EN
CALSCALE:GREGORIAN
METHOD:PUBLISH
X-WR-CALNAME:New Jersey Alliance for Clinical and Translational Science
X-ORIGINAL-URL:https://clinicaltrials.rbhs.rutgers.edu
X-WR-CALDESC:Events for New Jersey Alliance for Clinical and Translational Science
REFRESH-INTERVAL;VALUE=DURATION:PT1H
X-Robots-Tag:noindex
X-PUBLISHED-TTL:PT1H
BEGIN:VTIMEZONE
TZID:America/New_York
BEGIN:DAYLIGHT
TZOFFSETFROM:-0500
TZOFFSETTO:-0400
TZNAME:EDT
DTSTART:20250309T070000
END:DAYLIGHT
BEGIN:STANDARD
TZOFFSETFROM:-0400
TZOFFSETTO:-0500
TZNAME:EST
DTSTART:20251102T060000
END:STANDARD
BEGIN:DAYLIGHT
TZOFFSETFROM:-0500
TZOFFSETTO:-0400
TZNAME:EDT
DTSTART:20260308T070000
END:DAYLIGHT
BEGIN:STANDARD
TZOFFSETFROM:-0400
TZOFFSETTO:-0500
TZNAME:EST
DTSTART:20261101T060000
END:STANDARD
BEGIN:DAYLIGHT
TZOFFSETFROM:-0500
TZOFFSETTO:-0400
TZNAME:EDT
DTSTART:20270314T070000
END:DAYLIGHT
BEGIN:STANDARD
TZOFFSETFROM:-0400
TZOFFSETTO:-0500
TZNAME:EST
DTSTART:20271107T060000
END:STANDARD
END:VTIMEZONE
BEGIN:VEVENT
DTSTART;TZID=America/New_York:20260424T090000
DTEND;TZID=America/New_York:20260424T100000
DTSTAMP:20260425T203732
CREATED:20251203T155415Z
LAST-MODIFIED:20251203T155415Z
UID:47029-1777021200-1777024800@clinicaltrials.rbhs.rutgers.edu
SUMMARY:Spring Mentor Workshop Series
DESCRIPTION:Spring Mentor Workshop Series-Pre-College Initiatives & College Success\, Tools for Coping with Stress. Tillet Hall\, Room 204\, 50 Joyce Kilmer Avenue\, Piscataway. View Flyer and RSVP
URL:https://clinicaltrials.rbhs.rutgers.edu/event/spring-mentor-workshop-series-4/
LOCATION:Tillet Hall\, Room 204\, 50 Joyce Kilmer Avenue\, Piscataway\, NJ\, 08854
END:VEVENT
BEGIN:VEVENT
DTSTART;TZID=America/New_York:20260423T120000
DTEND;TZID=America/New_York:20260423T133000
DTSTAMP:20260425T203732
CREATED:20260318T125030Z
LAST-MODIFIED:20260318T125030Z
UID:48079-1776945600-1776951000@clinicaltrials.rbhs.rutgers.edu
SUMMARY:Aging and Health Research at Rutgers: Speed Networking
DESCRIPTION:Aging and Health Research at Rutgers: Speed Networking-This fun\, fast-paced event brings together Rutgers faculty\, staff\, postdocs\, students\, and trainees interested in aging-related research. 303 George Street\, New Brunswick. Flyer and Register
URL:https://clinicaltrials.rbhs.rutgers.edu/event/aging-and-health-research-at-rutgers-speed-networking/
LOCATION:303 George Street\, 303 George Street\, New Brunswick\, NJ\, 08901
END:VEVENT
BEGIN:VEVENT
DTSTART;TZID=America/New_York:20260423T120000
DTEND;TZID=America/New_York:20260423T130000
DTSTAMP:20260425T203732
CREATED:20260416T132516Z
LAST-MODIFIED:20260416T132516Z
UID:48332-1776945600-1776949200@clinicaltrials.rbhs.rutgers.edu
SUMMARY:Propelus I-Corps Info Session at Rutgers University
DESCRIPTION:Propelus I-Corps Info Session at Rutgers University-Learn about upcoming NSF I-Corps programs hosted by Rutgers University to start your innovation journey & connect to innovation ecosystem! Virtual. Read More and Register
URL:https://clinicaltrials.rbhs.rutgers.edu/event/propelus-i-corps-info-session-at-rutgers-university/
END:VEVENT
BEGIN:VEVENT
DTSTART;TZID=America/New_York:20260423T080000
DTEND;TZID=America/New_York:20260423T170000
DTSTAMP:20260425T203732
CREATED:20250821T143856Z
LAST-MODIFIED:20250821T143856Z
UID:45770-1776931200-1776963600@clinicaltrials.rbhs.rutgers.edu
SUMMARY:ACTS 2026 Conference
DESCRIPTION:ACTS 2026 Conference–Building Trustworthy Translation: Rigor\, Reproducibility\, and Real-World Impact. Baird Center\, Milwaukee\, WI. Read More.
URL:https://clinicaltrials.rbhs.rutgers.edu/event/acts-2026-conference-4/
LOCATION:Baird Center\, 400 W Wisconsin Ave\, Milwaukee\, WI\, 53203
END:VEVENT
BEGIN:VEVENT
DTSTART;TZID=America/New_York:20260422T170000
DTEND;TZID=America/New_York:20260422T190000
DTSTAMP:20260425T203732
CREATED:20260406T123412Z
LAST-MODIFIED:20260406T123412Z
UID:48216-1776877200-1776884400@clinicaltrials.rbhs.rutgers.edu
SUMMARY:I-Corps Princeton Event
DESCRIPTION:I-Corps Princeton Event–Lab to Launch: Managing the Transition from Academic Research to Commercialization\, 303a College Road East\, Princeton. Read More
URL:https://clinicaltrials.rbhs.rutgers.edu/event/i-corps-princeton-event/
LOCATION:303a College Road East\, Princeton\, New Jersey
END:VEVENT
BEGIN:VEVENT
DTSTART;TZID=America/New_York:20260422T130000
DTEND;TZID=America/New_York:20260422T140000
DTSTAMP:20260425T203732
CREATED:20260225T175314Z
LAST-MODIFIED:20260225T175314Z
UID:47789-1776862800-1776866400@clinicaltrials.rbhs.rutgers.edu
SUMMARY:Springer Nature Seminar Series
DESCRIPTION:Springer Nature Seminar Series–Integrity Matters – Research Done Right. Register
URL:https://clinicaltrials.rbhs.rutgers.edu/event/springer-nature-seminar-series/
END:VEVENT
BEGIN:VEVENT
DTSTART;TZID=America/New_York:20260422T100000
DTEND;TZID=America/New_York:20260422T110000
DTSTAMP:20260425T203732
CREATED:20260420T165216Z
LAST-MODIFIED:20260420T165216Z
UID:48358-1776852000-1776855600@clinicaltrials.rbhs.rutgers.edu
SUMMARY:Rutgers Princeton Center for Computational Cognitive Neuropsychiatry Seminar
DESCRIPTION:Rutgers Princeton Center for Computational Cognitive Neuropsychiatry Seminar–Dissociable Effects of Curiosity and Hedonic Valence on Reinforcement Learning\, Vinny Costa\, Emory University. ccnp.princeton.edu
URL:https://clinicaltrials.rbhs.rutgers.edu/event/rutgers-princeton-center-for-computational-cognitive-neuropsychiatry-seminar-123/
END:VEVENT
BEGIN:VEVENT
DTSTART;TZID=America/New_York:20260422T080000
DTEND;TZID=America/New_York:20260422T170000
DTSTAMP:20260425T203732
CREATED:20250821T143812Z
LAST-MODIFIED:20250821T143812Z
UID:45768-1776844800-1776877200@clinicaltrials.rbhs.rutgers.edu
SUMMARY:ACTS 2026 Conference
DESCRIPTION:ACTS 2026 Conference–Building Trustworthy Translation: Rigor\, Reproducibility\, and Real-World Impact. Baird Center\, Milwaukee\, WI. Read More.
URL:https://clinicaltrials.rbhs.rutgers.edu/event/acts-2026-conference-3/
LOCATION:Baird Center\, 400 W Wisconsin Ave\, Milwaukee\, WI\, 53203
END:VEVENT
BEGIN:VEVENT
DTSTART;TZID=America/New_York:20260422T080000
DTEND;TZID=America/New_York:20260422T090000
DTSTAMP:20260425T203732
CREATED:20260416T133224Z
LAST-MODIFIED:20260416T133224Z
UID:48337-1776844800-1776848400@clinicaltrials.rbhs.rutgers.edu
SUMMARY:RWJMS Pediatric Grand Rounds
DESCRIPTION:RWJMS Pediatric Grand Rounds-Pediatric Dentistry and Patient Care ~ Caries Prevention in Children: The Pediatrician’s Role\, MAdhu Mohan\, DMD and Mary O’Connor\, MD\, RWJMS. Hybrid. CAB 3403-04 or on Zoom. View Flyer
URL:https://clinicaltrials.rbhs.rutgers.edu/event/rwjms-pediatric-grand-rounds-35/
LOCATION:Clinical Academic Building\, Room 3403\, 125 Paterson Street\, New Brunswick\, NJ\, 08901\, United States
END:VEVENT
BEGIN:VEVENT
DTSTART;TZID=America/New_York:20260421T133000
DTEND;TZID=America/New_York:20260421T160000
DTSTAMP:20260425T203732
CREATED:20260407T143414Z
LAST-MODIFIED:20260407T143414Z
UID:48253-1776778200-1776787200@clinicaltrials.rbhs.rutgers.edu
SUMMARY:Rutgers Health Annual Faculty and Staff Engagement Symposium
DESCRIPTION:Rutgers Health Annual Faculty and Staff Engagement Symposium-Empowering Teams: Navigating Conflict\, Facilitator Cristina Heta. Hageman Hall\, New Brunswick Theological Seminary\, 35 Seminary Place\, New Brunswick. Flyer and Register
URL:https://clinicaltrials.rbhs.rutgers.edu/event/rutgers-health-annual-faculty-and-staff-engagement-symposium/
LOCATION:Hageman Hall\, New Brunswick Seminary\, 35 Seminary Place\, New Brunswick\, NJ\, United States
END:VEVENT
BEGIN:VEVENT
DTSTART;TZID=America/New_York:20260421T080000
DTEND;TZID=America/New_York:20260421T170000
DTSTAMP:20260425T203732
CREATED:20250821T143729Z
LAST-MODIFIED:20250821T143729Z
UID:45766-1776758400-1776790800@clinicaltrials.rbhs.rutgers.edu
SUMMARY:ACTS 2026 Conference
DESCRIPTION:ACTS 2026 Conference–Building Trustworthy Translation: Rigor\, Reproducibility\, and Real-World Impact. Baird Center\, Milwaukee\, WI. Read More.
URL:https://clinicaltrials.rbhs.rutgers.edu/event/acts-2026-conference-2/
LOCATION:Baird Center\, 400 W Wisconsin Ave\, Milwaukee\, WI\, 53203
END:VEVENT
BEGIN:VEVENT
DTSTART;TZID=America/New_York:20260420T080000
DTEND;TZID=America/New_York:20260420T170000
DTSTAMP:20260425T203732
CREATED:20250821T143624Z
LAST-MODIFIED:20250821T143624Z
UID:45763-1776672000-1776704400@clinicaltrials.rbhs.rutgers.edu
SUMMARY:ACTS 2026 Conference
DESCRIPTION:ACTS 2026 Conference–Building Trustworthy Translation: Rigor\, Reproducibility\, and Real-World Impact. Baird Center\, Milwaukee\, WI. Read More.
URL:https://clinicaltrials.rbhs.rutgers.edu/event/acts-2026-conference/
LOCATION:Baird Center\, 400 W Wisconsin Ave\, Milwaukee\, WI\, 53203
END:VEVENT
BEGIN:VEVENT
DTSTART;TZID=America/New_York:20260417T120000
DTEND;TZID=America/New_York:20260417T130000
DTSTAMP:20260425T203732
CREATED:20260406T125034Z
LAST-MODIFIED:20260409T124108Z
UID:48225-1776427200-1776430800@clinicaltrials.rbhs.rutgers.edu
SUMMARY:NJ ACTS CTO/Workforce Development Special Session
DESCRIPTION:NJ ACTS CTO/Workforce Development Special Session-So You Think You Need an Investigational New Drug (IND)? Practical Guidance for Confident Decision-Making\, Lisa Cooper\, PhD\, Rutgers Health. View Flyer and Join on Zoom.
URL:https://clinicaltrials.rbhs.rutgers.edu/event/nj-acts-cto-special-session/
END:VEVENT
BEGIN:VEVENT
DTSTART;TZID=America/New_York:20260417T110000
DTEND;TZID=America/New_York:20260417T120000
DTSTAMP:20260425T203732
CREATED:20260219T204912Z
LAST-MODIFIED:20260312T192200Z
UID:47746-1776423600-1776427200@clinicaltrials.rbhs.rutgers.edu
SUMMARY:Child Health Institute Annual Gould Lecture
DESCRIPTION:Child Health Institute Annual Gould Lecture-Chromatin Regulation by RNA Methylation and Small RNAs\, Chuan He\, PhD\, Howard Hughes Medical Institute. CHI Seminar Room 3101\, 89 French Street\, New Brunswick. View Flyer
URL:https://clinicaltrials.rbhs.rutgers.edu/event/child-health-institute-annual-gould-lecture-2/
LOCATION:Child Health Institute\, Conference Room 3101\, 89 French Street\, New Brunswick\, NJ\, 08901\, United States
END:VEVENT
BEGIN:VEVENT
DTSTART;TZID=America/New_York:20260417T100000
DTEND;TZID=America/New_York:20260417T140000
DTSTAMP:20260425T203732
CREATED:20260319T153838Z
LAST-MODIFIED:20260319T153838Z
UID:48103-1776420000-1776434400@clinicaltrials.rbhs.rutgers.edu
SUMMARY:Novus I-Corps at Rutgers Newark
DESCRIPTION:Novus I-Corps at Rutgers Newark-Introductory training/workshop/networking kickoff to begin shifting the mindset from the science & technology to the people it benefits! In person at Dana Library\, 3rd Floor\, 185 University Avenue\, Newark. Details and Registration
URL:https://clinicaltrials.rbhs.rutgers.edu/event/novus-i-corps-at-rutgers-newark/
LOCATION:Dana Library\, 185 University Avenue\, Newark\, New Jersey
END:VEVENT
BEGIN:VEVENT
DTSTART;TZID=America/New_York:20260416T130000
DTEND;TZID=America/New_York:20260416T140000
DTSTAMP:20260425T203732
CREATED:20260326T152446Z
LAST-MODIFIED:20260326T192345Z
UID:48147-1776344400-1776348000@clinicaltrials.rbhs.rutgers.edu
SUMMARY:CTSA Coordination Communication & Operations Support Webinar Series
DESCRIPTION:CTSA Coordination Communication & Operations Support Webinar Series–Telehealth Centers of Excellence (COEs) webinar series featuring Apurv Soni\, M.D.\, Ph.D. This webinar will explore how decentralized pragmatic studies and learning health systems can work together to accelerate the evaluation\, implementation\, and refinement of digital health technologies. Register
URL:https://clinicaltrials.rbhs.rutgers.edu/event/ctsa-coordination-communication-operations-support-webinar-series/
END:VEVENT
BEGIN:VEVENT
DTSTART;TZID=America/New_York:20260415T160000
DTEND;TZID=America/New_York:20260415T170000
DTSTAMP:20260425T203732
CREATED:20260406T135317Z
LAST-MODIFIED:20260406T135317Z
UID:48233-1776268800-1776272400@clinicaltrials.rbhs.rutgers.edu
SUMMARY:Research Resources Workshop Wednesday
DESCRIPTION:Research Resources Workshop Wednesday-Cutting-Edge Cellular Imaging & Histology Technologies\, Luke Fritzky\, Dongfang Liu\, Jason Weinstein. Join on Zoom and view Flyer
URL:https://clinicaltrials.rbhs.rutgers.edu/event/research-resources-workshop-wednesday-16/
END:VEVENT
BEGIN:VEVENT
DTSTART;TZID=America/New_York:20260415T120000
DTEND;TZID=America/New_York:20260415T130000
DTSTAMP:20260425T203732
CREATED:20260121T151652Z
LAST-MODIFIED:20260121T151652Z
UID:47461-1776254400-1776258000@clinicaltrials.rbhs.rutgers.edu
SUMMARY:Trial Innovation Network Collaboration Webinar
DESCRIPTION:Trial Innovation Network Collaboration Webinar-Recruitment Made Smarter: Tools and Strategies to Engage Providers and Recruit Patients for Clinical Research\, Natalie Muth\, MPH  &  Jodie Cohen\, MA\, CCRP. Register
URL:https://clinicaltrials.rbhs.rutgers.edu/event/trial-innovation-network-collaboration-webinar-32/
END:VEVENT
BEGIN:VEVENT
DTSTART;TZID=America/New_York:20260414T120000
DTEND;TZID=America/New_York:20260414T130000
DTSTAMP:20260425T203732
CREATED:20260310T115849Z
LAST-MODIFIED:20260310T115849Z
UID:48014-1776168000-1776171600@clinicaltrials.rbhs.rutgers.edu
SUMMARY:RWJMS Stahl Memorial Lecture
DESCRIPTION:RWJMS Stahl Memorial Lecture-The Current Challenges to Vaccines: Ethics and Practice\, Paul Offit\, MD\, Children’s Hospital of\nPhiladelphia. The Rutgers Institute for Health\, Healthcare Policy and Aging\, 112 Paterson Street\, New Brunswick. View Flyer
URL:https://clinicaltrials.rbhs.rutgers.edu/event/rwjms-stahl-memorial-lecture/
LOCATION:Institute for Health\, Health Care Policy and Aging\, 1st Floor\, Room 120\, 112 Paterson Street\, New Brunswick\, NJ\, 08901\, United States
END:VEVENT
BEGIN:VEVENT
DTSTART;TZID=America/New_York:20260410T100000
DTEND;TZID=America/New_York:20260410T140000
DTSTAMP:20260425T203732
CREATED:20260330T145721Z
LAST-MODIFIED:20260330T145721Z
UID:48186-1775815200-1775829600@clinicaltrials.rbhs.rutgers.edu
SUMMARY:Rutgers Equity Alliance for Community Health Event
DESCRIPTION:Rutgers Equity Alliance for Community Health Event–Creating and maintaining successful academic-community partnerships\, Keynote Speaker Rafael E. Perez\, REACH’s New Principal Investigator. Campus Center\, Camden  View Flyer. For more information and to register\, click here.
URL:https://clinicaltrials.rbhs.rutgers.edu/event/rutgers-equity-alliance-for-community-health-event/
LOCATION:Camden Campus Center\, 326 Penn Street\, Camden\, NJ\, 08102\, United States
END:VEVENT
BEGIN:VEVENT
DTSTART;TZID=America/New_York:20260410T100000
DTEND;TZID=America/New_York:20260410T130000
DTSTAMP:20260425T203732
CREATED:20260112T173850Z
LAST-MODIFIED:20260112T173850Z
UID:47389-1775815200-1775826000@clinicaltrials.rbhs.rutgers.edu
SUMMARY:Propelus I-Corps hosted by Rutgers
DESCRIPTION:Propelus I-Corps hosted by Rutgers-Find Success for Your Innovation. In person. Read More and Register
URL:https://clinicaltrials.rbhs.rutgers.edu/event/propelus-i-corps-hosted-by-rutgers-2/
END:VEVENT
BEGIN:VEVENT
DTSTART;TZID=America/New_York:20260409T120000
DTEND;TZID=America/New_York:20260409T133000
DTSTAMP:20260425T203732
CREATED:20251224T150453Z
LAST-MODIFIED:20260303T154005Z
UID:47338-1775736000-1775741400@clinicaltrials.rbhs.rutgers.edu
SUMMARY:NJ ACTS Biostatistics and Epidemiology Research Design Workshop Series
DESCRIPTION:NJ ACTS Biostatistics and Epidemiology Research Design Workshop Series–Designing Multi-Site Studies for External Validity: Site Selection via Synthetic Purposive Sampling\, Naoki Egam\, MIT. View Flyer and Register  
URL:https://clinicaltrials.rbhs.rutgers.edu/event/nj-acts-biostatistics-and-epidemiology-research-design-workshop-series-4/
END:VEVENT
BEGIN:VEVENT
DTSTART;TZID=America/New_York:20260408T130000
DTEND;TZID=America/New_York:20260408T140000
DTSTAMP:20260425T203732
CREATED:20260225T175132Z
LAST-MODIFIED:20260225T175132Z
UID:47787-1775653200-1775656800@clinicaltrials.rbhs.rutgers.edu
SUMMARY:Springer Nature Webinar Series
DESCRIPTION:Springer Nature Webinar Series–Open Access Explained: Navigating the  Author Journey. Register
URL:https://clinicaltrials.rbhs.rutgers.edu/event/springer-nature-webinar-series-4/
END:VEVENT
BEGIN:VEVENT
DTSTART;TZID=America/New_York:20260408T100000
DTEND;TZID=America/New_York:20260408T110000
DTSTAMP:20260425T203732
CREATED:20260406T134330Z
LAST-MODIFIED:20260408T141953Z
UID:48230-1775642400-1775646000@clinicaltrials.rbhs.rutgers.edu
SUMMARY:Rutgers Princeton Center for Computational Cognitive Neuropsychiatry Seminar
DESCRIPTION:Rutgers Princeton Center for Computational Cognitive Neuropsychiatry Seminar–Experimental and real-world prediction errors shape the structure and content of memory\, implications for PTSD\, Nina Rouhani\, University of Southern California. ccnp.princeton.edu
URL:https://clinicaltrials.rbhs.rutgers.edu/event/rutgers-princeton-center-for-computational-cognitive-neuropsychiatry-seminar-122/
END:VEVENT
BEGIN:VEVENT
DTSTART;TZID=America/New_York:20260408T080000
DTEND;TZID=America/New_York:20260408T090000
DTSTAMP:20260425T203732
CREATED:20260406T122049Z
LAST-MODIFIED:20260406T125304Z
UID:48208-1775635200-1775638800@clinicaltrials.rbhs.rutgers.edu
SUMMARY:RWJMS Department of Medicine Grand Rounds and Inaugural Robert J. Adler Memorial Lecture
DESCRIPTION:RWJMS Department of Medicine Grand Rounds and Inaugural Robert J. Adler Memorial Lecture-Genes\, Environment and Insulin Resistance in the Ever-Expanding Metabolic Syndrome\, C. Ronald Kahn\, MD\, Harvard Medical School. Clinical Academic Building Room 1302 or Join on Zoom. View Flyer
URL:https://clinicaltrials.rbhs.rutgers.edu/event/rwjms-department-of-medicine-grand-rounds-2/
LOCATION:Clinical Academic Building\, Room 1302\, 125 Paterson Street\, New Brunswick\, NJ\, 08901\, United States
END:VEVENT
BEGIN:VEVENT
DTSTART;TZID=America/New_York:20260407T140000
DTEND;TZID=America/New_York:20260407T153000
DTSTAMP:20260425T203732
CREATED:20260325T140214Z
LAST-MODIFIED:20260325T140214Z
UID:48144-1775570400-1775575800@clinicaltrials.rbhs.rutgers.edu
SUMMARY:Rutgers Princeton Center for Computational Cognitive Neuropsychiatry Seminar
DESCRIPTION:Rutgers Princeton Center for Computational Cognitive Neuropsychiatry Seminar–Using theory-based computational approaches to understand psychosis pathophysiology\, Albert Powers\, Yale Psychiatry. Psychology building on Busch (room 105)\, Piscataway. Register
URL:https://clinicaltrials.rbhs.rutgers.edu/event/rutgers-princeton-center-for-computational-cognitive-neuropsychiatry-seminar-121/
LOCATION:Psychology Building\, 152 Frelinghuysen Rd\, Piscataway\, New Jersey\, 08854
END:VEVENT
BEGIN:VEVENT
DTSTART;TZID=America/New_York:20260407T120000
DTEND;TZID=America/New_York:20260407T130000
DTSTAMP:20260425T203732
CREATED:20251125T152911Z
LAST-MODIFIED:20260406T120338Z
UID:46912-1775563200-1775566800@clinicaltrials.rbhs.rutgers.edu
SUMMARY:Child Health Institute Science Seminar
DESCRIPTION:Child Health Institute Science Seminar-Distinct interneuronal dynamics selectively gate target-specific cortical projections in drug seeking\, Byungkook Lim\, PhD\, UC San Diego. CHI room 3101 or Join on Zoom. Flyer
URL:https://clinicaltrials.rbhs.rutgers.edu/event/child-health-institute-science-seminar-11/
LOCATION:Child Health Institute\, Conference Room 3101\, 89 French Street\, New Brunswick\, NJ\, 08901\, United States
END:VEVENT
BEGIN:VEVENT
DTSTART;TZID=America/New_York:20260406T120000
DTEND;TZID=America/New_York:20260406T130000
DTSTAMP:20260425T203732
CREATED:20260406T122929Z
LAST-MODIFIED:20260406T122944Z
UID:48214-1775476800-1775480400@clinicaltrials.rbhs.rutgers.edu
SUMMARY:Trial Innovation Network Collaboration Webinar
DESCRIPTION:Trial Innovation Network Collaboration Webinar–Oracle-Cerner Powertrials and Integration with Clinical Trial Management Systems\, Saravanan Kanakasabai\, PhD\, Executive Director IIS Clinical Research Systems. Join Online
URL:https://clinicaltrials.rbhs.rutgers.edu/event/trial-innovation-network-collaboration-webinar-35/
END:VEVENT
BEGIN:VEVENT
DTSTART;TZID=America/New_York:20260406T120000
DTEND;TZID=America/New_York:20260406T130000
DTSTAMP:20260425T203732
CREATED:20260406T122640Z
LAST-MODIFIED:20260406T122640Z
UID:48212-1775476800-1775480400@clinicaltrials.rbhs.rutgers.edu
SUMMARY:RWJ Pharmacology Seminar Series
DESCRIPTION:RWJ Pharmacology Seminar Series-Chromatin Opening Drives Commitment to Senescence\, Gerardo Ferbeyre\, PhD\, Montreal Cancer Institute. Research Tower Room V12\, 675 Hoes Lane West\, Piscatway. Flyer 
URL:https://clinicaltrials.rbhs.rutgers.edu/event/rwj-pharmacology-seminar-series-2/
LOCATION:RWJMS Research Tower\, Dean’s Conference Room\, R102\, 675 Hoes Lane West\, Piscataway\, NJ\, United States
END:VEVENT
BEGIN:VEVENT
DTSTART;TZID=America/New_York:20260406T100000
DTEND;TZID=America/New_York:20260406T110000
DTSTAMP:20260425T203732
CREATED:20260323T134504Z
LAST-MODIFIED:20260323T134504Z
UID:48135-1775469600-1775473200@clinicaltrials.rbhs.rutgers.edu
SUMMARY:Princeton Professional Development Conference
DESCRIPTION:Princeton Professional Development Conference-Offering a full week of engaging keynote speakers\, skill-building workshops\, alumni panels\, and networking sessions\, the GradFUTURES Forum features dozens of online and in-person sessions with\nreal-time relevance to success in graduate school and a glimpse into a world of possibilities beyond. View Flyer\, and Learn More and Register
URL:https://clinicaltrials.rbhs.rutgers.edu/event/princeton-professional-development-conference-6/
END:VEVENT
END:VCALENDAR