BEGIN:VCALENDAR
VERSION:2.0
PRODID:-//New Jersey Alliance for Clinical and Translational Science - ECPv6.15.14//NONSGML v1.0//EN
CALSCALE:GREGORIAN
METHOD:PUBLISH
X-WR-CALNAME:New Jersey Alliance for Clinical and Translational Science
X-ORIGINAL-URL:https://clinicaltrials.rbhs.rutgers.edu
X-WR-CALDESC:Events for New Jersey Alliance for Clinical and Translational Science
REFRESH-INTERVAL;VALUE=DURATION:PT1H
X-Robots-Tag:noindex
X-PUBLISHED-TTL:PT1H
BEGIN:VTIMEZONE
TZID:America/New_York
BEGIN:DAYLIGHT
TZOFFSETFROM:-0500
TZOFFSETTO:-0400
TZNAME:EDT
DTSTART:20250309T070000
END:DAYLIGHT
BEGIN:STANDARD
TZOFFSETFROM:-0400
TZOFFSETTO:-0500
TZNAME:EST
DTSTART:20251102T060000
END:STANDARD
BEGIN:DAYLIGHT
TZOFFSETFROM:-0500
TZOFFSETTO:-0400
TZNAME:EDT
DTSTART:20260308T070000
END:DAYLIGHT
BEGIN:STANDARD
TZOFFSETFROM:-0400
TZOFFSETTO:-0500
TZNAME:EST
DTSTART:20261101T060000
END:STANDARD
BEGIN:DAYLIGHT
TZOFFSETFROM:-0500
TZOFFSETTO:-0400
TZNAME:EDT
DTSTART:20270314T070000
END:DAYLIGHT
BEGIN:STANDARD
TZOFFSETFROM:-0400
TZOFFSETTO:-0500
TZNAME:EST
DTSTART:20271107T060000
END:STANDARD
END:VTIMEZONE
BEGIN:VEVENT
DTSTART;TZID=America/New_York:20260506T090000
DTEND;TZID=America/New_York:20260506T170000
DTSTAMP:20260423T232238
CREATED:20260129T130256Z
LAST-MODIFIED:20260401T135453Z
UID:47503-1778058000-1778086800@clinicaltrials.rbhs.rutgers.edu
SUMMARY:National Symposium on Wildfires
DESCRIPTION:National Symposium on Wildfires–Wildfires and Their Impact on the Environment and Health\, opening remarks by the NIEHS Director. Virtual and in-person at Richard Weeks Hall of Engineering\, Rutgers Busch Campus\, Piscataway. Wildfires-Flyer and Visit the Website. 
URL:https://clinicaltrials.rbhs.rutgers.edu/event/national-symposium-on-wildfires/
LOCATION:Richard Weeks Hall of Engineering\, 500 Bartholomew Rd\, Piscataway\, New Jersey
END:VEVENT
BEGIN:VEVENT
DTSTART;TZID=America/New_York:20260506T160000
DTEND;TZID=America/New_York:20260506T170000
DTSTAMP:20260423T232238
CREATED:20260408T165802Z
LAST-MODIFIED:20260408T165802Z
UID:48274-1778083200-1778086800@clinicaltrials.rbhs.rutgers.edu
SUMMARY:2026 Morris-Inouye Lecture
DESCRIPTION:2026 Morris-Inouye Lecture–Gut Feelings:  Probing mechanisms of visceral pain\, David Julius\, PhD\, Nobel Laureate\, UCSF. Main Lecture Hall of Robert Wood Johnson Medical School in Piscataway. Flyer
URL:https://clinicaltrials.rbhs.rutgers.edu/event/2026-morris-inouye-lecture/
LOCATION:Robert Wood Johnson University Hospital\, New Brunswick\, NJ\, 08901\, United States
END:VEVENT
BEGIN:VEVENT
DTSTART;TZID=America/New_York:20260506T160000
DTEND;TZID=America/New_York:20260506T180000
DTSTAMP:20260423T232238
CREATED:20260319T140542Z
LAST-MODIFIED:20260319T140542Z
UID:48095-1778083200-1778090400@clinicaltrials.rbhs.rutgers.edu
SUMMARY:RWJMS Morris-Inouye Lecture Series
DESCRIPTION:RWJMS Morris-Inouye Lecture Series-TBD\, Keynote speaker David Julius\, PhD\, Nobel Laureate. RWJMS Main Lecture Hall\, 675 Hoes Lane West\, Piscataway. View Flyer
URL:https://clinicaltrials.rbhs.rutgers.edu/event/rwjms-morris-inouye-lecture-series/
LOCATION:RWJMS\, Main Lecture Hall\, 675 Hoes Lane West\, Piscataway\, NJ\, 08854\, United States
END:VEVENT
END:VCALENDAR