BEGIN:VCALENDAR
VERSION:2.0
PRODID:-//New Jersey Alliance for Clinical and Translational Science - ECPv6.15.14//NONSGML v1.0//EN
CALSCALE:GREGORIAN
METHOD:PUBLISH
X-WR-CALNAME:New Jersey Alliance for Clinical and Translational Science
X-ORIGINAL-URL:https://clinicaltrials.rbhs.rutgers.edu
X-WR-CALDESC:Events for New Jersey Alliance for Clinical and Translational Science
REFRESH-INTERVAL;VALUE=DURATION:PT1H
X-Robots-Tag:noindex
X-PUBLISHED-TTL:PT1H
BEGIN:VTIMEZONE
TZID:America/New_York
BEGIN:DAYLIGHT
TZOFFSETFROM:-0500
TZOFFSETTO:-0400
TZNAME:EDT
DTSTART:20250309T070000
END:DAYLIGHT
BEGIN:STANDARD
TZOFFSETFROM:-0400
TZOFFSETTO:-0500
TZNAME:EST
DTSTART:20251102T060000
END:STANDARD
BEGIN:DAYLIGHT
TZOFFSETFROM:-0500
TZOFFSETTO:-0400
TZNAME:EDT
DTSTART:20260308T070000
END:DAYLIGHT
BEGIN:STANDARD
TZOFFSETFROM:-0400
TZOFFSETTO:-0500
TZNAME:EST
DTSTART:20261101T060000
END:STANDARD
BEGIN:DAYLIGHT
TZOFFSETFROM:-0500
TZOFFSETTO:-0400
TZNAME:EDT
DTSTART:20270314T070000
END:DAYLIGHT
BEGIN:STANDARD
TZOFFSETFROM:-0400
TZOFFSETTO:-0500
TZNAME:EST
DTSTART:20271107T060000
END:STANDARD
END:VTIMEZONE
BEGIN:VEVENT
DTSTART;TZID=America/New_York:20260505T080000
DTEND;TZID=America/New_York:20260505T160000
DTSTAMP:20260420T063237
CREATED:20260415T150604Z
LAST-MODIFIED:20260415T150604Z
UID:48314-1777968000-1777996800@clinicaltrials.rbhs.rutgers.edu
SUMMARY:Drug Metabolism Group Spring Symposium and Vendor Exhibition
DESCRIPTION:Drug Metabolism Group Spring Symposium and Vendor Exhibition–How Obesity Therapeutics Are Influencing the Pharmaceutical Industry\, and Other Current Topics in Drug Development\, Introductory Remarks Matthew Hoffmann\, PhD\, Insmed\, Chair of NJDMDG. The Palace at Somerset Park\, 333 Davidson Ave\, Somerset. View Flyer and Read More and Register
URL:https://clinicaltrials.rbhs.rutgers.edu/event/drug-metabolism-group-spring-symposium-and-vendor-exhibition/
LOCATION:The Palace at Somerset Park\, 333 Davidson Road\, Somerset\, NJ\, 08904\, United States
END:VEVENT
BEGIN:VEVENT
DTSTART;TZID=America/New_York:20260505T080000
DTEND;TZID=America/New_York:20260505T173000
DTSTAMP:20260420T063237
CREATED:20260216T182904Z
LAST-MODIFIED:20260216T182904Z
UID:47690-1777968000-1778002200@clinicaltrials.rbhs.rutgers.edu
SUMMARY:Rutgers Institute for Tobacco Studies Training Event
DESCRIPTION:Rutgers Institute for Tobacco Studies Training Event-Tobacco Treatment Specialist Event. View Flyer
URL:https://clinicaltrials.rbhs.rutgers.edu/event/rutgers-institute-for-tobacco-studies-training-event-4/
END:VEVENT
BEGIN:VEVENT
DTSTART;TZID=America/New_York:20260505T120000
DTEND;TZID=America/New_York:20260505T160000
DTSTAMP:20260420T063237
CREATED:20260319T185929Z
LAST-MODIFIED:20260319T185929Z
UID:48107-1777982400-1777996800@clinicaltrials.rbhs.rutgers.edu
SUMMARY:Novus I-Corps at Rutgers: Busch Campus
DESCRIPTION:Novus I-Corps at Rutgers: Busch Campus-Introductory training/workshop/networking event to begin shifting the mindset from the science & technology to the people who benefit. In-person. Busch Student Center\, 185 Bevier Road\, Piscataway. Details and Register
URL:https://clinicaltrials.rbhs.rutgers.edu/event/novus-i-corps-at-rutgers-busch-campus/
LOCATION:Busch Student Center\, 604 Bartholomew Road\, Piscataway\, NJ\, 08854\, United States
END:VEVENT
BEGIN:VEVENT
DTSTART;TZID=America/New_York:20260505T123000
DTEND;TZID=America/New_York:20260505T153000
DTSTAMP:20260420T063237
CREATED:20260224T134240Z
LAST-MODIFIED:20260224T134240Z
UID:47764-1777984200-1777995000@clinicaltrials.rbhs.rutgers.edu
SUMMARY:Propelus I-Corps hosted by Princeton University
DESCRIPTION:Propelus I-Corps hosted by Princeton University-Our three-session Propelus program helps researchers explore the customer perspective to inform how a discovery or innovation can become the basis of a successful startup or venture. Virtual. Read More and Apply by April 7.
URL:https://clinicaltrials.rbhs.rutgers.edu/event/propelus-i-corps-hosted-by-princeton-university-5/
END:VEVENT
BEGIN:VEVENT
DTSTART;TZID=America/New_York:20260505T130000
DTEND;TZID=America/New_York:20260505T140000
DTSTAMP:20260420T063237
CREATED:20260225T175637Z
LAST-MODIFIED:20260225T175637Z
UID:47793-1777986000-1777989600@clinicaltrials.rbhs.rutgers.edu
SUMMARY:Springer Nature Seminar Series
DESCRIPTION:Springer Nature Seminar Series–What Peer Reviewers Really Look For. Register
URL:https://clinicaltrials.rbhs.rutgers.edu/event/springer-nature-seminar-series-3/
END:VEVENT
END:VCALENDAR