BEGIN:VCALENDAR
VERSION:2.0
PRODID:-//New Jersey Alliance for Clinical and Translational Science - ECPv6.15.14//NONSGML v1.0//EN
CALSCALE:GREGORIAN
METHOD:PUBLISH
X-WR-CALNAME:New Jersey Alliance for Clinical and Translational Science
X-ORIGINAL-URL:https://clinicaltrials.rbhs.rutgers.edu
X-WR-CALDESC:Events for New Jersey Alliance for Clinical and Translational Science
REFRESH-INTERVAL;VALUE=DURATION:PT1H
X-Robots-Tag:noindex
X-PUBLISHED-TTL:PT1H
BEGIN:VTIMEZONE
TZID:America/New_York
BEGIN:DAYLIGHT
TZOFFSETFROM:-0500
TZOFFSETTO:-0400
TZNAME:EDT
DTSTART:20240310T070000
END:DAYLIGHT
BEGIN:STANDARD
TZOFFSETFROM:-0400
TZOFFSETTO:-0500
TZNAME:EST
DTSTART:20241103T060000
END:STANDARD
BEGIN:DAYLIGHT
TZOFFSETFROM:-0500
TZOFFSETTO:-0400
TZNAME:EDT
DTSTART:20250309T070000
END:DAYLIGHT
BEGIN:STANDARD
TZOFFSETFROM:-0400
TZOFFSETTO:-0500
TZNAME:EST
DTSTART:20251102T060000
END:STANDARD
BEGIN:DAYLIGHT
TZOFFSETFROM:-0500
TZOFFSETTO:-0400
TZNAME:EDT
DTSTART:20260308T070000
END:DAYLIGHT
BEGIN:STANDARD
TZOFFSETFROM:-0400
TZOFFSETTO:-0500
TZNAME:EST
DTSTART:20261101T060000
END:STANDARD
END:VTIMEZONE
BEGIN:VEVENT
DTSTART;TZID=America/New_York:20251022T080000
DTEND;TZID=America/New_York:20251022T163000
DTSTAMP:20260420T013031
CREATED:20250916T131712Z
LAST-MODIFIED:20250916T131712Z
UID:46063-1761120000-1761150600@clinicaltrials.rbhs.rutgers.edu
SUMMARY:NCATS Eli Lilly Clinical Trial Bootcamp
DESCRIPTION:NCATS Eli Lilly Clinical Trial Bootcamp-A 5-day\, in-person immersive training program designed for Clinical Research Physicians and Scientists who are new to their role. Lilly Corporate Center\, Indianapolis. Read More and view the CTBC Agenda
URL:https://clinicaltrials.rbhs.rutgers.edu/event/ncats-eli-lilly-clinical-trial-bootcamp-3/
LOCATION:Lilly Corporate Center\, 893 S Delaware St\, Indianapolis\, IN
END:VEVENT
BEGIN:VEVENT
DTSTART;TZID=America/New_York:20251022T100000
DTEND;TZID=America/New_York:20251022T110000
DTSTAMP:20260420T013031
CREATED:20251015T160722Z
LAST-MODIFIED:20251015T160722Z
UID:46349-1761127200-1761130800@clinicaltrials.rbhs.rutgers.edu
SUMMARY:Rutgers Princeton Center for Computational Cognitive Neuropsychiatry Seminar
DESCRIPTION:Rutgers Princeton Center for Computational Cognitive Neuropsychiatry Seminar–Characterizing Risk for Worsening Psychosis Spectrum Symptoms in Youth\, Nicole Karcher\, Washington University School of Medicine. ccnp.princeton.edu
URL:https://clinicaltrials.rbhs.rutgers.edu/event/rutgers-princeton-center-for-computational-cognitive-neuropsychiatry-seminar-111/
END:VEVENT
BEGIN:VEVENT
DTSTART;TZID=America/New_York:20251022T170000
DTEND;TZID=America/New_York:20251022T193000
DTSTAMP:20260420T013031
CREATED:20250811T152909Z
LAST-MODIFIED:20250811T152909Z
UID:45641-1761152400-1761161400@clinicaltrials.rbhs.rutgers.edu
SUMMARY:Princeton Innovation 2025
DESCRIPTION:Princeton Innovation 2025-This annual public event features faculty innovators and discoveries that have the potential to become everyday innovations that improve life\, benefit the planet and grow the economy. Frick Chemistry Atrium\, Princeton University. Register.
URL:https://clinicaltrials.rbhs.rutgers.edu/event/princeton-innovation-2025/
LOCATION:Princeton University\, Frick Chemistry Building\, Princeton\, 08540
END:VEVENT
END:VCALENDAR