BEGIN:VCALENDAR
VERSION:2.0
PRODID:-//New Jersey Alliance for Clinical and Translational Science - ECPv6.15.14//NONSGML v1.0//EN
CALSCALE:GREGORIAN
METHOD:PUBLISH
X-WR-CALNAME:New Jersey Alliance for Clinical and Translational Science
X-ORIGINAL-URL:https://clinicaltrials.rbhs.rutgers.edu
X-WR-CALDESC:Events for New Jersey Alliance for Clinical and Translational Science
REFRESH-INTERVAL;VALUE=DURATION:PT1H
X-Robots-Tag:noindex
X-PUBLISHED-TTL:PT1H
BEGIN:VTIMEZONE
TZID:America/New_York
BEGIN:DAYLIGHT
TZOFFSETFROM:-0500
TZOFFSETTO:-0400
TZNAME:EDT
DTSTART:20240310T070000
END:DAYLIGHT
BEGIN:STANDARD
TZOFFSETFROM:-0400
TZOFFSETTO:-0500
TZNAME:EST
DTSTART:20241103T060000
END:STANDARD
BEGIN:DAYLIGHT
TZOFFSETFROM:-0500
TZOFFSETTO:-0400
TZNAME:EDT
DTSTART:20250309T070000
END:DAYLIGHT
BEGIN:STANDARD
TZOFFSETFROM:-0400
TZOFFSETTO:-0500
TZNAME:EST
DTSTART:20251102T060000
END:STANDARD
BEGIN:DAYLIGHT
TZOFFSETFROM:-0500
TZOFFSETTO:-0400
TZNAME:EDT
DTSTART:20260308T070000
END:DAYLIGHT
BEGIN:STANDARD
TZOFFSETFROM:-0400
TZOFFSETTO:-0500
TZNAME:EST
DTSTART:20261101T060000
END:STANDARD
END:VTIMEZONE
BEGIN:VEVENT
DTSTART;TZID=America/New_York:20251013T130000
DTEND;TZID=America/New_York:20251013T140000
DTSTAMP:20260420T155422
CREATED:20250715T122209Z
LAST-MODIFIED:20250715T122209Z
UID:45223-1760360400-1760364000@clinicaltrials.rbhs.rutgers.edu
SUMMARY:NJ ACTS Workforce Development Core NIH Fellowship Grant Writing Workshop
DESCRIPTION:NJ ACTS Workforce Development Core NIH Fellowship Grant Writing Workshop-Under the guidance of a Grant Writing Coach\, construct your NIH fellowship application this Fall. View Flyer and Register by August 25th.
URL:https://clinicaltrials.rbhs.rutgers.edu/event/nj-acts-workforce-development-core-nih-fellowship-grant-writing-workshop-6/
END:VEVENT
BEGIN:VEVENT
DTSTART;TZID=America/New_York:20251013T130000
DTEND;TZID=America/New_York:20251013T140000
DTSTAMP:20260420T155422
CREATED:20250922T151802Z
LAST-MODIFIED:20250922T151802Z
UID:46176-1760360400-1760364000@clinicaltrials.rbhs.rutgers.edu
SUMMARY:Child Health Institute Special Seminar
DESCRIPTION:Child Health Institute Special Seminar-Neuroimmune Interaction: How Microglia Sense and Regulate Neuronal Activity\, LongJun Wu\, PhD\, University of Texas Health Science Center at Houston. CHI 3101\, 89 French Street\, New Brunswick or on Zoom. FLYER
URL:https://clinicaltrials.rbhs.rutgers.edu/event/child-health-institute-special-seminar-2/
LOCATION:Child Health Institute\, Conference Room 3101\, 89 French Street\, New Brunswick\, NJ\, 08901\, United States
END:VEVENT
END:VCALENDAR