BEGIN:VCALENDAR
VERSION:2.0
PRODID:-//New Jersey Alliance for Clinical and Translational Science - ECPv6.15.14//NONSGML v1.0//EN
CALSCALE:GREGORIAN
METHOD:PUBLISH
X-WR-CALNAME:New Jersey Alliance for Clinical and Translational Science
X-ORIGINAL-URL:https://clinicaltrials.rbhs.rutgers.edu
X-WR-CALDESC:Events for New Jersey Alliance for Clinical and Translational Science
REFRESH-INTERVAL;VALUE=DURATION:PT1H
X-Robots-Tag:noindex
X-PUBLISHED-TTL:PT1H
BEGIN:VTIMEZONE
TZID:America/New_York
BEGIN:DAYLIGHT
TZOFFSETFROM:-0500
TZOFFSETTO:-0400
TZNAME:EDT
DTSTART:20240310T070000
END:DAYLIGHT
BEGIN:STANDARD
TZOFFSETFROM:-0400
TZOFFSETTO:-0500
TZNAME:EST
DTSTART:20241103T060000
END:STANDARD
BEGIN:DAYLIGHT
TZOFFSETFROM:-0500
TZOFFSETTO:-0400
TZNAME:EDT
DTSTART:20250309T070000
END:DAYLIGHT
BEGIN:STANDARD
TZOFFSETFROM:-0400
TZOFFSETTO:-0500
TZNAME:EST
DTSTART:20251102T060000
END:STANDARD
BEGIN:DAYLIGHT
TZOFFSETFROM:-0500
TZOFFSETTO:-0400
TZNAME:EDT
DTSTART:20260308T070000
END:DAYLIGHT
BEGIN:STANDARD
TZOFFSETFROM:-0400
TZOFFSETTO:-0500
TZNAME:EST
DTSTART:20261101T060000
END:STANDARD
END:VTIMEZONE
BEGIN:VEVENT
DTSTART;TZID=America/New_York:20250708T090000
DTEND;TZID=America/New_York:20250708T150000
DTSTAMP:20260419T081702
CREATED:20250616T163415Z
LAST-MODIFIED:20250616T163415Z
UID:45058-1751965200-1751986800@clinicaltrials.rbhs.rutgers.edu
SUMMARY:Weill Cornell-Rutgers Health NeuroHIV Research Symposium II
DESCRIPTION:Weill Cornell-Rutgers Health NeuroHIV Research Symposium II-Understanding the intersection of HIV and the central nervous system and Developing transformative therapies and a potential cure\, Tricia Burdo\, Rutgers and Lishomwa Ndhlovu\, Weill Cornell. Flyer and Register
URL:https://clinicaltrials.rbhs.rutgers.edu/event/weill-cornell-rutgers-health-neurohiv-research-symposium-ii/
LOCATION:Weill Cornell\, BB302-A\, BB 302-B\, 439 East 69th Street\, New York\, New York\, 10021
END:VEVENT
END:VCALENDAR