BEGIN:VCALENDAR
VERSION:2.0
PRODID:-//New Jersey Alliance for Clinical and Translational Science - ECPv6.15.14//NONSGML v1.0//EN
CALSCALE:GREGORIAN
METHOD:PUBLISH
X-WR-CALNAME:New Jersey Alliance for Clinical and Translational Science
X-ORIGINAL-URL:https://clinicaltrials.rbhs.rutgers.edu
X-WR-CALDESC:Events for New Jersey Alliance for Clinical and Translational Science
REFRESH-INTERVAL;VALUE=DURATION:PT1H
X-Robots-Tag:noindex
X-PUBLISHED-TTL:PT1H
BEGIN:VTIMEZONE
TZID:America/New_York
BEGIN:DAYLIGHT
TZOFFSETFROM:-0500
TZOFFSETTO:-0400
TZNAME:EDT
DTSTART:20230312T070000
END:DAYLIGHT
BEGIN:STANDARD
TZOFFSETFROM:-0400
TZOFFSETTO:-0500
TZNAME:EST
DTSTART:20231105T060000
END:STANDARD
BEGIN:DAYLIGHT
TZOFFSETFROM:-0500
TZOFFSETTO:-0400
TZNAME:EDT
DTSTART:20240310T070000
END:DAYLIGHT
BEGIN:STANDARD
TZOFFSETFROM:-0400
TZOFFSETTO:-0500
TZNAME:EST
DTSTART:20241103T060000
END:STANDARD
BEGIN:DAYLIGHT
TZOFFSETFROM:-0500
TZOFFSETTO:-0400
TZNAME:EDT
DTSTART:20250309T070000
END:DAYLIGHT
BEGIN:STANDARD
TZOFFSETFROM:-0400
TZOFFSETTO:-0500
TZNAME:EST
DTSTART:20251102T060000
END:STANDARD
END:VTIMEZONE
BEGIN:VEVENT
DTSTART;TZID=America/New_York:20241206T120000
DTEND;TZID=America/New_York:20241206T130000
DTSTAMP:20260421T012400
CREATED:20241120T173053Z
LAST-MODIFIED:20241120T173053Z
UID:42469-1733486400-1733490000@clinicaltrials.rbhs.rutgers.edu
SUMMARY:Princeton Precision Health 2024 Seminar Series
DESCRIPTION:Princeton Precision Health 2024 Seminar Series-Future Toilets: A behavior- and health-centered architectural reinvention of publicly accessible toilets as healthcare infrastructures\, Chukwuemeka V. Chukwuemeka\, PhD\, Princeton. 252 Nassau Street\, Princeton.
URL:https://clinicaltrials.rbhs.rutgers.edu/event/princeton-precision-health-2024-seminar-series-6/
LOCATION:Princeton University\, 252 Nassau Street\, Princeton\, NJ\, 08544\, United States
END:VEVENT
END:VCALENDAR