BEGIN:VCALENDAR
VERSION:2.0
PRODID:-//New Jersey Alliance for Clinical and Translational Science - ECPv6.15.14//NONSGML v1.0//EN
CALSCALE:GREGORIAN
METHOD:PUBLISH
X-WR-CALNAME:New Jersey Alliance for Clinical and Translational Science
X-ORIGINAL-URL:https://clinicaltrials.rbhs.rutgers.edu
X-WR-CALDESC:Events for New Jersey Alliance for Clinical and Translational Science
REFRESH-INTERVAL;VALUE=DURATION:PT1H
X-Robots-Tag:noindex
X-PUBLISHED-TTL:PT1H
BEGIN:VTIMEZONE
TZID:UTC
BEGIN:STANDARD
TZOFFSETFROM:+0000
TZOFFSETTO:+0000
TZNAME:UTC
DTSTART:20230101T000000
END:STANDARD
END:VTIMEZONE
BEGIN:VTIMEZONE
TZID:America/New_York
BEGIN:DAYLIGHT
TZOFFSETFROM:-0500
TZOFFSETTO:-0400
TZNAME:EDT
DTSTART:20230312T070000
END:DAYLIGHT
BEGIN:STANDARD
TZOFFSETFROM:-0400
TZOFFSETTO:-0500
TZNAME:EST
DTSTART:20231105T060000
END:STANDARD
BEGIN:DAYLIGHT
TZOFFSETFROM:-0500
TZOFFSETTO:-0400
TZNAME:EDT
DTSTART:20240310T070000
END:DAYLIGHT
BEGIN:STANDARD
TZOFFSETFROM:-0400
TZOFFSETTO:-0500
TZNAME:EST
DTSTART:20241103T060000
END:STANDARD
BEGIN:DAYLIGHT
TZOFFSETFROM:-0500
TZOFFSETTO:-0400
TZNAME:EDT
DTSTART:20250309T070000
END:DAYLIGHT
BEGIN:STANDARD
TZOFFSETFROM:-0400
TZOFFSETTO:-0500
TZNAME:EST
DTSTART:20251102T060000
END:STANDARD
END:VTIMEZONE
BEGIN:VEVENT
DTSTART;TZID=UTC:20241205T120000
DTEND;TZID=UTC:20241205T130000
DTSTAMP:20260425T203725
CREATED:20240725T203925Z
LAST-MODIFIED:20240725T203925Z
UID:41172-1733400000-1733403600@clinicaltrials.rbhs.rutgers.edu
SUMMARY:NSF I-Corps Teams Information Session
DESCRIPTION:NSF I-Corps Teams Information Session-Teams program is an intensive 7-week boot camp that covers key concepts related to testing and building a business model. Tune into a webinar to ask an I-Corps director questions about the national I-Corps Teams program\, and learn about the curriculum and important dates. Register
URL:https://clinicaltrials.rbhs.rutgers.edu/event/nsf-i-corps-teams-information-session-5/
END:VEVENT
BEGIN:VEVENT
DTSTART;TZID=America/New_York:20241205T120000
DTEND;TZID=America/New_York:20241205T133000
DTSTAMP:20260425T203725
CREATED:20241118T131520Z
LAST-MODIFIED:20241118T131520Z
UID:42435-1733400000-1733405400@clinicaltrials.rbhs.rutgers.edu
SUMMARY:Rutgers Health Equity Fundamentals Virtual Workshop
DESCRIPTION:Rutgers Health Equity Fundamentals Virtual Workshop–Fostering Inclusive Environments\, Kaylin Padovano\, Director of Diversity Education Outreach. View Flyer and Register
URL:https://clinicaltrials.rbhs.rutgers.edu/event/rutgers-health-equity-fundamentals-virtual-workshop/
END:VEVENT
END:VCALENDAR