BEGIN:VCALENDAR
VERSION:2.0
PRODID:-//New Jersey Alliance for Clinical and Translational Science - ECPv6.15.14//NONSGML v1.0//EN
CALSCALE:GREGORIAN
METHOD:PUBLISH
X-WR-CALNAME:New Jersey Alliance for Clinical and Translational Science
X-ORIGINAL-URL:https://clinicaltrials.rbhs.rutgers.edu
X-WR-CALDESC:Events for New Jersey Alliance for Clinical and Translational Science
REFRESH-INTERVAL;VALUE=DURATION:PT1H
X-Robots-Tag:noindex
X-PUBLISHED-TTL:PT1H
BEGIN:VTIMEZONE
TZID:UTC
BEGIN:STANDARD
TZOFFSETFROM:+0000
TZOFFSETTO:+0000
TZNAME:UTC
DTSTART:20230101T000000
END:STANDARD
END:VTIMEZONE
BEGIN:VEVENT
DTSTART;TZID=UTC:20241025T090000
DTEND;TZID=UTC:20241025T123000
DTSTAMP:20260425T203729
CREATED:20240619T173016Z
LAST-MODIFIED:20240808T193612Z
UID:40685-1729846800-1729859400@clinicaltrials.rbhs.rutgers.edu
SUMMARY:NJ ACTS Regulatory Knowledge Workshop
DESCRIPTION:NJ ACTS Regulatory Knowledge Workshop-Translational Workshop. Child Health Institute\, 89 French Street\, Room 3101\, New Brunswick. View Full Agenda and Register Here
URL:https://clinicaltrials.rbhs.rutgers.edu/event/nj-acts-regulatory-core-workshop/
LOCATION:Child Health Institute\, Conference Room 3101\, 89 French Street\, New Brunswick\, NJ\, 08901\, United States
END:VEVENT
BEGIN:VEVENT
DTSTART;TZID=UTC:20241025T093000
DTEND;TZID=UTC:20241025T123000
DTSTAMP:20260425T203729
CREATED:20240725T195210Z
LAST-MODIFIED:20240725T195210Z
UID:41156-1729848600-1729859400@clinicaltrials.rbhs.rutgers.edu
SUMMARY:Propelus I-Corps Artificial Intelligence Theme
DESCRIPTION:Propelus I-Corps Artificial Intelligence Theme-Find out what impact your research or innovation could have in solving real-world problems by attending the Novus I-Corps program\, a half-day introduction to I-Corps. Hosted by Princeton University. Virtual. Register Here.
URL:https://clinicaltrials.rbhs.rutgers.edu/event/propelus-i-corps-artificial-intelligence-theme-2/
END:VEVENT
BEGIN:VEVENT
DTSTART;TZID=UTC:20241025T173000
DTEND;TZID=UTC:20241025T233000
DTSTAMP:20260425T203729
CREATED:20241001T200559Z
LAST-MODIFIED:20241001T200559Z
UID:41664-1729877400-1729899000@clinicaltrials.rbhs.rutgers.edu
SUMMARY:Rutgers Health Hack 2024
DESCRIPTION:Rutgers Health Hack 2024-This exciting event brings together students\, postdocs\, young professionals\, healthcare experts\, and tech enthusiasts interested in innovation\, digital solutions\, and health systems to tackle pressing healthcare challenges. Rutgers Health and RWJUH. Clinical Academic Building\, 125 Paterson Street\, New Brunswick. View Website at Healthcare Hackathon and Register
URL:https://clinicaltrials.rbhs.rutgers.edu/event/rutgers-health-hack-2024/
LOCATION:Clinical Academic Building\, Room 3403\, 125 Paterson Street\, New Brunswick\, NJ\, 08901\, United States
END:VEVENT
END:VCALENDAR