BEGIN:VCALENDAR
VERSION:2.0
PRODID:-//New Jersey Alliance for Clinical and Translational Science - ECPv6.15.14//NONSGML v1.0//EN
CALSCALE:GREGORIAN
METHOD:PUBLISH
X-WR-CALNAME:New Jersey Alliance for Clinical and Translational Science
X-ORIGINAL-URL:https://clinicaltrials.rbhs.rutgers.edu
X-WR-CALDESC:Events for New Jersey Alliance for Clinical and Translational Science
REFRESH-INTERVAL;VALUE=DURATION:PT1H
X-Robots-Tag:noindex
X-PUBLISHED-TTL:PT1H
BEGIN:VTIMEZONE
TZID:UTC
BEGIN:STANDARD
TZOFFSETFROM:+0000
TZOFFSETTO:+0000
TZNAME:UTC
DTSTART:20230101T000000
END:STANDARD
END:VTIMEZONE
BEGIN:VEVENT
DTSTART;TZID=UTC:20241023T100000
DTEND;TZID=UTC:20241023T110000
DTSTAMP:20260420T130200
CREATED:20241016T180638Z
LAST-MODIFIED:20241016T180638Z
UID:41926-1729677600-1729681200@clinicaltrials.rbhs.rutgers.edu
SUMMARY:Rutgers Princeton Center for Computational Cognitive Neuropsychiatry Seminar
DESCRIPTION:Rutgers Princeton Center for Computational Cognitive Neuropsychiatry Seminar–Characterizing social knowledge representations and their role in social learning across clinical and non-clinical groups\, Gabriela Rosenblau\, George Washington University. ccnp.princeton.edu.
URL:https://clinicaltrials.rbhs.rutgers.edu/event/rutgers-princeton-center-for-computational-cognitive-neuropsychiatry-seminar-93/
END:VEVENT
END:VCALENDAR