BEGIN:VCALENDAR
VERSION:2.0
PRODID:-//New Jersey Alliance for Clinical and Translational Science - ECPv6.15.14//NONSGML v1.0//EN
CALSCALE:GREGORIAN
METHOD:PUBLISH
X-WR-CALNAME:New Jersey Alliance for Clinical and Translational Science
X-ORIGINAL-URL:https://clinicaltrials.rbhs.rutgers.edu
X-WR-CALDESC:Events for New Jersey Alliance for Clinical and Translational Science
REFRESH-INTERVAL;VALUE=DURATION:PT1H
X-Robots-Tag:noindex
X-PUBLISHED-TTL:PT1H
BEGIN:VTIMEZONE
TZID:UTC
BEGIN:STANDARD
TZOFFSETFROM:+0000
TZOFFSETTO:+0000
TZNAME:UTC
DTSTART:20230101T000000
END:STANDARD
END:VTIMEZONE
BEGIN:VEVENT
DTSTART;TZID=UTC:20241017T093000
DTEND;TZID=UTC:20241017T123000
DTSTAMP:20260419T234300
CREATED:20240725T193934Z
LAST-MODIFIED:20240725T193934Z
UID:41149-1729157400-1729168200@clinicaltrials.rbhs.rutgers.edu
SUMMARY:Propelus I-Corps - Regional Fall
DESCRIPTION:Propelus I-Corps – Regional Fall–Propelus I-Corps is a program designed for research teams with a technology innovation to explore how their discovery can help potential customers and meet industry needs as a startup or venture. Propelus is open to innovators from across the Northeast. University affiliation is not required. Virtual. Register Here.
URL:https://clinicaltrials.rbhs.rutgers.edu/event/propelus-i-corps-regional-fall-3/
END:VEVENT
END:VCALENDAR