BEGIN:VCALENDAR
VERSION:2.0
PRODID:-//New Jersey Alliance for Clinical and Translational Science - ECPv6.15.14//NONSGML v1.0//EN
CALSCALE:GREGORIAN
METHOD:PUBLISH
X-WR-CALNAME:New Jersey Alliance for Clinical and Translational Science
X-ORIGINAL-URL:https://clinicaltrials.rbhs.rutgers.edu
X-WR-CALDESC:Events for New Jersey Alliance for Clinical and Translational Science
REFRESH-INTERVAL;VALUE=DURATION:PT1H
X-Robots-Tag:noindex
X-PUBLISHED-TTL:PT1H
BEGIN:VTIMEZONE
TZID:UTC
BEGIN:STANDARD
TZOFFSETFROM:+0000
TZOFFSETTO:+0000
TZNAME:UTC
DTSTART:20230101T000000
END:STANDARD
END:VTIMEZONE
BEGIN:VEVENT
DTSTART;TZID=UTC:20241007T080000
DTEND;TZID=UTC:20241007T170000
DTSTAMP:20260419T182021
CREATED:20241007T222727Z
LAST-MODIFIED:20241007T222727Z
UID:41724-1728288000-1728320400@clinicaltrials.rbhs.rutgers.edu
SUMMARY:Princeton Precision Health Seminar
DESCRIPTION:Princeton Precision Health Seminar-The Pandemic: Science\, Policy and Trust\, Zeynep Tufekci\, Princeton. 252 Nassau Street\, Princeton\, NJ. View Flyer
URL:https://clinicaltrials.rbhs.rutgers.edu/event/princeton-precision-health-seminar/
LOCATION:Princeton University\, 252 Nassau Street\, Princeton\, NJ\, 08544\, United States
END:VEVENT
BEGIN:VEVENT
DTSTART;TZID=UTC:20241007T093000
DTEND;TZID=UTC:20241007T123000
DTSTAMP:20260419T182021
CREATED:20240725T193747Z
LAST-MODIFIED:20240725T193747Z
UID:41145-1728293400-1728304200@clinicaltrials.rbhs.rutgers.edu
SUMMARY:Propelus I-Corps - Regional Fall
DESCRIPTION:Propelus I-Corps – Regional Fall–Propelus I-Corps is a program designed for research teams with a technology innovation to explore how their discovery can help potential customers and meet industry needs as a startup or venture. Propelus is open to innovators from across the Northeast. University affiliation is not required. Virtual. Register Here.
URL:https://clinicaltrials.rbhs.rutgers.edu/event/propelus-i-corps-regional-fall/
END:VEVENT
BEGIN:VEVENT
DTSTART;TZID=UTC:20241007T120000
DTEND;TZID=UTC:20241007T130000
DTSTAMP:20260419T182021
CREATED:20240725T193021Z
LAST-MODIFIED:20240725T193021Z
UID:41141-1728302400-1728306000@clinicaltrials.rbhs.rutgers.edu
SUMMARY:Trial Innovation Network Collaboration Webinar
DESCRIPTION:Trial Innovation Network Collaboration Webinar-A Mobile Device URL IRL: Innovating Multisite Study Recruitment with the Clinician Study “App” with Jodie Cohen\, MA\, CCRP. Register here
URL:https://clinicaltrials.rbhs.rutgers.edu/event/trial-innovation-network-collaboration-webinar-11/
END:VEVENT
BEGIN:VEVENT
DTSTART;TZID=UTC:20241007T130000
DTEND;TZID=UTC:20241007T140000
DTSTAMP:20260419T182021
CREATED:20240819T192913Z
LAST-MODIFIED:20240819T192913Z
UID:41429-1728306000-1728309600@clinicaltrials.rbhs.rutgers.edu
SUMMARY:NJ ACTS Workforce Development NIH Fellowship Writing Group
DESCRIPTION:NJ ACTS Workforce Development NIH Fellowship Writing Group-Under the guidance of a Grant Writing Coach\, construct your NIH fellowship application this Fall. Virtual. View Flyer and Register
URL:https://clinicaltrials.rbhs.rutgers.edu/event/nj-acts-workforce-development-nih-fellowship-writing-group-5/
END:VEVENT
BEGIN:VEVENT
DTSTART;TZID=UTC:20241007T180000
DTEND;TZID=UTC:20241007T190000
DTSTAMP:20260419T182021
CREATED:20240930T201635Z
LAST-MODIFIED:20240930T201635Z
UID:41642-1728324000-1728327600@clinicaltrials.rbhs.rutgers.edu
SUMMARY:Master of Science in Clinical Research Management Virtual Info Session
DESCRIPTION:Master of Science in Clinical Research Management Virtual Info Session-Three tracks: Clinical Research Management\, Academic Clinical Research Management\, and Drug Safety and Pharmacovigilance. At the event\, you will have the chance to learn about the application process and talk directly to the CRM Program Director and SHP Admissions. Register
URL:https://clinicaltrials.rbhs.rutgers.edu/event/master-of-science-in-clinical-research-management-virtual-info-session-2/
END:VEVENT
END:VCALENDAR