BEGIN:VCALENDAR
VERSION:2.0
PRODID:-//New Jersey Alliance for Clinical and Translational Science - ECPv6.15.14//NONSGML v1.0//EN
CALSCALE:GREGORIAN
METHOD:PUBLISH
X-WR-CALNAME:New Jersey Alliance for Clinical and Translational Science
X-ORIGINAL-URL:https://clinicaltrials.rbhs.rutgers.edu
X-WR-CALDESC:Events for New Jersey Alliance for Clinical and Translational Science
REFRESH-INTERVAL;VALUE=DURATION:PT1H
X-Robots-Tag:noindex
X-PUBLISHED-TTL:PT1H
BEGIN:VTIMEZONE
TZID:UTC
BEGIN:STANDARD
TZOFFSETFROM:+0000
TZOFFSETTO:+0000
TZNAME:UTC
DTSTART:20230101T000000
END:STANDARD
END:VTIMEZONE
BEGIN:VEVENT
DTSTART;TZID=UTC:20240815T150000
DTEND;TZID=UTC:20240815T160000
DTSTAMP:20260421T032220
CREATED:20240812T200747Z
LAST-MODIFIED:20240812T200747Z
UID:41379-1723734000-1723737600@clinicaltrials.rbhs.rutgers.edu
SUMMARY:CINJ Hybrid Lecture
DESCRIPTION:CINJ Hybrid Lecture-Moving the Needle in Lung and GI Cancers: Forging Combinatorial Therapeutic Approaches\, Salma Jabbour\, MD. Director’s Boardroom\, 2003 or Join Zoom Meeting.
URL:https://clinicaltrials.rbhs.rutgers.edu/event/cinj-hybrid-lecture/
LOCATION:Rutgers Cancer Institute of New Jersey\, Room 2003\, 195 Little Albany St\, New Brunswick\, NJ\, 08901\, United States
END:VEVENT
END:VCALENDAR