BEGIN:VCALENDAR
VERSION:2.0
PRODID:-//New Jersey Alliance for Clinical and Translational Science - ECPv6.15.14//NONSGML v1.0//EN
CALSCALE:GREGORIAN
METHOD:PUBLISH
X-WR-CALNAME:New Jersey Alliance for Clinical and Translational Science
X-ORIGINAL-URL:https://clinicaltrials.rbhs.rutgers.edu
X-WR-CALDESC:Events for New Jersey Alliance for Clinical and Translational Science
REFRESH-INTERVAL;VALUE=DURATION:PT1H
X-Robots-Tag:noindex
X-PUBLISHED-TTL:PT1H
BEGIN:VTIMEZONE
TZID:UTC
BEGIN:STANDARD
TZOFFSETFROM:+0000
TZOFFSETTO:+0000
TZNAME:UTC
DTSTART:20230101T000000
END:STANDARD
END:VTIMEZONE
BEGIN:VEVENT
DTSTART;TZID=UTC:20240725T100000
DTEND;TZID=UTC:20240725T140000
DTSTAMP:20260420T183422
CREATED:20240624T183506Z
LAST-MODIFIED:20240624T183506Z
UID:40714-1721901600-1721916000@clinicaltrials.rbhs.rutgers.edu
SUMMARY:NJ ACTS Workforce Core Python Workshop
DESCRIPTION:NJ ACTS Workforce Core Python Workshop-Machine Learning with Python (Advanced)\, Dantong Yu\, PhD\, NJIT. Review Course Description and View Flyer. Machine Learning with Python Professional Training document with links and Register Here. 
URL:https://clinicaltrials.rbhs.rutgers.edu/event/nj-acts-workforce-core-python-workshop-2/
END:VEVENT
END:VCALENDAR