BEGIN:VCALENDAR
VERSION:2.0
PRODID:-//New Jersey Alliance for Clinical and Translational Science - ECPv6.15.14//NONSGML v1.0//EN
CALSCALE:GREGORIAN
METHOD:PUBLISH
X-WR-CALNAME:New Jersey Alliance for Clinical and Translational Science
X-ORIGINAL-URL:https://clinicaltrials.rbhs.rutgers.edu
X-WR-CALDESC:Events for New Jersey Alliance for Clinical and Translational Science
REFRESH-INTERVAL;VALUE=DURATION:PT1H
X-Robots-Tag:noindex
X-PUBLISHED-TTL:PT1H
BEGIN:VTIMEZONE
TZID:UTC
BEGIN:STANDARD
TZOFFSETFROM:+0000
TZOFFSETTO:+0000
TZNAME:UTC
DTSTART:20230101T000000
END:STANDARD
END:VTIMEZONE
BEGIN:VEVENT
DTSTART;TZID=UTC:20240529T100000
DTEND;TZID=UTC:20240529T110000
DTSTAMP:20260420T080517
CREATED:20240528T172412Z
LAST-MODIFIED:20240528T172412Z
UID:40499-1716976800-1716980400@clinicaltrials.rbhs.rutgers.edu
SUMMARY:Rutgers Princeton Center for Computational Cognitive Neuropsychiatry Seminar
DESCRIPTION:Rutgers Princeton Center for Computational Cognitive Neuropsychiatry Seminar-Perceptual Control Theory as a Framework for Computational Psychiatry\, Warren Mansell\, Curtin University\, Perth. ccnp.princeton.edu
URL:https://clinicaltrials.rbhs.rutgers.edu/event/rutgers-princeton-center-for-computational-cognitive-neuropsychiatry-seminar-86/
END:VEVENT
BEGIN:VEVENT
DTSTART;TZID=UTC:20240529T120000
DTEND;TZID=UTC:20240529T130000
DTSTAMP:20260420T080517
CREATED:20240529T201402Z
LAST-MODIFIED:20240529T201402Z
UID:40510-1716984000-1716987600@clinicaltrials.rbhs.rutgers.edu
SUMMARY:CINJ Trainee Seminar Series
DESCRIPTION:CINJ Trainee Seminar Series-Modulation o f Epithelial Ovarian Cancer Anti-Tumor Immunity by a Novel Cancer Cell-Intrinsic Stress Regulator\, Elaheh Hosseini\, Rutgers. View Flyer
URL:https://clinicaltrials.rbhs.rutgers.edu/event/cinj-trainee-seminar-series-67/
LOCATION:Rutgers Cancer Institute\, Auditorium B\, 1st Floor\, 195 Little Albany Street\, New Brunswick\, NJ\, 08901\, United States
END:VEVENT
END:VCALENDAR