BEGIN:VCALENDAR
VERSION:2.0
PRODID:-//New Jersey Alliance for Clinical and Translational Science - ECPv6.15.14//NONSGML v1.0//EN
CALSCALE:GREGORIAN
METHOD:PUBLISH
X-WR-CALNAME:New Jersey Alliance for Clinical and Translational Science
X-ORIGINAL-URL:https://clinicaltrials.rbhs.rutgers.edu
X-WR-CALDESC:Events for New Jersey Alliance for Clinical and Translational Science
REFRESH-INTERVAL;VALUE=DURATION:PT1H
X-Robots-Tag:noindex
X-PUBLISHED-TTL:PT1H
BEGIN:VTIMEZONE
TZID:UTC
BEGIN:STANDARD
TZOFFSETFROM:+0000
TZOFFSETTO:+0000
TZNAME:UTC
DTSTART:20230101T000000
END:STANDARD
END:VTIMEZONE
BEGIN:VEVENT
DTSTART;TZID=UTC:20240528T103000
DTEND;TZID=UTC:20240528T113000
DTSTAMP:20260420T082036
CREATED:20240522T183120Z
LAST-MODIFIED:20240522T183120Z
UID:40465-1716892200-1716895800@clinicaltrials.rbhs.rutgers.edu
SUMMARY:Child Health Institute Science Seminar Series
DESCRIPTION:Child Health Institute Science Seminar Series-Modulation of neural circuit organization shaped by synaptic suppressors\, Jaewon Ko\, PhD\, Daegu Gyeongbuk Institute of Science and Technology (DGIST) South Korea. Child Health Institute\, Room 3209\, New Brunswick. View Flyer
URL:https://clinicaltrials.rbhs.rutgers.edu/event/child-health-institute-science-seminar-series-27/
LOCATION:Child Health Institute\, Room 3209\, 89 French Street\, New Brunswick\, 08901\, United States
END:VEVENT
END:VCALENDAR