BEGIN:VCALENDAR
VERSION:2.0
PRODID:-//New Jersey Alliance for Clinical and Translational Science - ECPv6.15.14//NONSGML v1.0//EN
CALSCALE:GREGORIAN
METHOD:PUBLISH
X-ORIGINAL-URL:https://clinicaltrials.rbhs.rutgers.edu
X-WR-CALDESC:Events for New Jersey Alliance for Clinical and Translational Science
REFRESH-INTERVAL;VALUE=DURATION:PT1H
X-Robots-Tag:noindex
X-PUBLISHED-TTL:PT1H
BEGIN:VTIMEZONE
TZID:UTC
BEGIN:STANDARD
TZOFFSETFROM:+0000
TZOFFSETTO:+0000
TZNAME:UTC
DTSTART:20230101T000000
END:STANDARD
END:VTIMEZONE
BEGIN:VEVENT
DTSTART;TZID=UTC:20240511T093000
DTEND;TZID=UTC:20240511T150000
DTSTAMP:20260424T075744
CREATED:20240502T190918Z
LAST-MODIFIED:20240502T190918Z
UID:40207-1715419800-1715439600@clinicaltrials.rbhs.rutgers.edu
SUMMARY:National Alliance of Mental Illness (NAMI) NJ Mental Health Conference
DESCRIPTION:National Alliance of Mental Illness (NAMI) NJ Mental Health Conference-United to Heal in Community. Explore mental health care and support. Spanish sessions available. Blanquita B. Valenti CommunitySchool\, 50 Jersey Avenue\, New Brunswick. See the attached flyer for registration.
URL:https://clinicaltrials.rbhs.rutgers.edu/event/national-alliance-of-mental-illness-nami-nj-mental-health-conference/
LOCATION:Blanquita B. Valenti Community School\, 50 Jersey Avenue\, New Brunswick\, NJ\, 08901\, United States
END:VEVENT
END:VCALENDAR