BEGIN:VCALENDAR
VERSION:2.0
PRODID:-//New Jersey Alliance for Clinical and Translational Science - ECPv6.15.14//NONSGML v1.0//EN
CALSCALE:GREGORIAN
METHOD:PUBLISH
X-WR-CALNAME:New Jersey Alliance for Clinical and Translational Science
X-ORIGINAL-URL:https://clinicaltrials.rbhs.rutgers.edu
X-WR-CALDESC:Events for New Jersey Alliance for Clinical and Translational Science
REFRESH-INTERVAL;VALUE=DURATION:PT1H
X-Robots-Tag:noindex
X-PUBLISHED-TTL:PT1H
BEGIN:VTIMEZONE
TZID:UTC
BEGIN:STANDARD
TZOFFSETFROM:+0000
TZOFFSETTO:+0000
TZNAME:UTC
DTSTART:20230101T000000
END:STANDARD
END:VTIMEZONE
BEGIN:VEVENT
DTSTART;TZID=UTC:20240401T120000
DTEND;TZID=UTC:20240401T130000
DTSTAMP:20260423T194819
CREATED:20240108T180932Z
LAST-MODIFIED:20240108T180932Z
UID:38750-1711972800-1711976400@clinicaltrials.rbhs.rutgers.edu
SUMMARY:Trial Innovation Network Webinar
DESCRIPTION:Trial Innovation Network Webinar-Adapting and Advancing: Rochester CTSI’s CBPR Training Program Journey\, Read more and Register Here.
URL:https://clinicaltrials.rbhs.rutgers.edu/event/trial-innovation-network-webinar-11/
END:VEVENT
END:VCALENDAR