BEGIN:VCALENDAR
VERSION:2.0
PRODID:-//New Jersey Alliance for Clinical and Translational Science - ECPv6.15.14//NONSGML v1.0//EN
CALSCALE:GREGORIAN
METHOD:PUBLISH
X-WR-CALNAME:New Jersey Alliance for Clinical and Translational Science
X-ORIGINAL-URL:https://clinicaltrials.rbhs.rutgers.edu
X-WR-CALDESC:Events for New Jersey Alliance for Clinical and Translational Science
REFRESH-INTERVAL;VALUE=DURATION:PT1H
X-Robots-Tag:noindex
X-PUBLISHED-TTL:PT1H
BEGIN:VTIMEZONE
TZID:UTC
BEGIN:STANDARD
TZOFFSETFROM:+0000
TZOFFSETTO:+0000
TZNAME:UTC
DTSTART:20230101T000000
END:STANDARD
END:VTIMEZONE
BEGIN:VEVENT
DTSTART;TZID=UTC:20240306T100000
DTEND;TZID=UTC:20240306T110000
DTSTAMP:20260424T035621
CREATED:20240304T232741Z
LAST-MODIFIED:20240304T232741Z
UID:39532-1709719200-1709722800@clinicaltrials.rbhs.rutgers.edu
SUMMARY:Rutgers Princeton Center for Computational Cognitive Neuropsychiatry Seminar
DESCRIPTION:Rutgers Princeton Center for Computational Cognitive Neuropsychiatry Seminar-Circuit Mechanisms Determining Dopamine’s Role In Learning Versus Moving\, Christine Constantinople\, NYU. ccnp.princeton.edu
URL:https://clinicaltrials.rbhs.rutgers.edu/event/rutgers-princeton-center-for-computational-cognitive-neuropsychiatry-seminar-80/
END:VEVENT
BEGIN:VEVENT
DTSTART;TZID=UTC:20240306T120000
DTEND;TZID=UTC:20240306T140000
DTSTAMP:20260424T035621
CREATED:20240222T191616Z
LAST-MODIFIED:20240222T191616Z
UID:39219-1709726400-1709733600@clinicaltrials.rbhs.rutgers.edu
SUMMARY:Rutgers Health Virtual Event
DESCRIPTION:Rutgers Health Virtual Event-INTERRUPTing Microaggressions Workshop\, Maria L. Soto-Greene\, MD\, Manasa Ayyala\, MD\, Michelle DallaPiazza\, MD\, Franz O. Smith\, MD. View Flyer and Register Here
URL:https://clinicaltrials.rbhs.rutgers.edu/event/rutgers-health-virtual-event/
END:VEVENT
END:VCALENDAR