BEGIN:VCALENDAR
VERSION:2.0
PRODID:-//New Jersey Alliance for Clinical and Translational Science - ECPv6.15.14//NONSGML v1.0//EN
CALSCALE:GREGORIAN
METHOD:PUBLISH
X-WR-CALNAME:New Jersey Alliance for Clinical and Translational Science
X-ORIGINAL-URL:https://clinicaltrials.rbhs.rutgers.edu
X-WR-CALDESC:Events for New Jersey Alliance for Clinical and Translational Science
REFRESH-INTERVAL;VALUE=DURATION:PT1H
X-Robots-Tag:noindex
X-PUBLISHED-TTL:PT1H
BEGIN:VTIMEZONE
TZID:UTC
BEGIN:STANDARD
TZOFFSETFROM:+0000
TZOFFSETTO:+0000
TZNAME:UTC
DTSTART:20230101T000000
END:STANDARD
END:VTIMEZONE
BEGIN:VEVENT
DTSTART;TZID=UTC:20240229T120000
DTEND;TZID=UTC:20240229T133000
DTSTAMP:20260420T080518
CREATED:20240222T193819Z
LAST-MODIFIED:20240222T194207Z
UID:39222-1709208000-1709213400@clinicaltrials.rbhs.rutgers.edu
SUMMARY:Children's Specialized Hospital Research Center Distinguished Lecture Series
DESCRIPTION:Children’s Specialized Hospital Research Center Distinguished Lecture Series-Innovative Approaches for the Treatment of Chronic Pain in Children\, Laura Simmons\, PhD. Auditoriums 1 and 2 on the ground floor of the CSH inpatient site\, 200 Somerset Street\, New Brunswick. View Flyer and Register Here
URL:https://clinicaltrials.rbhs.rutgers.edu/event/childrens-specialized-hospital-research-center-distinguished-lecture-series-2/
LOCATION:Children’s Specialized Hospital\, 200 Somerset Street\, New Brunswick\, NJ\, 08901\, United States
END:VEVENT
BEGIN:VEVENT
DTSTART;TZID=UTC:20240229T150000
DTEND;TZID=UTC:20240229T163000
DTSTAMP:20260420T080518
CREATED:20231130T215717Z
LAST-MODIFIED:20231130T215717Z
UID:38519-1709218800-1709224200@clinicaltrials.rbhs.rutgers.edu
SUMMARY:NJ ACTS Workforce Core NIH Grant Writing Training
DESCRIPTION:NJ ACTS Workforce Core NIH Grant Writing Training-This mini-course is intended for novice grant writers planning to submit a K or R grant in the next year. Virtual. Learn More and Sign Up Now
URL:https://clinicaltrials.rbhs.rutgers.edu/event/nj-acts-workforce-core-nih-grant-writing-training-5/
END:VEVENT
END:VCALENDAR