BEGIN:VCALENDAR
VERSION:2.0
PRODID:-//New Jersey Alliance for Clinical and Translational Science - ECPv6.15.14//NONSGML v1.0//EN
CALSCALE:GREGORIAN
METHOD:PUBLISH
X-WR-CALNAME:New Jersey Alliance for Clinical and Translational Science
X-ORIGINAL-URL:https://clinicaltrials.rbhs.rutgers.edu
X-WR-CALDESC:Events for New Jersey Alliance for Clinical and Translational Science
REFRESH-INTERVAL;VALUE=DURATION:PT1H
X-Robots-Tag:noindex
X-PUBLISHED-TTL:PT1H
BEGIN:VTIMEZONE
TZID:UTC
BEGIN:STANDARD
TZOFFSETFROM:+0000
TZOFFSETTO:+0000
TZNAME:UTC
DTSTART:20230101T000000
END:STANDARD
END:VTIMEZONE
BEGIN:VEVENT
DTSTART;TZID=UTC:20240220T120000
DTEND;TZID=UTC:20240220T140000
DTSTAMP:20260424T014405
CREATED:20231204T220345Z
LAST-MODIFIED:20231204T220345Z
UID:38551-1708430400-1708437600@clinicaltrials.rbhs.rutgers.edu
SUMMARY:Inclusive Leadership Academy
DESCRIPTION:Inclusive Leadership Academy-Equity Fundamentals for Leaders II x University Equity and Inclusion. Learn More and Register now!
URL:https://clinicaltrials.rbhs.rutgers.edu/event/inclusive-leadership-academy-3/
END:VEVENT
END:VCALENDAR