BEGIN:VCALENDAR
VERSION:2.0
PRODID:-//New Jersey Alliance for Clinical and Translational Science - ECPv6.15.14//NONSGML v1.0//EN
CALSCALE:GREGORIAN
METHOD:PUBLISH
X-WR-CALNAME:New Jersey Alliance for Clinical and Translational Science
X-ORIGINAL-URL:https://clinicaltrials.rbhs.rutgers.edu
X-WR-CALDESC:Events for New Jersey Alliance for Clinical and Translational Science
REFRESH-INTERVAL;VALUE=DURATION:PT1H
X-Robots-Tag:noindex
X-PUBLISHED-TTL:PT1H
BEGIN:VTIMEZONE
TZID:UTC
BEGIN:STANDARD
TZOFFSETFROM:+0000
TZOFFSETTO:+0000
TZNAME:UTC
DTSTART:20230101T000000
END:STANDARD
END:VTIMEZONE
BEGIN:VEVENT
DTSTART;TZID=UTC:20240212T170000
DTEND;TZID=UTC:20240212T180000
DTSTAMP:20260421T164335
CREATED:20231208T175102Z
LAST-MODIFIED:20231208T175102Z
UID:38609-1707757200-1707760800@clinicaltrials.rbhs.rutgers.edu
SUMMARY:NCATS NC3 Community Forum Webinar
DESCRIPTION:NCATS NC3 Community Forum Webinar-CMS Training and Data. Register Here.
URL:https://clinicaltrials.rbhs.rutgers.edu/event/ncats-nc3-community-forum-webinar-3/
END:VEVENT
END:VCALENDAR