BEGIN:VCALENDAR
VERSION:2.0
PRODID:-//New Jersey Alliance for Clinical and Translational Science - ECPv6.15.14//NONSGML v1.0//EN
CALSCALE:GREGORIAN
METHOD:PUBLISH
X-WR-CALNAME:New Jersey Alliance for Clinical and Translational Science
X-ORIGINAL-URL:https://clinicaltrials.rbhs.rutgers.edu
X-WR-CALDESC:Events for New Jersey Alliance for Clinical and Translational Science
REFRESH-INTERVAL;VALUE=DURATION:PT1H
X-Robots-Tag:noindex
X-PUBLISHED-TTL:PT1H
BEGIN:VTIMEZONE
TZID:UTC
BEGIN:STANDARD
TZOFFSETFROM:+0000
TZOFFSETTO:+0000
TZNAME:UTC
DTSTART:20230101T000000
END:STANDARD
END:VTIMEZONE
BEGIN:VEVENT
DTSTART;TZID=UTC:20240208T130000
DTEND;TZID=UTC:20240208T140000
DTSTAMP:20260420T140554
CREATED:20240122T224856Z
LAST-MODIFIED:20240122T224856Z
UID:38970-1707397200-1707400800@clinicaltrials.rbhs.rutgers.edu
SUMMARY:NJ ACTS Biostatistics and Epidemiology Workshop Series
DESCRIPTION:NJ ACTS Biostatistics and Epidemiology Workshop Series-Introduction to Biostatistics\, Jaya M. Satagopan\, PhD. View Flyer and Register Here. On Zoom.
URL:https://clinicaltrials.rbhs.rutgers.edu/event/nj-acts-biostatistics-and-epidemiology-workshop-series-13/
END:VEVENT
BEGIN:VEVENT
DTSTART;TZID=UTC:20240208T130000
DTEND;TZID=UTC:20240208T143000
DTSTAMP:20260420T140554
CREATED:20230918T215208Z
LAST-MODIFIED:20240129T220143Z
UID:37424-1707397200-1707402600@clinicaltrials.rbhs.rutgers.edu
SUMMARY:NJ ACTS Workforce Core Clinical Research Management Collaborative Training Series
DESCRIPTION:NJ ACTS Workforce Core Clinical Research Management Collaborative Training Series-Mobilizing Healthcare to Rural Communities: A Case Study in the Philippines. Virtual. View Flyer and Register Here
URL:https://clinicaltrials.rbhs.rutgers.edu/event/nj-acts-workforce-core-clinical-research-management-collaborative-training-series-3/
END:VEVENT
BEGIN:VEVENT
DTSTART;TZID=UTC:20240208T150000
DTEND;TZID=UTC:20240208T163000
DTSTAMP:20260420T140554
CREATED:20231130T215439Z
LAST-MODIFIED:20231130T215439Z
UID:38513-1707404400-1707409800@clinicaltrials.rbhs.rutgers.edu
SUMMARY:NJ ACTS Workforce Core NIH Grant Writing Training
DESCRIPTION:NJ ACTS Workforce Core NIH Grant Writing Training-This mini-course is intended for novice grant writers planning to submit a K or R grant in the next year. Virtual. Learn More and Sign Up Now
URL:https://clinicaltrials.rbhs.rutgers.edu/event/nj-acts-workforce-core-nih-grant-writing-training-2/
END:VEVENT
BEGIN:VEVENT
DTSTART;TZID=UTC:20240208T170000
DTEND;TZID=UTC:20240208T190000
DTSTAMP:20260420T140554
CREATED:20240102T200147Z
LAST-MODIFIED:20240102T200147Z
UID:38707-1707411600-1707418800@clinicaltrials.rbhs.rutgers.edu
SUMMARY:School of Health Professions Open House
DESCRIPTION:School of Health Professions Open House-Explore our 35+ health professions undergraduate and post-graduate degree and certificate programs at an on-campus Open House. Research Tower Great Hall on Busch Campus\, 675 Hoes Lane West\, Piscataway. Register to Attend.
URL:https://clinicaltrials.rbhs.rutgers.edu/event/school-of-health-professions-open-house-2/
LOCATION:RWJMS Research Tower\, Great Hall\, 675 Hoes Lane\, Piscataway\, NJ\, 08854\, United States
END:VEVENT
END:VCALENDAR