BEGIN:VCALENDAR
VERSION:2.0
PRODID:-//New Jersey Alliance for Clinical and Translational Science - ECPv6.15.14//NONSGML v1.0//EN
CALSCALE:GREGORIAN
METHOD:PUBLISH
X-WR-CALNAME:New Jersey Alliance for Clinical and Translational Science
X-ORIGINAL-URL:https://clinicaltrials.rbhs.rutgers.edu
X-WR-CALDESC:Events for New Jersey Alliance for Clinical and Translational Science
REFRESH-INTERVAL;VALUE=DURATION:PT1H
X-Robots-Tag:noindex
X-PUBLISHED-TTL:PT1H
BEGIN:VTIMEZONE
TZID:UTC
BEGIN:STANDARD
TZOFFSETFROM:+0000
TZOFFSETTO:+0000
TZNAME:UTC
DTSTART:20220101T000000
END:STANDARD
END:VTIMEZONE
BEGIN:VEVENT
DTSTART;TZID=UTC:20231204T080000
DTEND;TZID=UTC:20231204T170000
DTSTAMP:20260424T014512
CREATED:20231208T130002Z
LAST-MODIFIED:20231204T204844Z
UID:38538-1701676800-1701709200@clinicaltrials.rbhs.rutgers.edu
SUMMARY:Join the Department of Genetics on 12/18 at Noon for a Research Seminar
DESCRIPTION:Understanding polygenic risk from the lens of a learning healthcare system presented by Chris Gignoux\, Ph.D.\, Associate Professor Interdisciplinary Quantitative Biology\, University of Colorado Boulder. \nThe wealth of insights from genome-wide association studies has led to increased interest in the potential clinical applications of polygenic risk scores. Here\, biobanks provide a novel opportunity to examine polygenic effects in real-world healthcare settings and to investigate across hundreds to thousands of traits. In this paper\, I will describe the development of the Colorado Center for Personalized Medicine\, a large institutional biobank with a robust and scalable return-of-results program. I will then discuss how we have utilized this new resource to study the potential\, as well as the pitfalls\, of polygenic scoring\, particularly across the spectrum of human genetic diversity. \nNoon\, Monday\, December 18\, 2023  \nLife Sciences Building | Auditorium | 145 Bevier Road\, Piscataway \nZoom Meeting Registration | Meeting ID: 935 7436 1552 | Passcode: 532445 \nHost: Tara Matise | Ph: 848-445-3125 | Email: matise@rutgers.edu \nView Flyer \n 
URL:https://clinicaltrials.rbhs.rutgers.edu/event/join-the-department-of-genetics-on-12-18-at-noon-for-a-research-seminar/
END:VEVENT
BEGIN:VEVENT
DTSTART;TZID=UTC:20231204T120000
DTEND;TZID=UTC:20231204T130000
DTSTAMP:20260424T014512
CREATED:20230821T170300Z
LAST-MODIFIED:20230821T170300Z
UID:37082-1701691200-1701694800@clinicaltrials.rbhs.rutgers.edu
SUMMARY:Trial Innovation Network Collaboration Webinar
DESCRIPTION:Trial Innovation Network Collaboration Webinar-MyChart Recruitment Service at Johns Hopkins Workflow and Lessons Learned with Cassia Lewis-Land\, MS\, Tosin Tomiwa\, MPA & Guanyu Li\, MS. Register Here
URL:https://clinicaltrials.rbhs.rutgers.edu/event/trial-innovation-network-collaboration-webinar-6/
END:VEVENT
END:VCALENDAR