BEGIN:VCALENDAR
VERSION:2.0
PRODID:-//New Jersey Alliance for Clinical and Translational Science - ECPv6.15.14//NONSGML v1.0//EN
CALSCALE:GREGORIAN
METHOD:PUBLISH
X-WR-CALNAME:New Jersey Alliance for Clinical and Translational Science
X-ORIGINAL-URL:https://clinicaltrials.rbhs.rutgers.edu
X-WR-CALDESC:Events for New Jersey Alliance for Clinical and Translational Science
REFRESH-INTERVAL;VALUE=DURATION:PT1H
X-Robots-Tag:noindex
X-PUBLISHED-TTL:PT1H
BEGIN:VTIMEZONE
TZID:UTC
BEGIN:STANDARD
TZOFFSETFROM:+0000
TZOFFSETTO:+0000
TZNAME:UTC
DTSTART:20220101T000000
END:STANDARD
END:VTIMEZONE
BEGIN:VEVENT
DTSTART;TZID=UTC:20231128T130000
DTEND;TZID=UTC:20231128T140000
DTSTAMP:20260420T090327
CREATED:20231023T180112Z
LAST-MODIFIED:20231023T180112Z
UID:38086-1701176400-1701180000@clinicaltrials.rbhs.rutgers.edu
SUMMARY:NJ ACTS Special Populations Seminar Series
DESCRIPTION:NJ ACTS Special Populations Seminar Series-Alcohol and Tobacco Use among Older Adults in the US: A Lifecourse Perspective\, Pia Mauro\, PhD. View Flyer and Join on Zoom
URL:https://clinicaltrials.rbhs.rutgers.edu/event/nj-acts-special-populations-seminar-series-4/
END:VEVENT
BEGIN:VEVENT
DTSTART;TZID=UTC:20231128T150000
DTEND;TZID=UTC:20231128T160000
DTSTAMP:20260420T090327
CREATED:20231113T191720Z
LAST-MODIFIED:20231113T191720Z
UID:38290-1701183600-1701187200@clinicaltrials.rbhs.rutgers.edu
SUMMARY:Propelus i-Corps Information Session
DESCRIPTION:Propelus i-Corps Information Session-Trans your research discoveries through entrepreneurship training and funding through the National Science Foundation’s Innovation-Corps program. Virtual. Register Here
URL:https://clinicaltrials.rbhs.rutgers.edu/event/propelus-i-corps-information-session/
END:VEVENT
END:VCALENDAR