BEGIN:VCALENDAR
VERSION:2.0
PRODID:-//New Jersey Alliance for Clinical and Translational Science - ECPv6.15.14//NONSGML v1.0//EN
CALSCALE:GREGORIAN
METHOD:PUBLISH
X-WR-CALNAME:New Jersey Alliance for Clinical and Translational Science
X-ORIGINAL-URL:https://clinicaltrials.rbhs.rutgers.edu
X-WR-CALDESC:Events for New Jersey Alliance for Clinical and Translational Science
REFRESH-INTERVAL;VALUE=DURATION:PT1H
X-Robots-Tag:noindex
X-PUBLISHED-TTL:PT1H
BEGIN:VTIMEZONE
TZID:UTC
BEGIN:STANDARD
TZOFFSETFROM:+0000
TZOFFSETTO:+0000
TZNAME:UTC
DTSTART:20220101T000000
END:STANDARD
END:VTIMEZONE
BEGIN:VEVENT
DTSTART;TZID=UTC:20231030T130000
DTEND;TZID=UTC:20231030T140000
DTSTAMP:20260424T014852
CREATED:20230925T173943Z
LAST-MODIFIED:20231016T175209Z
UID:37581-1698670800-1698674400@clinicaltrials.rbhs.rutgers.edu
SUMMARY:Child Health Institute Science Seminar Series
DESCRIPTION:Child Health Institute Science Seminar Series-The role of innate cells such as basophils and mast cells on the development of protective immunity to helminth parasites\, Mark C. Siracusa\, PhD\, Rutgers NJMS.Virtual or Child Health Insitute\, Room 3209\, 89 French Street\, New Brunswick. View Flyer
URL:https://clinicaltrials.rbhs.rutgers.edu/event/child-health-institute-science-seminar-series-13/
LOCATION:Child Health Institute\, Room 3209\, 89 French Street\, New Brunswick\, 08901\, United States
END:VEVENT
BEGIN:VEVENT
DTSTART;TZID=UTC:20231030T190000
DTEND;TZID=UTC:20231030T200000
DTSTAMP:20260424T014852
CREATED:20231030T182433Z
LAST-MODIFIED:20231030T182433Z
UID:38158-1698692400-1698696000@clinicaltrials.rbhs.rutgers.edu
SUMMARY:Master of Science in Clinical Research Management Virtual Information Session
DESCRIPTION:Master of Science in Clinical Research Management Virtual Information Session-We invite you to explore from the comfort of your home\, how our masters program can advance your job skills. It’s free to register to secure your place. Learn More
URL:https://clinicaltrials.rbhs.rutgers.edu/event/master-of-science-in-clinical-research-management-virtual-information-session/
END:VEVENT
END:VCALENDAR