BEGIN:VCALENDAR
VERSION:2.0
PRODID:-//New Jersey Alliance for Clinical and Translational Science - ECPv6.15.14//NONSGML v1.0//EN
CALSCALE:GREGORIAN
METHOD:PUBLISH
X-WR-CALNAME:New Jersey Alliance for Clinical and Translational Science
X-ORIGINAL-URL:https://clinicaltrials.rbhs.rutgers.edu
X-WR-CALDESC:Events for New Jersey Alliance for Clinical and Translational Science
REFRESH-INTERVAL;VALUE=DURATION:PT1H
X-Robots-Tag:noindex
X-PUBLISHED-TTL:PT1H
BEGIN:VTIMEZONE
TZID:UTC
BEGIN:STANDARD
TZOFFSETFROM:+0000
TZOFFSETTO:+0000
TZNAME:UTC
DTSTART:20220101T000000
END:STANDARD
END:VTIMEZONE
BEGIN:VEVENT
DTSTART;TZID=UTC:20231024T130000
DTEND;TZID=UTC:20231024T143000
DTSTAMP:20260425T203725
CREATED:20231018T202143Z
LAST-MODIFIED:20231018T202436Z
UID:38044-1698152400-1698157800@clinicaltrials.rbhs.rutgers.edu
SUMMARY:University Equity and Inclusion Classroom Inclusivity Series
DESCRIPTION:University Equity and Inclusion Classroom Inclusivity Series–Universal Design for Learning and Inclusive Teaching Strategies\, Virtual – Register Here
URL:https://clinicaltrials.rbhs.rutgers.edu/event/university-equity-and-inclusion-classroom-inclusivity-series/
END:VEVENT
BEGIN:VEVENT
DTSTART;TZID=UTC:20231024T140000
DTEND;TZID=UTC:20231024T150000
DTSTAMP:20260425T203725
CREATED:20230913T191552Z
LAST-MODIFIED:20230913T191552Z
UID:37352-1698156000-1698159600@clinicaltrials.rbhs.rutgers.edu
SUMMARY:Division of Diversity\, Inclusion\, and Community Engagement Mentor Virtual Workshop
DESCRIPTION:Division of Diversity\, Inclusion\, and Community Engagement Mentor Virtual Workshop-Goal Setting\, Define your purpose for the relationship and set up goals you can achieve so that both your priorities and your mentees are met. View Flyer and Register Here
URL:https://clinicaltrials.rbhs.rutgers.edu/event/division-of-diversity-inclusion-and-community-engagement-mentor-virtual-workshop-2/
END:VEVENT
END:VCALENDAR