BEGIN:VCALENDAR
VERSION:2.0
PRODID:-//New Jersey Alliance for Clinical and Translational Science - ECPv6.15.14//NONSGML v1.0//EN
CALSCALE:GREGORIAN
METHOD:PUBLISH
X-WR-CALNAME:New Jersey Alliance for Clinical and Translational Science
X-ORIGINAL-URL:https://clinicaltrials.rbhs.rutgers.edu
X-WR-CALDESC:Events for New Jersey Alliance for Clinical and Translational Science
REFRESH-INTERVAL;VALUE=DURATION:PT1H
X-Robots-Tag:noindex
X-PUBLISHED-TTL:PT1H
BEGIN:VTIMEZONE
TZID:UTC
BEGIN:STANDARD
TZOFFSETFROM:+0000
TZOFFSETTO:+0000
TZNAME:UTC
DTSTART:20220101T000000
END:STANDARD
END:VTIMEZONE
BEGIN:VEVENT
DTSTART;TZID=UTC:20230920T120000
DTEND;TZID=UTC:20230920T130000
DTSTAMP:20260424T024945
CREATED:20230724T171821Z
LAST-MODIFIED:20230724T171821Z
UID:36821-1695211200-1695214800@clinicaltrials.rbhs.rutgers.edu
SUMMARY:Trial Innovation Network Collaboration Webinar
DESCRIPTION:Trial Innovation Network Collaboration Webinar-Single IRB Unlocked: IREx is the Key to Efficient Single IRB Review for Lead Study Teams\, Emily Serdoz\, MPA. Register Here.
URL:https://clinicaltrials.rbhs.rutgers.edu/event/trial-innovation-network-collaboration-webinar-2/
END:VEVENT
BEGIN:VEVENT
DTSTART;TZID=UTC:20230920T120000
DTEND;TZID=UTC:20230920T130000
DTSTAMP:20260424T024945
CREATED:20230914T205603Z
LAST-MODIFIED:20230914T205603Z
UID:37374-1695211200-1695214800@clinicaltrials.rbhs.rutgers.edu
SUMMARY:Diversity Education Equity Fundamentals Workshop
DESCRIPTION:Diversity Education Equity Fundamentals Workshop-An introduction to the concepts of diversity\, inclusion\, intersectionality\, equity and social justice\, including opportunities to apply these concepts to our professional and personal lives.Virtual. Register Here.
URL:https://clinicaltrials.rbhs.rutgers.edu/event/diversity-education-equity-fundamentals-workshop/
END:VEVENT
BEGIN:VEVENT
DTSTART;TZID=UTC:20230920T190000
DTEND;TZID=UTC:20230920T200000
DTSTAMP:20260424T024945
CREATED:20230920T171544Z
LAST-MODIFIED:20230920T171544Z
UID:37466-1695236400-1695240000@clinicaltrials.rbhs.rutgers.edu
SUMMARY:School of Health Professions Virtual information Session
DESCRIPTION:School of Health Professions Virtual information Session-Online Master of Science in Clinical Research Management\, at the event\, you will have the chance to learn about the application process\, and talk directly to the CRM Program Director and SHP Admissions. Learn More and Register Here.
URL:https://clinicaltrials.rbhs.rutgers.edu/event/school-of-health-professions-virtual-information-session/
END:VEVENT
END:VCALENDAR