BEGIN:VCALENDAR
VERSION:2.0
PRODID:-//New Jersey Alliance for Clinical and Translational Science - ECPv6.15.14//NONSGML v1.0//EN
CALSCALE:GREGORIAN
METHOD:PUBLISH
X-WR-CALNAME:New Jersey Alliance for Clinical and Translational Science
X-ORIGINAL-URL:https://clinicaltrials.rbhs.rutgers.edu
X-WR-CALDESC:Events for New Jersey Alliance for Clinical and Translational Science
REFRESH-INTERVAL;VALUE=DURATION:PT1H
X-Robots-Tag:noindex
X-PUBLISHED-TTL:PT1H
BEGIN:VTIMEZONE
TZID:UTC
BEGIN:STANDARD
TZOFFSETFROM:+0000
TZOFFSETTO:+0000
TZNAME:UTC
DTSTART:20220101T000000
END:STANDARD
END:VTIMEZONE
BEGIN:VEVENT
DTSTART;TZID=UTC:20230803T093000
DTEND;TZID=UTC:20230803T120000
DTSTAMP:20260420T214203
CREATED:20230724T192539Z
LAST-MODIFIED:20230724T192539Z
UID:36834-1691055000-1691064000@clinicaltrials.rbhs.rutgers.edu
SUMMARY:Road to Commercialization Symposium Series
DESCRIPTION:Road to Commercialization Symposium Series-Communicating with Impact and the Art of Storytelling\, Keynote Speaker Otto Pohl\, Core Communications. Read More and Register Here
URL:https://clinicaltrials.rbhs.rutgers.edu/event/road-to-commercialization-symposium-series-2/
END:VEVENT
END:VCALENDAR