BEGIN:VCALENDAR
VERSION:2.0
PRODID:-//New Jersey Alliance for Clinical and Translational Science - ECPv6.15.14//NONSGML v1.0//EN
CALSCALE:GREGORIAN
METHOD:PUBLISH
X-WR-CALNAME:New Jersey Alliance for Clinical and Translational Science
X-ORIGINAL-URL:https://clinicaltrials.rbhs.rutgers.edu
X-WR-CALDESC:Events for New Jersey Alliance for Clinical and Translational Science
REFRESH-INTERVAL;VALUE=DURATION:PT1H
X-Robots-Tag:noindex
X-PUBLISHED-TTL:PT1H
BEGIN:VTIMEZONE
TZID:UTC
BEGIN:STANDARD
TZOFFSETFROM:+0000
TZOFFSETTO:+0000
TZNAME:UTC
DTSTART:20220101T000000
END:STANDARD
END:VTIMEZONE
BEGIN:VEVENT
DTSTART;TZID=UTC:20230712T110000
DTEND;TZID=UTC:20230712T123000
DTSTAMP:20260420T202538
CREATED:20230613T181755Z
LAST-MODIFIED:20230613T181755Z
UID:36360-1689159600-1689165000@clinicaltrials.rbhs.rutgers.edu
SUMMARY:Distinguished Nurse Leadership Webinar Series
DESCRIPTION:Distinguished Nurse Leadership Webinar Series-Nursing Staff Crisis: Real World Success Stories\, Host Linda Flynn\, PhD\, RN\, Rutgers. Read More and Register Here
URL:https://clinicaltrials.rbhs.rutgers.edu/event/distinguished-nurse-leadership-webinar-series-2/
END:VEVENT
END:VCALENDAR