BEGIN:VCALENDAR
VERSION:2.0
PRODID:-//New Jersey Alliance for Clinical and Translational Science - ECPv6.15.14//NONSGML v1.0//EN
CALSCALE:GREGORIAN
METHOD:PUBLISH
X-WR-CALNAME:New Jersey Alliance for Clinical and Translational Science
X-ORIGINAL-URL:https://clinicaltrials.rbhs.rutgers.edu
X-WR-CALDESC:Events for New Jersey Alliance for Clinical and Translational Science
REFRESH-INTERVAL;VALUE=DURATION:PT1H
X-Robots-Tag:noindex
X-PUBLISHED-TTL:PT1H
BEGIN:VTIMEZONE
TZID:UTC
BEGIN:STANDARD
TZOFFSETFROM:+0000
TZOFFSETTO:+0000
TZNAME:UTC
DTSTART:20220101T000000
END:STANDARD
END:VTIMEZONE
BEGIN:VEVENT
DTSTART;TZID=UTC:20230224T090000
DTEND;TZID=UTC:20230224T120000
DTSTAMP:20260420T165134
CREATED:20230214T220636Z
LAST-MODIFIED:20230214T220636Z
UID:34003-1677229200-1677240000@clinicaltrials.rbhs.rutgers.edu
SUMMARY:Educational Equity Access Week 2023
DESCRIPTION:Educational Equity Access Week 2023–Aims to create campus awareness of the need for anequity mindset to help all students thrive. This annual\, week–long initiative features a range of publiclectures\, faculty\, staff and student workshops\, and student programming. Read More.
URL:https://clinicaltrials.rbhs.rutgers.edu/event/educational-equity-access-week-2023-5/
LOCATION:College Avenue Student Center\, Multipurpose Room A\, 126 College Avenue\, New Brunswick\, NJ\, 08901\, United States
CATEGORIES:Diversity Equity and Inclusion
END:VEVENT
END:VCALENDAR