BEGIN:VCALENDAR
VERSION:2.0
PRODID:-//New Jersey Alliance for Clinical and Translational Science - ECPv6.15.14//NONSGML v1.0//EN
CALSCALE:GREGORIAN
METHOD:PUBLISH
X-WR-CALNAME:New Jersey Alliance for Clinical and Translational Science
X-ORIGINAL-URL:https://clinicaltrials.rbhs.rutgers.edu
X-WR-CALDESC:Events for New Jersey Alliance for Clinical and Translational Science
REFRESH-INTERVAL;VALUE=DURATION:PT1H
X-Robots-Tag:noindex
X-PUBLISHED-TTL:PT1H
BEGIN:VTIMEZONE
TZID:UTC
BEGIN:STANDARD
TZOFFSETFROM:+0000
TZOFFSETTO:+0000
TZNAME:UTC
DTSTART:20210101T000000
END:STANDARD
END:VTIMEZONE
BEGIN:VEVENT
DTSTART;TZID=UTC:20221129T100000
DTEND;TZID=UTC:20221130T130000
DTSTAMP:20260420T014937
CREATED:20221201T011729Z
LAST-MODIFIED:20221205T232255Z
UID:32982-1669716000-1669813200@clinicaltrials.rbhs.rutgers.edu
SUMMARY:DEIA Events
DESCRIPTION:DEIA Events – Violence Against Women in Diverse Populations.  Participants will leave this workshop having learned strategies for addressing the various obstacles or issues that victims face in accessing services and negotiating the various support systems.  Monica C. Roldan\, LCSW\, Presenter.  View Flyer
URL:https://clinicaltrials.rbhs.rutgers.edu/event/deia-event-violence-against-women-in-diverse-populations/
CATEGORIES:Diversity Equity and Inclusion
END:VEVENT
BEGIN:VEVENT
DTSTART;TZID=UTC:20221129T120000
DTEND;TZID=UTC:20221129T130000
DTSTAMP:20260420T014938
CREATED:20221201T012040Z
LAST-MODIFIED:20221205T232205Z
UID:32984-1669723200-1669726800@clinicaltrials.rbhs.rutgers.edu
SUMMARY:DEIA Events
DESCRIPTION:DEIA Events – Tyler Clementi Center for Diversity Education and Bias Prevention – “Getting Comfortable with Pronouns” Workshop.  The overall goal of this training is to provide an introductory understanding of pronoun use so that participants may walk away with a better grasp on how to honor pronouns\, ask the right questions\, and clear up misconceptions and confusion.  View Flyer
URL:https://clinicaltrials.rbhs.rutgers.edu/event/tyler-clementi-center-for-diversity-education-and-bias-prevention-getting-comfortable-with-pronouns-workshop/
CATEGORIES:Diversity Equity and Inclusion
END:VEVENT
BEGIN:VEVENT
DTSTART;TZID=UTC:20221129T170000
DTEND;TZID=UTC:20221129T190000
DTSTAMP:20260420T014938
CREATED:20221114T182714Z
LAST-MODIFIED:20221114T182714Z
UID:32661-1669741200-1669748400@clinicaltrials.rbhs.rutgers.edu
SUMMARY:The Invisible Extinction Film Screening
DESCRIPTION:The Invisible Extinction Film Screening-Rutgers’ microbiologists Martin Blaser and Gloria Dominguez-Bello are subjects of this new documentary examining their decades-long research on the link between our bodies’ microbiome – the bacteria\, fungi\, and viruses that help us digest food and keep us healthy – and diseases like diabetes\, asthma\, and autism. RSVP by November 23rd
URL:https://clinicaltrials.rbhs.rutgers.edu/event/the-invisible-extinction-film-screening/
LOCATION:RWJMS Research Tower\, V10\, 675 Hoes Lane West\, Piscataway\, NJ\, United States
END:VEVENT
END:VCALENDAR