BEGIN:VCALENDAR
VERSION:2.0
PRODID:-//New Jersey Alliance for Clinical and Translational Science - ECPv6.15.14//NONSGML v1.0//EN
CALSCALE:GREGORIAN
METHOD:PUBLISH
X-WR-CALNAME:New Jersey Alliance for Clinical and Translational Science
X-ORIGINAL-URL:https://clinicaltrials.rbhs.rutgers.edu
X-WR-CALDESC:Events for New Jersey Alliance for Clinical and Translational Science
REFRESH-INTERVAL;VALUE=DURATION:PT1H
X-Robots-Tag:noindex
X-PUBLISHED-TTL:PT1H
BEGIN:VTIMEZONE
TZID:UTC
BEGIN:STANDARD
TZOFFSETFROM:+0000
TZOFFSETTO:+0000
TZNAME:UTC
DTSTART:20210101T000000
END:STANDARD
END:VTIMEZONE
BEGIN:VTIMEZONE
TZID:America/New_York
BEGIN:DAYLIGHT
TZOFFSETFROM:-0500
TZOFFSETTO:-0400
TZNAME:EDT
DTSTART:20210314T070000
END:DAYLIGHT
BEGIN:STANDARD
TZOFFSETFROM:-0400
TZOFFSETTO:-0500
TZNAME:EST
DTSTART:20211107T060000
END:STANDARD
BEGIN:DAYLIGHT
TZOFFSETFROM:-0500
TZOFFSETTO:-0400
TZNAME:EDT
DTSTART:20220313T070000
END:DAYLIGHT
BEGIN:STANDARD
TZOFFSETFROM:-0400
TZOFFSETTO:-0500
TZNAME:EST
DTSTART:20221106T060000
END:STANDARD
BEGIN:DAYLIGHT
TZOFFSETFROM:-0500
TZOFFSETTO:-0400
TZNAME:EDT
DTSTART:20230312T070000
END:DAYLIGHT
BEGIN:STANDARD
TZOFFSETFROM:-0400
TZOFFSETTO:-0500
TZNAME:EST
DTSTART:20231105T060000
END:STANDARD
END:VTIMEZONE
BEGIN:VEVENT
DTSTART;TZID=UTC:20221102T083000
DTEND;TZID=UTC:20221102T150000
DTSTAMP:20260424T035605
CREATED:20220912T181140Z
LAST-MODIFIED:20220912T181140Z
UID:31227-1667377800-1667401200@clinicaltrials.rbhs.rutgers.edu
SUMMARY:Center for Professional Development Workshop
DESCRIPTION:Center for Professional Development Workshop-Wound Closure/Suture Workshop (For Registered Nurses\, Physician Assistants and other Healthcare Professionals).  Read more and Register Here! Center for Professional Development\, Rutgers University School of Nursing\, 65 Bergen Street\, Newark\, NJ 07107
URL:https://clinicaltrials.rbhs.rutgers.edu/event/center-for-professional-development-workshop/
LOCATION:Center for Professional Deveopment\, 65 Bergen Street\, Newark\, NJ\, 07107\, United States
END:VEVENT
BEGIN:VEVENT
DTSTART;TZID=UTC:20221102T100000
DTEND;TZID=UTC:20221102T110000
DTSTAMP:20260424T035605
CREATED:20221114T211854Z
LAST-MODIFIED:20221114T211854Z
UID:32693-1667383200-1667386800@clinicaltrials.rbhs.rutgers.edu
SUMMARY:Rutgers Princeton Center for Computational Cognitive Neuropsychiatry Seminar
DESCRIPTION:Rutgers Princeton Center for Computational Cognitive Neuropsychiatry Seminar-Using Language to Measure and Modify Emotion Regulation and Mental Health: From the Lab to the E-Clinic\, Eric Nook\, Princeton. Visit the CCNP Website for More information
URL:https://clinicaltrials.rbhs.rutgers.edu/event/rutgers-princeton-center-for-computational-cognitive-neuropsychiatry-seminar-52/
END:VEVENT
BEGIN:VEVENT
DTSTART;TZID=America/New_York:20221102T110000
DTEND;TZID=America/New_York:20221102T120000
DTSTAMP:20260424T035605
CREATED:20221017T204821Z
LAST-MODIFIED:20221018T193809Z
UID:32083-1667386800-1667390400@clinicaltrials.rbhs.rutgers.edu
SUMMARY:Rutgers School of Nursing Webinar Series
DESCRIPTION:Rutgers School of Nursing Webinar Series-Nursing’s Staffing Crisis: Actionable Strategies\, Dr. Robyn Begley\, Dr. Katie Boston-Leary\, and Dr. Charles Vannoy will address the nurse staffing crisis in acute and critical care.   Learn more and register today.
URL:https://clinicaltrials.rbhs.rutgers.edu/event/distinguished-nurse-leadership-webinar-series/
END:VEVENT
BEGIN:VEVENT
DTSTART;TZID=UTC:20221102T160000
DTEND;TZID=UTC:20221102T170000
DTSTAMP:20260424T035605
CREATED:20221109T235047Z
LAST-MODIFIED:20221114T211139Z
UID:32576-1667404800-1667408400@clinicaltrials.rbhs.rutgers.edu
SUMMARY:CINJ Grand Rounds Seminar Series
DESCRIPTION:CINJ Grand Rounds Seminar Series – “Beyond Descriptions:  Addressing Racial Disparities in Breast Cancer Survival” will be presented by Erica T. Warner\, ScD\, MPH.  Just us for the Grand Rounds Seminar! FLYER
URL:https://clinicaltrials.rbhs.rutgers.edu/event/rutgers-cancer-institute-of-new-jersey-distinguished-lecture-series/
END:VEVENT
BEGIN:VEVENT
DTSTART;TZID=UTC:20221102T170000
DTEND;TZID=UTC:20221102T180000
DTSTAMP:20260424T035605
CREATED:20220707T171955Z
LAST-MODIFIED:20220707T171955Z
UID:30329-1667408400-1667412000@clinicaltrials.rbhs.rutgers.edu
SUMMARY:NJ ACTS Workforce Core Professional Training Series
DESCRIPTION:NJ ACTS Workforce Core Professional Training Series-Abstracts\, More Details Coming Soon!
URL:https://clinicaltrials.rbhs.rutgers.edu/event/nj-acts-workforce-core-professional-training-series-5/
END:VEVENT
END:VCALENDAR