BEGIN:VCALENDAR
VERSION:2.0
PRODID:-//New Jersey Alliance for Clinical and Translational Science - ECPv6.15.14//NONSGML v1.0//EN
CALSCALE:GREGORIAN
METHOD:PUBLISH
X-ORIGINAL-URL:https://clinicaltrials.rbhs.rutgers.edu
X-WR-CALDESC:Events for New Jersey Alliance for Clinical and Translational Science
REFRESH-INTERVAL;VALUE=DURATION:PT1H
X-Robots-Tag:noindex
X-PUBLISHED-TTL:PT1H
BEGIN:VTIMEZONE
TZID:UTC
BEGIN:STANDARD
TZOFFSETFROM:+0000
TZOFFSETTO:+0000
TZNAME:UTC
DTSTART:20210101T000000
END:STANDARD
END:VTIMEZONE
BEGIN:VEVENT
DTSTART;TZID=UTC:20221026T080000
DTEND;TZID=UTC:20221026T170000
DTSTAMP:20260424T033408
CREATED:20220919T180722Z
LAST-MODIFIED:20220919T180813Z
UID:31402-1666771200-1666803600@clinicaltrials.rbhs.rutgers.edu
SUMMARY:Center for Autism Research\, Education\, and Services (RUCARES) Annual Symposium
DESCRIPTION:Center for Autism Research\, Education\, and Services (RUCARES) Annual Symposium-Provides autism researchers an opportunity to engage and network over presentations\, poster sessions\, and a keynote presentation by nationally-recognized autism expert Kristen Brennand\, PhD. Rutgers Busch Student Center\, 604 Bartholomew Road\, Piscataway\, NJ 08854 View Flyer
URL:https://clinicaltrials.rbhs.rutgers.edu/event/center-for-autism-research-education-and-services-rucares-annual-symposium/
LOCATION:Busch Student Center\, 604 Bartholomew Road\, Piscataway\, NJ\, 08854\, United States
END:VEVENT
BEGIN:VEVENT
DTSTART;TZID=UTC:20221026T100000
DTEND;TZID=UTC:20221026T110000
DTSTAMP:20260424T033408
CREATED:20221026T182541Z
LAST-MODIFIED:20221026T182541Z
UID:32269-1666778400-1666782000@clinicaltrials.rbhs.rutgers.edu
SUMMARY:Rutgers Princeton Center for Computational Cognitive Neuropsychiatry Seminar
DESCRIPTION:Rutgers Princeton Center for Computational Cognitive Neuropsychiatry Seminar-Scaling Single-Session Interventions to Bridge Gaps in Mental Healthcare Ecosystems\, Jessica Schleider\, Stony Brook University. Go to CCNP to Learn More.
URL:https://clinicaltrials.rbhs.rutgers.edu/event/rutgers-princeton-center-for-computational-cognitive-neuropsychiatry-seminar-51/
END:VEVENT
BEGIN:VEVENT
DTSTART;TZID=UTC:20221026T120000
DTEND;TZID=UTC:20221026T140000
DTSTAMP:20260424T033408
CREATED:20220915T213833Z
LAST-MODIFIED:20220915T213833Z
UID:31380-1666785600-1666792800@clinicaltrials.rbhs.rutgers.edu
SUMMARY:Center for Diversity Education and Bias Prevention Workshop
DESCRIPTION:Center for Diversity Education and Bias Prevention Workshop-Equity Fundamentals. This workshop helps attendees understand key concepts and strategies for purposeful reflection and growth. REGISTER HERE!
URL:https://clinicaltrials.rbhs.rutgers.edu/event/center-for-diversity-education-and-bias-prevention-workshop-2/
END:VEVENT
BEGIN:VEVENT
DTSTART;TZID=UTC:20221026T140000
DTEND;TZID=UTC:20221026T150000
DTSTAMP:20260424T033408
CREATED:20220622T192623Z
LAST-MODIFIED:20220622T192623Z
UID:30184-1666792800-1666796400@clinicaltrials.rbhs.rutgers.edu
SUMMARY:CTSA Program Webinar Series
DESCRIPTION:CTSA Program Webinar Series–Register Here!
URL:https://clinicaltrials.rbhs.rutgers.edu/event/ctsa-program-webinar-series-10/
END:VEVENT
END:VCALENDAR