BEGIN:VCALENDAR
VERSION:2.0
PRODID:-//New Jersey Alliance for Clinical and Translational Science - ECPv6.15.14//NONSGML v1.0//EN
CALSCALE:GREGORIAN
METHOD:PUBLISH
X-WR-CALNAME:New Jersey Alliance for Clinical and Translational Science
X-ORIGINAL-URL:https://clinicaltrials.rbhs.rutgers.edu
X-WR-CALDESC:Events for New Jersey Alliance for Clinical and Translational Science
REFRESH-INTERVAL;VALUE=DURATION:PT1H
X-Robots-Tag:noindex
X-PUBLISHED-TTL:PT1H
BEGIN:VTIMEZONE
TZID:UTC
BEGIN:STANDARD
TZOFFSETFROM:+0000
TZOFFSETTO:+0000
TZNAME:UTC
DTSTART:20210101T000000
END:STANDARD
END:VTIMEZONE
BEGIN:VEVENT
DTSTART;TZID=UTC:20221021T090000
DTEND;TZID=UTC:20221021T120000
DTSTAMP:20260424T014851
CREATED:20221114T191817Z
LAST-MODIFIED:20221114T191817Z
UID:32673-1666342800-1666353600@clinicaltrials.rbhs.rutgers.edu
SUMMARY:2022 Community Engagement Symposium
DESCRIPTION:2022 Community Engagement Symposium-Rights to Health: Where do we go from here? Keynote Speaker Sofia Gruskin\, JD\, MIA\, Director\, Institute on Inequalities in Global Health\, University of Southern California (USC).
URL:https://clinicaltrials.rbhs.rutgers.edu/event/2022-community-engagement-symposium/
END:VEVENT
END:VCALENDAR