BEGIN:VCALENDAR
VERSION:2.0
PRODID:-//New Jersey Alliance for Clinical and Translational Science - ECPv6.15.14//NONSGML v1.0//EN
CALSCALE:GREGORIAN
METHOD:PUBLISH
X-WR-CALNAME:New Jersey Alliance for Clinical and Translational Science
X-ORIGINAL-URL:https://clinicaltrials.rbhs.rutgers.edu
X-WR-CALDESC:Events for New Jersey Alliance for Clinical and Translational Science
REFRESH-INTERVAL;VALUE=DURATION:PT1H
X-Robots-Tag:noindex
X-PUBLISHED-TTL:PT1H
BEGIN:VTIMEZONE
TZID:UTC
BEGIN:STANDARD
TZOFFSETFROM:+0000
TZOFFSETTO:+0000
TZNAME:UTC
DTSTART:20210101T000000
END:STANDARD
END:VTIMEZONE
BEGIN:VEVENT
DTSTART;TZID=UTC:20221017T140000
DTEND;TZID=UTC:20221017T153000
DTSTAMP:20260419T125013
CREATED:20220714T180852Z
LAST-MODIFIED:20220714T180852Z
UID:30501-1666015200-1666020600@clinicaltrials.rbhs.rutgers.edu
SUMMARY:CLIC - New Virtual Workshop Series_Conversations Toward Solutions
DESCRIPTION:CLIC – New Virtual Workshop Series_Conversations Toward Solutions: Health Information Exchanges\, these workshops are designed to explore the experiences and challenges hubs have faced with common data issues across the consortium. Register Here!
URL:https://clinicaltrials.rbhs.rutgers.edu/event/clic-new-virtual-workshop-series_conversations-toward-solutions-3/
END:VEVENT
BEGIN:VEVENT
DTSTART;TZID=UTC:20221017T170000
DTEND;TZID=UTC:20221017T180000
DTSTAMP:20260419T125013
CREATED:20220707T171833Z
LAST-MODIFIED:20221010T203019Z
UID:30327-1666026000-1666029600@clinicaltrials.rbhs.rutgers.edu
SUMMARY:NJ ACTS Workforce Core Professional Training Series
DESCRIPTION:NJ ACTS Workforce Core Professional Training Series-Standing Out with an Engaging LinkedIn Profile.
URL:https://clinicaltrials.rbhs.rutgers.edu/event/nj-acts-workforce-core-professional-training-series-4/
END:VEVENT
END:VCALENDAR