BEGIN:VCALENDAR
VERSION:2.0
PRODID:-//New Jersey Alliance for Clinical and Translational Science - ECPv6.15.14//NONSGML v1.0//EN
CALSCALE:GREGORIAN
METHOD:PUBLISH
X-WR-CALNAME:New Jersey Alliance for Clinical and Translational Science
X-ORIGINAL-URL:https://clinicaltrials.rbhs.rutgers.edu
X-WR-CALDESC:Events for New Jersey Alliance for Clinical and Translational Science
REFRESH-INTERVAL;VALUE=DURATION:PT1H
X-Robots-Tag:noindex
X-PUBLISHED-TTL:PT1H
BEGIN:VTIMEZONE
TZID:UTC
BEGIN:STANDARD
TZOFFSETFROM:+0000
TZOFFSETTO:+0000
TZNAME:UTC
DTSTART:20210101T000000
END:STANDARD
END:VTIMEZONE
BEGIN:VEVENT
DTSTART;TZID=UTC:20221007T080000
DTEND;TZID=UTC:20221007T120000
DTSTAMP:20260419T094833
CREATED:20220812T173017Z
LAST-MODIFIED:20221031T221955Z
UID:30747-1665129600-1665144000@clinicaltrials.rbhs.rutgers.edu
SUMMARY:4th Annual Stroke and Neurocritical Care Symposium
DESCRIPTION:4th Annual Stroke and Neurocritical Care Symposium-This symposium will provide a comprehensive overview on the cutting-edge management for cerebrovascular diseases and neurocritical care. Topics to be covered include neurovascular surgery\, cerebrovascular emergencies and neurocritical care. Read More and Register Here!
URL:https://clinicaltrials.rbhs.rutgers.edu/event/4th-annual-stroke-and-neurocritical-care-symposium-2/
LOCATION:Hyatt Regency\, 2 Albany Street\, New Brunswick\, NJ\, 08901\, United States
END:VEVENT
BEGIN:VEVENT
DTSTART;TZID=UTC:20221007T090000
DTEND;TZID=UTC:20221007T130000
DTSTAMP:20260419T094833
CREATED:20221013T211711Z
LAST-MODIFIED:20221108T204917Z
UID:32056-1665133200-1665147600@clinicaltrials.rbhs.rutgers.edu
SUMMARY:DEIA EDI Facilitator Training
DESCRIPTION:DEIA EDI Facilitator Training-A four-hour introduction to facilitating dialogues on equity\, diversity\, and inclusion topics. Learn how to manage your own bias\, strategies for navigating facilitation challenges\, and communication tools for resolving conflict. Register Here and View Flyer
URL:https://clinicaltrials.rbhs.rutgers.edu/event/diversity-equity-inclusion-and-accessibility-event-6/
END:VEVENT
END:VCALENDAR