BEGIN:VCALENDAR
VERSION:2.0
PRODID:-//New Jersey Alliance for Clinical and Translational Science - ECPv6.15.14//NONSGML v1.0//EN
CALSCALE:GREGORIAN
METHOD:PUBLISH
X-WR-CALNAME:New Jersey Alliance for Clinical and Translational Science
X-ORIGINAL-URL:https://clinicaltrials.rbhs.rutgers.edu
X-WR-CALDESC:Events for New Jersey Alliance for Clinical and Translational Science
REFRESH-INTERVAL;VALUE=DURATION:PT1H
X-Robots-Tag:noindex
X-PUBLISHED-TTL:PT1H
BEGIN:VTIMEZONE
TZID:UTC
BEGIN:STANDARD
TZOFFSETFROM:+0000
TZOFFSETTO:+0000
TZNAME:UTC
DTSTART:20210101T000000
END:STANDARD
END:VTIMEZONE
BEGIN:VEVENT
DTSTART;TZID=UTC:20220914T100000
DTEND;TZID=UTC:20220914T110000
DTSTAMP:20260424T040855
CREATED:20220912T182953Z
LAST-MODIFIED:20220912T182953Z
UID:31234-1663149600-1663153200@clinicaltrials.rbhs.rutgers.edu
SUMMARY:Rutgers Princeton Center for Computational Cognitive Neuropsychiatry Seminar
DESCRIPTION:Rutgers Princeton Center for Computational Cognitive Neuropsychiatry Seminar-Quantifying the dynamics of working memory in people with schizophrenia\, Caroline Jahn\, Princeton University.
URL:https://clinicaltrials.rbhs.rutgers.edu/event/rutgers-princeton-center-for-computational-cognitive-neuropsychiatry-seminar-48/
END:VEVENT
BEGIN:VEVENT
DTSTART;TZID=UTC:20220914T160000
DTEND;TZID=UTC:20220914T170000
DTSTAMP:20260424T040855
CREATED:20220912T172008Z
LAST-MODIFIED:20220912T172344Z
UID:31220-1663171200-1663174800@clinicaltrials.rbhs.rutgers.edu
SUMMARY:CINJ Grand Rounds
DESCRIPTION:CINJ Grand Rounds-Replication-Coupled Repair: From Gap Suppression to Immune Evasion\, Alberto Ciccia\, PhD | Columbia University. Medical Education Building\, Room 102.
URL:https://clinicaltrials.rbhs.rutgers.edu/event/cinj-grand-rounds-29/
LOCATION:Medical Education Building\, Lecture Hall 102\, 1 Robert Wood Johnson Place\, New Brunswick\, NJ\, 08901\, United States
END:VEVENT
END:VCALENDAR