BEGIN:VCALENDAR
VERSION:2.0
PRODID:-//New Jersey Alliance for Clinical and Translational Science - ECPv6.15.14//NONSGML v1.0//EN
CALSCALE:GREGORIAN
METHOD:PUBLISH
X-WR-CALNAME:New Jersey Alliance for Clinical and Translational Science
X-ORIGINAL-URL:https://clinicaltrials.rbhs.rutgers.edu
X-WR-CALDESC:Events for New Jersey Alliance for Clinical and Translational Science
REFRESH-INTERVAL;VALUE=DURATION:PT1H
X-Robots-Tag:noindex
X-PUBLISHED-TTL:PT1H
BEGIN:VTIMEZONE
TZID:UTC
BEGIN:STANDARD
TZOFFSETFROM:+0000
TZOFFSETTO:+0000
TZNAME:UTC
DTSTART:20210101T000000
END:STANDARD
END:VTIMEZONE
BEGIN:VEVENT
DTSTART;TZID=UTC:20220913T120000
DTEND;TZID=UTC:20220913T130000
DTSTAMP:20260422T001918
CREATED:20220616T171103Z
LAST-MODIFIED:20220831T213527Z
UID:30043-1663070400-1663074000@clinicaltrials.rbhs.rutgers.edu
SUMMARY:NJ ACTS Special Populations Core Webinar
DESCRIPTION:NJ ACTS Special Populations Core Webinar-Geographic access to medical cannabis dispensaries\, cannabis use\, and mental health\, Coleman Drake\, PhD\, University of Pittsburgh’s School of Public Health. View Flyer and Join via Zoom.
URL:https://clinicaltrials.rbhs.rutgers.edu/event/nj-acts-special-populations-core-webinar/
CATEGORIES:Save the Date
END:VEVENT
END:VCALENDAR