BEGIN:VCALENDAR
VERSION:2.0
PRODID:-//New Jersey Alliance for Clinical and Translational Science - ECPv6.15.14//NONSGML v1.0//EN
CALSCALE:GREGORIAN
METHOD:PUBLISH
X-WR-CALNAME:New Jersey Alliance for Clinical and Translational Science
X-ORIGINAL-URL:https://clinicaltrials.rbhs.rutgers.edu
X-WR-CALDESC:Events for New Jersey Alliance for Clinical and Translational Science
REFRESH-INTERVAL;VALUE=DURATION:PT1H
X-Robots-Tag:noindex
X-PUBLISHED-TTL:PT1H
BEGIN:VTIMEZONE
TZID:UTC
BEGIN:STANDARD
TZOFFSETFROM:+0000
TZOFFSETTO:+0000
TZNAME:UTC
DTSTART:20210101T000000
END:STANDARD
END:VTIMEZONE
BEGIN:VEVENT
DTSTART;TZID=UTC:20220908T180000
DTEND;TZID=UTC:20220908T190000
DTSTAMP:20260420T104159
CREATED:20220829T175533Z
LAST-MODIFIED:20220829T175533Z
UID:30932-1662660000-1662663600@clinicaltrials.rbhs.rutgers.edu
SUMMARY:Rutgers New Jersey Medical School Research With A Heart Community Engagement Series\, OFFLINE
DESCRIPTION:Rutgers New Jersey Medical School Research With A Heart Community Engagement Series\, OFFLINE–Monkey Pox Edition featuring Rutgers own Debra Chew\, MD\, MPH.  Register Here and Join via Zoom!
URL:https://clinicaltrials.rbhs.rutgers.edu/event/rutgers-new-jersey-medical-school-research-with-a-heart-community-engagement-series-offline/
END:VEVENT
END:VCALENDAR