BEGIN:VCALENDAR
VERSION:2.0
PRODID:-//New Jersey Alliance for Clinical and Translational Science - ECPv6.15.14//NONSGML v1.0//EN
CALSCALE:GREGORIAN
METHOD:PUBLISH
X-ORIGINAL-URL:https://clinicaltrials.rbhs.rutgers.edu
X-WR-CALDESC:Events for New Jersey Alliance for Clinical and Translational Science
REFRESH-INTERVAL;VALUE=DURATION:PT1H
X-Robots-Tag:noindex
X-PUBLISHED-TTL:PT1H
BEGIN:VTIMEZONE
TZID:UTC
BEGIN:STANDARD
TZOFFSETFROM:+0000
TZOFFSETTO:+0000
TZNAME:UTC
DTSTART:20210101T000000
END:STANDARD
END:VTIMEZONE
BEGIN:VEVENT
DTSTART;TZID=UTC:20220830T090000
DTEND;TZID=UTC:20220830T130000
DTSTAMP:20260424T075744
CREATED:20220714T213204Z
LAST-MODIFIED:20220714T213204Z
UID:30527-1661850000-1661864400@clinicaltrials.rbhs.rutgers.edu
SUMMARY:Rutgers Global Health Event - COVID-19 Testing and Vaccination Clinics
DESCRIPTION:Rutgers Global Health Event – COVID-19 Testing and Vaccination Clinics: Rutgers Global Health Institute is collaborating with partner organizations to hold COVID-19 testing and vaccination clinics on Tuesdays in August at New Brunswick Performing Arts Center. Read more.
URL:https://clinicaltrials.rbhs.rutgers.edu/event/rutgers-global-health-event-covid-19-testing-and-vaccination-clinics-5/
LOCATION:New Brunswick Performing Arts Center (NBPAC)\, 11 Livingston Ave\, New Brunswick\, NJ\, 08901\, United States
END:VEVENT
BEGIN:VEVENT
DTSTART;TZID=UTC:20220830T180000
DTEND;TZID=UTC:20220830T193000
DTSTAMP:20260424T075744
CREATED:20220829T181434Z
LAST-MODIFIED:20220922T213742Z
UID:30940-1661882400-1661887800@clinicaltrials.rbhs.rutgers.edu
SUMMARY:NJ Wealth Disparity Task Force Listening Sessions
DESCRIPTION:NJ Wealth Disparity Task Force Listening Sessions-Virtual listening sessions where members of the public are invited to share personal remarks\, concerns\, or recommendations for the Task Force to consider –  Health.
URL:https://clinicaltrials.rbhs.rutgers.edu/event/nj-wealth-disparity-task-force-listening-sessions-3/
END:VEVENT
END:VCALENDAR