BEGIN:VCALENDAR
VERSION:2.0
PRODID:-//New Jersey Alliance for Clinical and Translational Science - ECPv6.15.14//NONSGML v1.0//EN
CALSCALE:GREGORIAN
METHOD:PUBLISH
X-WR-CALNAME:New Jersey Alliance for Clinical and Translational Science
X-ORIGINAL-URL:https://clinicaltrials.rbhs.rutgers.edu
X-WR-CALDESC:Events for New Jersey Alliance for Clinical and Translational Science
REFRESH-INTERVAL;VALUE=DURATION:PT1H
X-Robots-Tag:noindex
X-PUBLISHED-TTL:PT1H
BEGIN:VTIMEZONE
TZID:UTC
BEGIN:STANDARD
TZOFFSETFROM:+0000
TZOFFSETTO:+0000
TZNAME:UTC
DTSTART:20210101T000000
END:STANDARD
END:VTIMEZONE
BEGIN:VEVENT
DTSTART;TZID=UTC:20220816T090000
DTEND;TZID=UTC:20220816T130000
DTSTAMP:20260420T080348
CREATED:20220714T212832Z
LAST-MODIFIED:20220714T212832Z
UID:30523-1660640400-1660654800@clinicaltrials.rbhs.rutgers.edu
SUMMARY:Rutgers Global Health Event - COVID-19 Testing and Vaccination Clinics
DESCRIPTION:Rutgers Global Health Event – COVID-19 Testing and Vaccination Clinics: Rutgers Global Health Institute is collaborating with partner organizations to hold COVID-19 testing and vaccination clinics on Tuesdays in August at New Brunswick Performing Arts Center. Read more.
URL:https://clinicaltrials.rbhs.rutgers.edu/event/rutgers-global-health-event-covid-19-testing-and-vaccination-clinics-3/
LOCATION:New Brunswick Performing Arts Center (NBPAC)\, 11 Livingston Ave\, New Brunswick\, NJ\, 08901\, United States
END:VEVENT
BEGIN:VEVENT
DTSTART;TZID=UTC:20220816T100000
DTEND;TZID=UTC:20220816T110000
DTSTAMP:20260420T080348
CREATED:20220815T174005Z
LAST-MODIFIED:20220815T174005Z
UID:30772-1660644000-1660647600@clinicaltrials.rbhs.rutgers.edu
SUMMARY:Children's Health Institute Postdoc Candidate Seminar
DESCRIPTION:Children’s Health Institute Postdoc Candidate Seminar-Interoception within the Lateral Parabrachial Nucleus\, Seahyung Park\, PhD Postdoctoral Fellow Korea Institute of Science and Technology (KAIST) Daejeon\, South Korea. View Flyer and Join via Zoom.
URL:https://clinicaltrials.rbhs.rutgers.edu/event/childrens-health-institute-postdoc-candidate-seminar/
END:VEVENT
END:VCALENDAR