BEGIN:VCALENDAR
VERSION:2.0
PRODID:-//New Jersey Alliance for Clinical and Translational Science - ECPv6.15.14//NONSGML v1.0//EN
CALSCALE:GREGORIAN
METHOD:PUBLISH
X-WR-CALNAME:New Jersey Alliance for Clinical and Translational Science
X-ORIGINAL-URL:https://clinicaltrials.rbhs.rutgers.edu
X-WR-CALDESC:Events for New Jersey Alliance for Clinical and Translational Science
REFRESH-INTERVAL;VALUE=DURATION:PT1H
X-Robots-Tag:noindex
X-PUBLISHED-TTL:PT1H
BEGIN:VTIMEZONE
TZID:UTC
BEGIN:STANDARD
TZOFFSETFROM:+0000
TZOFFSETTO:+0000
TZNAME:UTC
DTSTART:20210101T000000
END:STANDARD
END:VTIMEZONE
BEGIN:VEVENT
DTSTART;TZID=UTC:20220616T090000
DTEND;TZID=UTC:20220616T170000
DTSTAMP:20260420T061021
CREATED:20220309T203645Z
LAST-MODIFIED:20220309T203645Z
UID:28102-1655370000-1655398800@clinicaltrials.rbhs.rutgers.edu
SUMMARY:Regeneron Science to Medicine Forum
DESCRIPTION:Regeneron Science to Medicine Forum-A regional biomedical conference to encourage cross-fertilization and interaction between graduate students and postdoctoral fellows doing great science across the New York Metro Area. Registration Coming Soon\, deadline to register June 1st.  Abstract Submission deadline April 8th.
URL:https://clinicaltrials.rbhs.rutgers.edu/event/regeneron-science-to-medicine-forum/
END:VEVENT
END:VCALENDAR