BEGIN:VCALENDAR
VERSION:2.0
PRODID:-//New Jersey Alliance for Clinical and Translational Science - ECPv6.15.14//NONSGML v1.0//EN
CALSCALE:GREGORIAN
METHOD:PUBLISH
X-WR-CALNAME:New Jersey Alliance for Clinical and Translational Science
X-ORIGINAL-URL:https://clinicaltrials.rbhs.rutgers.edu
X-WR-CALDESC:Events for New Jersey Alliance for Clinical and Translational Science
REFRESH-INTERVAL;VALUE=DURATION:PT1H
X-Robots-Tag:noindex
X-PUBLISHED-TTL:PT1H
BEGIN:VTIMEZONE
TZID:UTC
BEGIN:STANDARD
TZOFFSETFROM:+0000
TZOFFSETTO:+0000
TZNAME:UTC
DTSTART:20210101T000000
END:STANDARD
END:VTIMEZONE
BEGIN:VEVENT
DTSTART;TZID=UTC:20220601T110000
DTEND;TZID=UTC:20220601T120000
DTSTAMP:20260420T052926
CREATED:20220519T205646Z
LAST-MODIFIED:20220519T205646Z
UID:29570-1654081200-1654084800@clinicaltrials.rbhs.rutgers.edu
SUMMARY:CINJ Recruitment Lecture
DESCRIPTION:CINJ Recruitment Lecture-Regulating Immune Responses Through Cancer Genetics\, Cellular Metabolism\, and Diet\, Dr. Julianna Blagih\, Francis Crick Institute. Join via Zoom.
URL:https://clinicaltrials.rbhs.rutgers.edu/event/cinj-recruitment-lecture-22/
END:VEVENT
BEGIN:VEVENT
DTSTART;TZID=UTC:20220601T120000
DTEND;TZID=UTC:20220601T130000
DTSTAMP:20260420T052926
CREATED:20220503T182801Z
LAST-MODIFIED:20220503T182801Z
UID:29246-1654084800-1654088400@clinicaltrials.rbhs.rutgers.edu
SUMMARY:RBHS Office of Diversity and Inclusion's Inaugural Equity Talks: Duality in the Workplace
DESCRIPTION:RBHS Office of Diversity and Inclusion’s Inaugural Equity Talks: Duality in the Workplace featuring Dr. Patricia O’Brien-Richardson on June 1\, 2022 12pm-1pm. Register to attend. \n 
URL:https://clinicaltrials.rbhs.rutgers.edu/event/rbhs-office-of-diversity-and-inclusions-inaugural-equity-talks-duality-in-the-workplace/
END:VEVENT
BEGIN:VEVENT
DTSTART;TZID=UTC:20220601T140000
DTEND;TZID=UTC:20220601T160000
DTSTAMP:20260420T052926
CREATED:20220425T173608Z
LAST-MODIFIED:20220425T173608Z
UID:29106-1654092000-1654099200@clinicaltrials.rbhs.rutgers.edu
SUMMARY:Integrated Population Health Data (iPHD) Research Consortium
DESCRIPTION:Integrated Population Health Data (iPHD) Research Consortium-Rutgers Center for State Health Policy is hosting this virtual event. Join us to learn about the NJ Integrated Population Health Data (iPHD) Project\, including our research priorities\, data resources\, and the availability of pilot funding for New Jersey based researchers. View Flyer and Register Here!
URL:https://clinicaltrials.rbhs.rutgers.edu/event/integrated-population-health-data-iphd-research-consortium/
END:VEVENT
END:VCALENDAR