BEGIN:VCALENDAR
VERSION:2.0
PRODID:-//New Jersey Alliance for Clinical and Translational Science - ECPv6.15.14//NONSGML v1.0//EN
CALSCALE:GREGORIAN
METHOD:PUBLISH
X-WR-CALNAME:New Jersey Alliance for Clinical and Translational Science
X-ORIGINAL-URL:https://clinicaltrials.rbhs.rutgers.edu
X-WR-CALDESC:Events for New Jersey Alliance for Clinical and Translational Science
REFRESH-INTERVAL;VALUE=DURATION:PT1H
X-Robots-Tag:noindex
X-PUBLISHED-TTL:PT1H
BEGIN:VTIMEZONE
TZID:UTC
BEGIN:STANDARD
TZOFFSETFROM:+0000
TZOFFSETTO:+0000
TZNAME:UTC
DTSTART:20210101T000000
END:STANDARD
END:VTIMEZONE
BEGIN:VEVENT
DTSTART;TZID=UTC:20220428T110000
DTEND;TZID=UTC:20220428T120000
DTSTAMP:20260420T212953
CREATED:20220406T172805Z
LAST-MODIFIED:20220406T172805Z
UID:28694-1651143600-1651147200@clinicaltrials.rbhs.rutgers.edu
SUMMARY:CTSA Visiting Scholar Program
DESCRIPTION:CTSA Visiting Scholar Program-Kevin Alexander\, MD\, FACC\, FHFSA from Stanford University\, hosted by the Medical University of South Carolina will present molecular profiling for transthyretin cardiac amyloidosis.  Register Here!
URL:https://clinicaltrials.rbhs.rutgers.edu/event/ctsa-visiting-scholar-program-8/
END:VEVENT
BEGIN:VEVENT
DTSTART;TZID=UTC:20220428T110000
DTEND;TZID=UTC:20220428T120000
DTSTAMP:20260420T212953
CREATED:20220425T224012Z
LAST-MODIFIED:20220425T224012Z
UID:29119-1651143600-1651147200@clinicaltrials.rbhs.rutgers.edu
SUMMARY:RWJMS Visiting Candidate Jeff R. Avner\, MD "Developing Critical Thinkers: Are We Doing It?"
DESCRIPTION:RWJMS Visiting Candidate Jeff R. Avner\, MD “Developing Critical Thinkers: Are We Doing It?” \nJoin Zoom Meeting: https://rutgers.zoom.us/j/95513878233?pwd=SGxhY2dXaXBoNzBlM2hZZXJSY3QwZz09 \nJoin By Phone: 646-558-8656 \nMeeting ID: 955 1387 8233/Password: 742341
URL:https://clinicaltrials.rbhs.rutgers.edu/event/rwjms-visiting-candidate-jeff-r-avner-md-developing-critical-thinkers-are-we-doing-it/
LOCATION:Clinical Academic Building  Room 7319\, 125 Paterson St\, New Brunswick\, NJ\, 08901\, United States
END:VEVENT
BEGIN:VEVENT
DTSTART;TZID=UTC:20220428T113000
DTEND;TZID=UTC:20220428T130000
DTSTAMP:20260420T212953
CREATED:20220425T224854Z
LAST-MODIFIED:20220425T224854Z
UID:29122-1651145400-1651150800@clinicaltrials.rbhs.rutgers.edu
SUMMARY:Bloustein School\, ACHE-NJ First Annual Spring Symposium "COVID-19 and Healthcare Resilience: Past\, Present\, and Future"
DESCRIPTION:The Bloustein School’s Master of Health Administration Program\, in partnership with the American College of Healthcare Executives\, NJ Chapter (ACHENJ)\, is hosting it’s  First Annual Spring Symposium to suggest policy recommendations to help prevent future crises and to address—especially in behavioral health—the long-term impact of COVID on the population\, including the intersection of suicide and substance abuse that has spiked during this time frame. \nThis event will be presented in-person and live-streamed.\nRegister at  https://go.rutgers.edu/mha22register\nThe event will begin at 11:30 a.m. at the Cook Campus Center | 59 Biel Road\, New Brunswick\, NJ on the campus of Rutgers University.\nTotal of 4.5 ACHE credits available for in-person registration only.
URL:https://clinicaltrials.rbhs.rutgers.edu/event/bloustein-school-ache-nj-first-annual-spring-symposium-covid-19-and-healthcare-resilience-past-present-and-future/
LOCATION:Cook Campus Center\, 59 Biel Road\, New Brunswick\, NJ\, 08901\, United States
END:VEVENT
BEGIN:VEVENT
DTSTART;TZID=UTC:20220428T130000
DTEND;TZID=UTC:20220428T160000
DTSTAMP:20260420T212953
CREATED:20220307T191535Z
LAST-MODIFIED:20220307T191535Z
UID:28036-1651150800-1651161600@clinicaltrials.rbhs.rutgers.edu
SUMMARY:Inaugural Joseph R. Bertino Memorial Lecture
DESCRIPTION:Inaugural Joseph R. Bertino Memorial Lecture-This inaugural event will celebrate the life of Dr. Joseph R. Bertino\, former Interim Director and Chief Scientific Officer of Rutgers Cancer Institute of New Jersey\, and examine clinical\, laboratory and translational research in the areas of cancer and hematologic disorders.  View Flyer
URL:https://clinicaltrials.rbhs.rutgers.edu/event/inaugural-joseph-r-bertino-memorial-lecture/
END:VEVENT
END:VCALENDAR