BEGIN:VCALENDAR
VERSION:2.0
PRODID:-//New Jersey Alliance for Clinical and Translational Science - ECPv6.15.14//NONSGML v1.0//EN
CALSCALE:GREGORIAN
METHOD:PUBLISH
X-WR-CALNAME:New Jersey Alliance for Clinical and Translational Science
X-ORIGINAL-URL:https://clinicaltrials.rbhs.rutgers.edu
X-WR-CALDESC:Events for New Jersey Alliance for Clinical and Translational Science
REFRESH-INTERVAL;VALUE=DURATION:PT1H
X-Robots-Tag:noindex
X-PUBLISHED-TTL:PT1H
BEGIN:VTIMEZONE
TZID:UTC
BEGIN:STANDARD
TZOFFSETFROM:+0000
TZOFFSETTO:+0000
TZNAME:UTC
DTSTART:20210101T000000
END:STANDARD
END:VTIMEZONE
BEGIN:VEVENT
DTSTART;TZID=UTC:20220404T130000
DTEND;TZID=UTC:20220404T140000
DTSTAMP:20260420T234453
CREATED:20220317T215436Z
LAST-MODIFIED:20220331T003000Z
UID:28322-1649077200-1649080800@clinicaltrials.rbhs.rutgers.edu
SUMMARY:CHI Science Seminar Series 2022 "Sublethal Mitochnodrial Dysfunction and White Matter Injury in Premature Infants"
DESCRIPTION:CHI Science Seminar Series 2022 – “Sublethal Mitochondrial Dysfunction and White Matter Injury in Premature Infants”\n \nInvited Speaker \nVadim S. Ten MD\, PhD\nProfessor of Pediatrics\nDirector\, Division of Neonatalogy\nRutgers/Robert Wood Johnson Medical School\nBristol-Myers Squibb Children’s Hospital\, RWJMS \nJoin ZOOM Meeting!
URL:https://clinicaltrials.rbhs.rutgers.edu/event/child-health-institute-of-nj-science-seminar-series-2022-3/
END:VEVENT
BEGIN:VEVENT
DTSTART;TZID=UTC:20220404T130000
DTEND;TZID=UTC:20220404T160000
DTSTAMP:20260420T234454
CREATED:20220314T175907Z
LAST-MODIFIED:20220314T175907Z
UID:28229-1649077200-1649088000@clinicaltrials.rbhs.rutgers.edu
SUMMARY:Rutgers School of Public Health 27th Annual Public Health Symposium
DESCRIPTION:Rutgers School of Public Health 27th Annual Public Health Symposium-This symposium will focus on creative ways that the principles of communications and marketing have been employed in the service of public health and are being used to counter misinformation and distrust in science. View Flyer and Register Here!
URL:https://clinicaltrials.rbhs.rutgers.edu/event/rutgers-school-of-public-health-27th-annual-public-health-symposium/
END:VEVENT
BEGIN:VEVENT
DTSTART;TZID=UTC:20220404T140000
DTEND;TZID=UTC:20220404T150000
DTSTAMP:20260420T234454
CREATED:20211101T202635Z
LAST-MODIFIED:20211101T202727Z
UID:25655-1649080800-1649084400@clinicaltrials.rbhs.rutgers.edu
SUMMARY:CINJ - Cancer Health Equity Center of Excellence Distinguished Lecturer Series: Scarlett Lin Gomez\, MPH\, PhD
DESCRIPTION:CINJ – Cancer Health Equity Center of Excellence Distinguished Lecturer Series: \nInvited Speaker: Scarlett Lin Gomez\, MPH\, PhD\, Professor\, Department of Epidemiology and Biostatistics Helen Diller Family Comprehensive Cancer Center; Director\, Greater Bay Area Cancer Registry (GBACR) University of California\, San Francisco \nREGISTER HERE
URL:https://clinicaltrials.rbhs.rutgers.edu/event/cinj-cancer-health-equity-center-of-excellence-distinguished-lecturer-series-scarlett-lin-gomez-mph-phd/
END:VEVENT
END:VCALENDAR