BEGIN:VCALENDAR
VERSION:2.0
PRODID:-//New Jersey Alliance for Clinical and Translational Science - ECPv6.15.14//NONSGML v1.0//EN
CALSCALE:GREGORIAN
METHOD:PUBLISH
X-WR-CALNAME:New Jersey Alliance for Clinical and Translational Science
X-ORIGINAL-URL:https://clinicaltrials.rbhs.rutgers.edu
X-WR-CALDESC:Events for New Jersey Alliance for Clinical and Translational Science
REFRESH-INTERVAL;VALUE=DURATION:PT1H
X-Robots-Tag:noindex
X-PUBLISHED-TTL:PT1H
BEGIN:VTIMEZONE
TZID:UTC
BEGIN:STANDARD
TZOFFSETFROM:+0000
TZOFFSETTO:+0000
TZNAME:UTC
DTSTART:20210101T000000
END:STANDARD
END:VTIMEZONE
BEGIN:VEVENT
DTSTART;TZID=UTC:20220325T120000
DTEND;TZID=UTC:20220325T130000
DTSTAMP:20260424T064955
CREATED:20220217T214418Z
LAST-MODIFIED:20220217T214418Z
UID:27699-1648209600-1648213200@clinicaltrials.rbhs.rutgers.edu
SUMMARY:CINJ Trainee Seminar Series
DESCRIPTION:CINJ Trainee Seminar Series- Register Here!
URL:https://clinicaltrials.rbhs.rutgers.edu/event/cinj-trainee-seminar-series-38/
END:VEVENT
BEGIN:VEVENT
DTSTART;TZID=UTC:20220325T120000
DTEND;TZID=UTC:20220325T133000
DTSTAMP:20260424T064955
CREATED:20220317T202240Z
LAST-MODIFIED:20220317T202240Z
UID:28294-1648209600-1648215000@clinicaltrials.rbhs.rutgers.edu
SUMMARY:Global Health at Princeton Health Colloquium
DESCRIPTION:Global Health at Princeton Health Colloquium-COVID-19 Vaccine Policy-Making—Evidence\, Values\, and Expert Advice\, Jason Schwartz\, Yale University. Read More and Register Here!
URL:https://clinicaltrials.rbhs.rutgers.edu/event/global-health-at-princeton-health-colloquium/
END:VEVENT
END:VCALENDAR