BEGIN:VCALENDAR
VERSION:2.0
PRODID:-//New Jersey Alliance for Clinical and Translational Science - ECPv6.15.14//NONSGML v1.0//EN
CALSCALE:GREGORIAN
METHOD:PUBLISH
X-ORIGINAL-URL:https://clinicaltrials.rbhs.rutgers.edu
X-WR-CALDESC:Events for New Jersey Alliance for Clinical and Translational Science
REFRESH-INTERVAL;VALUE=DURATION:PT1H
X-Robots-Tag:noindex
X-PUBLISHED-TTL:PT1H
BEGIN:VTIMEZONE
TZID:UTC
BEGIN:STANDARD
TZOFFSETFROM:+0000
TZOFFSETTO:+0000
TZNAME:UTC
DTSTART:20210101T000000
END:STANDARD
END:VTIMEZONE
BEGIN:VEVENT
DTSTART;TZID=UTC:20220308T080000
DTEND;TZID=UTC:20220308T090000
DTSTAMP:20260424T222354
CREATED:20220307T191940Z
LAST-MODIFIED:20220307T191940Z
UID:28039-1646726400-1646730000@clinicaltrials.rbhs.rutgers.edu
SUMMARY:Rutgers Project ECHO Maternal Health Innovation Session
DESCRIPTION:Rutgers Project ECHO Maternal Health Innovation Session-Implicit Bias Training for Providers\,Maria Soto-Greene\, Rutgers New Jersey Medical School and James Hill\, Rutgers New Jersey Medical School. Register Here!
URL:https://clinicaltrials.rbhs.rutgers.edu/event/rutgers-project-echo-maternal-health-innovation-session/
END:VEVENT
BEGIN:VEVENT
DTSTART;TZID=UTC:20220308T120000
DTEND;TZID=UTC:20220308T130000
DTSTAMP:20260424T222354
CREATED:20220307T192242Z
LAST-MODIFIED:20220307T192242Z
UID:28041-1646740800-1646744400@clinicaltrials.rbhs.rutgers.edu
SUMMARY:CINJ Recruitment Lecture
DESCRIPTION:CINJ Recruitment Lecture-Integrative Studies of Genomic and Epidemiological Factors in Breast and Ovarian Cancers\,Clara Bodelon\, Division of Cancer Epidemiology and Genetics\, NCI.  Join via Webex.
URL:https://clinicaltrials.rbhs.rutgers.edu/event/cinj-recruitment-lecture-18/
END:VEVENT
BEGIN:VEVENT
DTSTART;TZID=UTC:20220308T130000
DTEND;TZID=UTC:20220308T140000
DTSTAMP:20260424T222354
CREATED:20220214T192000Z
LAST-MODIFIED:20220214T201856Z
UID:27569-1646744400-1646748000@clinicaltrials.rbhs.rutgers.edu
SUMMARY:NJ ACTS Special Populations Core 2022 Seminar Series: "Engaging Underserved Communities in Clinical Trials"
DESCRIPTION:NJ ACTS Special Populations Core 2022 Seminar Series: “Engaging Underserved Communities in Clinical Trials” – Join ZOOM here!\nThis seminar provides an overview of the HIV and COVID-19 Clinical Trials conducted at Rutgers New Jersey Medical School Research With a Heart. Content provided includes the importance of strategic engagement and their learned successes and challenges during the pandemic. \nPresented By \nShobha Swaminathan\, MD\nAssociate Professor\, Division of Infectious Diseases\, Clinical Research Site Leader \nChristie Lyn Costanza\, MPH\, BSN\, RN\nAssociate Director\, Clinical Research Operations \nJamir Tuten\, BA\nCommunity Engagement Coordinator \n 
URL:https://clinicaltrials.rbhs.rutgers.edu/event/nj-acts-special-populations-core-2022-seminar-series-engaging-underserved-communities-in-clinical-trials/
END:VEVENT
END:VCALENDAR